BEGIN:VCALENDAR
VERSION:2.0
PRODID:-//McMan Youth, Family and Community Services Association - ECPv6.15.20//NONSGML v1.0//EN
CALSCALE:GREGORIAN
METHOD:PUBLISH
X-WR-CALNAME:McMan Youth, Family and Community Services Association
X-ORIGINAL-URL:https://mcmancalgary.ca
X-WR-CALDESC:Events for McMan Youth, Family and Community Services Association
REFRESH-INTERVAL;VALUE=DURATION:PT1H
X-Robots-Tag:noindex
X-PUBLISHED-TTL:PT1H
BEGIN:VTIMEZONE
TZID:America/Edmonton
BEGIN:DAYLIGHT
TZOFFSETFROM:-0700
TZOFFSETTO:-0600
TZNAME:MDT
DTSTART:20230312T090000
END:DAYLIGHT
BEGIN:STANDARD
TZOFFSETFROM:-0600
TZOFFSETTO:-0700
TZNAME:MST
DTSTART:20231105T080000
END:STANDARD
BEGIN:DAYLIGHT
TZOFFSETFROM:-0700
TZOFFSETTO:-0600
TZNAME:MDT
DTSTART:20240310T090000
END:DAYLIGHT
BEGIN:STANDARD
TZOFFSETFROM:-0600
TZOFFSETTO:-0700
TZNAME:MST
DTSTART:20241103T080000
END:STANDARD
BEGIN:DAYLIGHT
TZOFFSETFROM:-0700
TZOFFSETTO:-0600
TZNAME:MDT
DTSTART:20250309T090000
END:DAYLIGHT
BEGIN:STANDARD
TZOFFSETFROM:-0600
TZOFFSETTO:-0700
TZNAME:MST
DTSTART:20251102T080000
END:STANDARD
END:VTIMEZONE
BEGIN:VEVENT
DTSTART;TZID=America/Edmonton:20240216T130000
DTEND;TZID=America/Edmonton:20240216T150000
DTSTAMP:20260421T194538
CREATED:20240201T183018Z
LAST-MODIFIED:20240227T212418Z
UID:10000039-1708088400-1708095600@mcmancalgary.ca
SUMMARY:Grand Connections - February 16th
DESCRIPTION:Whether you watch your grandchildren a couple times a month or raising them\, this gathering is for all grandparents who are providing care for their grandchildren in some way. We will meet other grandparents\, share experiences\, gain connections and learn how essential their role is for their grandchildren. \nThis course will be held on February 16th from 1:00 PM to 3:00 PM \nFor additional information about Grand Connections\, please get in touch with Annika at annika.johansson@mcmancalgary.ca
URL:https://mcmancalgary.ca/events/grand-march-911-737/
LOCATION:Okotoks Office\, 22 Crystal Ridge Drive\, Okotoks\, Alberta\, T1S 2C3\, Canada
CATEGORIES:Okotoks FRN Parent / Caregiver
ORGANIZER;CN="McMan Okotoks":MAILTO:okotoksfrn@mcmancalgary.ca
GEO:50.72885;-113.98281
X-APPLE-STRUCTURED-LOCATION;VALUE=URI;X-ADDRESS=Okotoks Office 22 Crystal Ridge Drive Okotoks Alberta T1S 2C3 Canada;X-APPLE-RADIUS=500;X-TITLE=22 Crystal Ridge Drive:geo:-113.98281,50.72885
END:VEVENT
BEGIN:VEVENT
DTSTART;TZID=America/Edmonton:20240216T173000
DTEND;TZID=America/Edmonton:20240216T210000
DTSTAMP:20260421T194538
CREATED:20240201T215015Z
LAST-MODIFIED:20240221T155828Z
UID:10000046-1708104600-1708117200@mcmancalgary.ca
SUMMARY:Free For All Fridays - February 2nd\, 9th\, 16th
DESCRIPTION:Drop in for our FREE playgroup with your children up to four years old. Snacks and beverages will be provided. \nThis course will be held on February 2\, 9\, 16 from 10:00 AM to 11:00 AM \nFor additional information about \, please get in touch with Annika at annika.johansson@mcmancalgary.ca
URL:https://mcmancalgary.ca/events/grand-march-911-737-571-287/2024-02-16/
LOCATION:Okotoks Office\, 22 Crystal Ridge Drive\, Okotoks\, Alberta\, T1S 2C3\, Canada
CATEGORIES:Okotoks FRN Parent / Caregiver
ORGANIZER;CN="McMan Okotoks":MAILTO:okotoksfrn@mcmancalgary.ca
GEO:50.72885;-113.98281
X-APPLE-STRUCTURED-LOCATION;VALUE=URI;X-ADDRESS=Okotoks Office 22 Crystal Ridge Drive Okotoks Alberta T1S 2C3 Canada;X-APPLE-RADIUS=500;X-TITLE=22 Crystal Ridge Drive:geo:-113.98281,50.72885
END:VEVENT
END:VCALENDAR