BEGIN:VCALENDAR
VERSION:2.0
PRODID:-//McMan Youth, Family and Community Services Association - ECPv6.15.20//NONSGML v1.0//EN
CALSCALE:GREGORIAN
METHOD:PUBLISH
X-ORIGINAL-URL:https://mcmancalgary.ca
X-WR-CALDESC:Events for McMan Youth, Family and Community Services Association
REFRESH-INTERVAL;VALUE=DURATION:PT1H
X-Robots-Tag:noindex
X-PUBLISHED-TTL:PT1H
BEGIN:VTIMEZONE
TZID:America/Edmonton
BEGIN:DAYLIGHT
TZOFFSETFROM:-0700
TZOFFSETTO:-0600
TZNAME:MDT
DTSTART:20230312T090000
END:DAYLIGHT
BEGIN:STANDARD
TZOFFSETFROM:-0600
TZOFFSETTO:-0700
TZNAME:MST
DTSTART:20231105T080000
END:STANDARD
BEGIN:DAYLIGHT
TZOFFSETFROM:-0700
TZOFFSETTO:-0600
TZNAME:MDT
DTSTART:20240310T090000
END:DAYLIGHT
BEGIN:STANDARD
TZOFFSETFROM:-0600
TZOFFSETTO:-0700
TZNAME:MST
DTSTART:20241103T080000
END:STANDARD
BEGIN:DAYLIGHT
TZOFFSETFROM:-0700
TZOFFSETTO:-0600
TZNAME:MDT
DTSTART:20250309T090000
END:DAYLIGHT
BEGIN:STANDARD
TZOFFSETFROM:-0600
TZOFFSETTO:-0700
TZNAME:MST
DTSTART:20251102T080000
END:STANDARD
END:VTIMEZONE
BEGIN:VEVENT
DTSTART;TZID=America/Edmonton:20240220T173000
DTEND;TZID=America/Edmonton:20240220T210000
DTSTAMP:20260420T170629
CREATED:20240201T214133Z
LAST-MODIFIED:20240205T201106Z
UID:10000043-1708450200-1708462800@mcmancalgary.ca
SUMMARY:Mom's Night at the FRN - February 20th
DESCRIPTION:Calling all moms and female caregivers to join us for a night of fun\, laughs and discovery. This is the first of four evenings to celebrate the special women who do so much to strengthen and encourage the young people of our community. Registration will close on February 16 or when capacity is reached. \nThis course will be held on February 20th from 5:30 PM to 9:00 PM \nFor additional information about Mom’s Night\, please get in touch with Annika at annika.johansson@mcmancalgary.ca
URL:https://mcmancalgary.ca/events/grand-march-911-737-571/
LOCATION:Okotoks Office\, 22 Crystal Ridge Drive\, Okotoks\, Alberta\, T1S 2C3\, Canada
CATEGORIES:Okotoks FRN Parent / Caregiver
ORGANIZER;CN="McMan Okotoks":MAILTO:okotoksfrn@mcmancalgary.ca
GEO:50.72885;-113.98281
X-APPLE-STRUCTURED-LOCATION;VALUE=URI;X-ADDRESS=Okotoks Office 22 Crystal Ridge Drive Okotoks Alberta T1S 2C3 Canada;X-APPLE-RADIUS=500;X-TITLE=22 Crystal Ridge Drive:geo:-113.98281,50.72885
END:VEVENT
END:VCALENDAR