BEGIN:VCALENDAR
VERSION:2.0
PRODID:-//McMan Youth, Family and Community Services Association - ECPv6.15.20//NONSGML v1.0//EN
CALSCALE:GREGORIAN
METHOD:PUBLISH
X-ORIGINAL-URL:https://mcmancalgary.ca
X-WR-CALDESC:Events for McMan Youth, Family and Community Services Association
REFRESH-INTERVAL;VALUE=DURATION:PT1H
X-Robots-Tag:noindex
X-PUBLISHED-TTL:PT1H
BEGIN:VTIMEZONE
TZID:America/Edmonton
BEGIN:DAYLIGHT
TZOFFSETFROM:-0700
TZOFFSETTO:-0600
TZNAME:MDT
DTSTART:20230312T090000
END:DAYLIGHT
BEGIN:STANDARD
TZOFFSETFROM:-0600
TZOFFSETTO:-0700
TZNAME:MST
DTSTART:20231105T080000
END:STANDARD
BEGIN:DAYLIGHT
TZOFFSETFROM:-0700
TZOFFSETTO:-0600
TZNAME:MDT
DTSTART:20240310T090000
END:DAYLIGHT
BEGIN:STANDARD
TZOFFSETFROM:-0600
TZOFFSETTO:-0700
TZNAME:MST
DTSTART:20241103T080000
END:STANDARD
BEGIN:DAYLIGHT
TZOFFSETFROM:-0700
TZOFFSETTO:-0600
TZNAME:MDT
DTSTART:20250309T090000
END:DAYLIGHT
BEGIN:STANDARD
TZOFFSETFROM:-0600
TZOFFSETTO:-0700
TZNAME:MST
DTSTART:20251102T080000
END:STANDARD
END:VTIMEZONE
BEGIN:VEVENT
DTSTART;TZID=America/Edmonton:20240223T173000
DTEND;TZID=America/Edmonton:20240223T210000
DTSTAMP:20260420T140437
CREATED:20240221T155555Z
LAST-MODIFIED:20240221T155555Z
UID:10000058-1708709400-1708722000@mcmancalgary.ca
SUMMARY:Free For All Fridays - February 23rd
DESCRIPTION:Drop in for our FREE playgroup with your children up to four years old. Snacks and beverages will be provided. \nThis course will be held on February 23 from 10:00 AM to 11:00 AM \nFor additional information about \, please get in touch with Annika at annika.johansson@mcmancalgary.ca
URL:https://mcmancalgary.ca/events/free-for-all-fridays-february-23rd/
LOCATION:Okotoks Office\, 22 Crystal Ridge Drive\, Okotoks\, Alberta\, T1S 2C3\, Canada
CATEGORIES:Okotoks FRN Parent / Caregiver
ORGANIZER;CN="McMan Okotoks":MAILTO:okotoksfrn@mcmancalgary.ca
GEO:50.72885;-113.98281
X-APPLE-STRUCTURED-LOCATION;VALUE=URI;X-ADDRESS=Okotoks Office 22 Crystal Ridge Drive Okotoks Alberta T1S 2C3 Canada;X-APPLE-RADIUS=500;X-TITLE=22 Crystal Ridge Drive:geo:-113.98281,50.72885
END:VEVENT
END:VCALENDAR