BEGIN:VCALENDAR
VERSION:2.0
PRODID:-//McMan Youth, Family and Community Services Association - ECPv6.15.20//NONSGML v1.0//EN
CALSCALE:GREGORIAN
METHOD:PUBLISH
X-WR-CALNAME:McMan Youth, Family and Community Services Association
X-ORIGINAL-URL:https://mcmancalgary.ca
X-WR-CALDESC:Events for McMan Youth, Family and Community Services Association
REFRESH-INTERVAL;VALUE=DURATION:PT1H
X-Robots-Tag:noindex
X-PUBLISHED-TTL:PT1H
BEGIN:VTIMEZONE
TZID:America/Edmonton
BEGIN:DAYLIGHT
TZOFFSETFROM:-0700
TZOFFSETTO:-0600
TZNAME:MDT
DTSTART:20230312T090000
END:DAYLIGHT
BEGIN:STANDARD
TZOFFSETFROM:-0600
TZOFFSETTO:-0700
TZNAME:MST
DTSTART:20231105T080000
END:STANDARD
BEGIN:DAYLIGHT
TZOFFSETFROM:-0700
TZOFFSETTO:-0600
TZNAME:MDT
DTSTART:20240310T090000
END:DAYLIGHT
BEGIN:STANDARD
TZOFFSETFROM:-0600
TZOFFSETTO:-0700
TZNAME:MST
DTSTART:20241103T080000
END:STANDARD
BEGIN:DAYLIGHT
TZOFFSETFROM:-0700
TZOFFSETTO:-0600
TZNAME:MDT
DTSTART:20250309T090000
END:DAYLIGHT
BEGIN:STANDARD
TZOFFSETFROM:-0600
TZOFFSETTO:-0700
TZNAME:MST
DTSTART:20251102T080000
END:STANDARD
END:VTIMEZONE
BEGIN:VEVENT
DTSTART;TZID=America/Edmonton:20240304T163000
DTEND;TZID=America/Edmonton:20240304T180000
DTSTAMP:20260420T170122
CREATED:20240227T211934Z
LAST-MODIFIED:20240227T211934Z
UID:10000127-1709569800-1709575200@mcmancalgary.ca
SUMMARY:Taming Worry Dragons - March 4th\, 11th\, 13th\, 18th and 20th
DESCRIPTION:Taming Worry Dragons is a 5 session workshop for kids ages 7-10\, to learn to trap and tame their worries and anxiety. The goal is to help children learn to reduce the frequency or intensity of their anxiety. \n (Registration is for all 5 Sessions) \n\nMarch 4th\, 11th\, 13th\, 18th and 20th (4:30pm – 6:00pm)\n\nSnacks are provided for each group. \nContact Lacey Gustavsen at lacey.gustavsen@mcmancalgary.ca or (403)801-6903 to register.
URL:https://mcmancalgary.ca/events/taming-worry-dragons-march-4th-11th-13th-18th-and-20th/
LOCATION:New Okotoks Office\, 72 N Railway St\, Okotoks\, Alberta\, T1S 1J3\, Canada
ORGANIZER;CN="Lacey Gustavsen":MAILTO:lacey.gustavsen@mcmancalgary.ca
END:VEVENT
BEGIN:VEVENT
DTSTART;TZID=America/Edmonton:20240304T163000
DTEND;TZID=America/Edmonton:20240304T180000
DTSTAMP:20260420T170122
CREATED:20240227T212734Z
LAST-MODIFIED:20240227T212734Z
UID:10000133-1709569800-1709575200@mcmancalgary.ca
SUMMARY:Skills for Anger (ages 12-18) – March 4th\, 6th\, 11th\, 13th\, 18th and 20th
DESCRIPTION:Join us in person for Skills for Anger\, where we will explore understanding self\, strengths/challenges\, triggers\, anger style\, feelings and connection to anger\, setting boundaries\, strengths\, building skills/strategies and positive thinking to manage any anger. \nSkills for Anger: Tuesday and Thursdays March 4th\, 6th\, 11th\, 13th\, 18th and 20th from 4:30 to 6:00 PM \nContact Marnie Johnston at 403-508-0436 or marnie.johnston@mcmancalgary.ca
URL:https://mcmancalgary.ca/events/skills-for-anger-ages-12-18-march-4th-6th-11th-13th-18th-and-20th/
LOCATION:New Okotoks Office\, 72 N Railway St\, Okotoks\, Alberta\, T1S 1J3\, Canada
CATEGORIES:Okotoks
ORGANIZER;CN="Marnie Johnston":MAILTO:marnie.johnston@mcmancalgary.ca
END:VEVENT
END:VCALENDAR