BEGIN:VCALENDAR
VERSION:2.0
PRODID:-//McMan Youth, Family and Community Services Association - ECPv6.15.20//NONSGML v1.0//EN
CALSCALE:GREGORIAN
METHOD:PUBLISH
X-WR-CALNAME:McMan Youth, Family and Community Services Association
X-ORIGINAL-URL:https://mcmancalgary.ca
X-WR-CALDESC:Events for McMan Youth, Family and Community Services Association
REFRESH-INTERVAL;VALUE=DURATION:PT1H
X-Robots-Tag:noindex
X-PUBLISHED-TTL:PT1H
BEGIN:VTIMEZONE
TZID:America/Edmonton
BEGIN:DAYLIGHT
TZOFFSETFROM:-0700
TZOFFSETTO:-0600
TZNAME:MDT
DTSTART:20230312T090000
END:DAYLIGHT
BEGIN:STANDARD
TZOFFSETFROM:-0600
TZOFFSETTO:-0700
TZNAME:MST
DTSTART:20231105T080000
END:STANDARD
BEGIN:DAYLIGHT
TZOFFSETFROM:-0700
TZOFFSETTO:-0600
TZNAME:MDT
DTSTART:20240310T090000
END:DAYLIGHT
BEGIN:STANDARD
TZOFFSETFROM:-0600
TZOFFSETTO:-0700
TZNAME:MST
DTSTART:20241103T080000
END:STANDARD
BEGIN:DAYLIGHT
TZOFFSETFROM:-0700
TZOFFSETTO:-0600
TZNAME:MDT
DTSTART:20250309T090000
END:DAYLIGHT
BEGIN:STANDARD
TZOFFSETFROM:-0600
TZOFFSETTO:-0700
TZNAME:MST
DTSTART:20251102T080000
END:STANDARD
END:VTIMEZONE
BEGIN:VEVENT
DTSTART;TZID=America/Edmonton:20240312T163000
DTEND;TZID=America/Edmonton:20240312T180000
DTSTAMP:20260422T014828
CREATED:20240227T213926Z
LAST-MODIFIED:20240227T214005Z
UID:10000137-1710261000-1710266400@mcmancalgary.ca
SUMMARY:Let’s Get Cooking (ages 12-18) – March 12th and 19th (Zoom)
DESCRIPTION:Let’s Get Cooking is a two-part workshop for youth 12-18 who want to learn how to cook. Groceries will be provided. (Zoom) \nPart 1 March 12th:  Basic nutrition\, kitchen safety tips and prepare to cook. 4:30 – 6:00 pm \nPart 2 March 19th: Cook a meal. Parent must be present in the home. 4:30 – 6:00 pm \nParticipants must attend both sessions. \nFor more information about this group\, please contact Marnie marnie.johnston@mcmancalgary.ca.
URL:https://mcmancalgary.ca/events/lets-get-cooking-ages-12-18-march-12th-and-19th-zoom/
LOCATION:Zoom (Virtual)\, Remote via Zoom
ORGANIZER;CN="McMan Okotoks":MAILTO:okotoksfrn@mcmancalgary.ca
END:VEVENT
END:VCALENDAR