BEGIN:VCALENDAR
VERSION:2.0
PRODID:-//McMan Youth, Family and Community Services Association - ECPv6.15.20//NONSGML v1.0//EN
CALSCALE:GREGORIAN
METHOD:PUBLISH
X-WR-CALNAME:McMan Youth, Family and Community Services Association
X-ORIGINAL-URL:https://mcmancalgary.ca
X-WR-CALDESC:Events for McMan Youth, Family and Community Services Association
REFRESH-INTERVAL;VALUE=DURATION:PT1H
X-Robots-Tag:noindex
X-PUBLISHED-TTL:PT1H
BEGIN:VTIMEZONE
TZID:America/Edmonton
BEGIN:DAYLIGHT
TZOFFSETFROM:-0700
TZOFFSETTO:-0600
TZNAME:MDT
DTSTART:20230312T090000
END:DAYLIGHT
BEGIN:STANDARD
TZOFFSETFROM:-0600
TZOFFSETTO:-0700
TZNAME:MST
DTSTART:20231105T080000
END:STANDARD
BEGIN:DAYLIGHT
TZOFFSETFROM:-0700
TZOFFSETTO:-0600
TZNAME:MDT
DTSTART:20240310T090000
END:DAYLIGHT
BEGIN:STANDARD
TZOFFSETFROM:-0600
TZOFFSETTO:-0700
TZNAME:MST
DTSTART:20241103T080000
END:STANDARD
BEGIN:DAYLIGHT
TZOFFSETFROM:-0700
TZOFFSETTO:-0600
TZNAME:MDT
DTSTART:20250309T090000
END:DAYLIGHT
BEGIN:STANDARD
TZOFFSETFROM:-0600
TZOFFSETTO:-0700
TZNAME:MST
DTSTART:20251102T080000
END:STANDARD
END:VTIMEZONE
BEGIN:VEVENT
DTSTART;TZID=America/Edmonton:20240430T163000
DTEND;TZID=America/Edmonton:20240430T180000
DTSTAMP:20260422T000124
CREATED:20240328T165902Z
LAST-MODIFIED:20240328T165902Z
UID:10000385-1714494600-1714500000@mcmancalgary.ca
SUMMARY:Let's Get Cookin'! - April 23rd & 30th - Ages 12-18
DESCRIPTION:Let’s Get Cookin’! is a two-part workshop for youth 12-18 who want to learn how to cook. Groceries will be provided. (Zoom) \nPart 1 April 23rd:  Basic nutrition\, kitchen safety tips and prepare to cook. 4:30 – 6:00pm \nPart 2 April 30th: Cook a meal. Parent must be present in the home. 4:30 – 6:00pm \nParticipants must attend both sessions. \nFor more information about this group\, please email Marnie marnie.johnston@mcmancalgary.ca.
URL:https://mcmancalgary.ca/events/lets-get-cookin-april-23rd-30th-ages-12-18/2024-04-30/
LOCATION:New Okotoks Office\, 72 N Railway St\, Okotoks\, Alberta\, T1S 1J3\, Canada
ORGANIZER;CN="Marnie Johnston":MAILTO:marnie.johnston@mcmancalgary.ca
END:VEVENT
BEGIN:VEVENT
DTSTART;TZID=America/Edmonton:20240430T163000
DTEND;TZID=America/Edmonton:20240430T180000
DTSTAMP:20260422T000124
CREATED:20240328T170014Z
LAST-MODIFIED:20240328T170014Z
UID:10000386-1714494600-1714500000@mcmancalgary.ca
SUMMARY:Let’s Get Cookin'! - April 23rd and 30th (Zoom)
DESCRIPTION:Let’s Get Cooking is a two-part workshop for youth 12-18 who want to learn how to cook. Groceries will be provided. (Zoom) \nPart 1 April 23rd:  Basic nutrition\, kitchen safety tips and prepare to cook. 4:30 – 6:00pm \nPart 2 April 30th: Cook a meal. Parent must be present in the home. 4:30 – 6:00pm \nParticipants must attend both sessions. \nFor more information about this group\, please email Marnie marnie.johnston@mcmancalgary.ca.
URL:https://mcmancalgary.ca/events/lets-get-cooking-ages-12-18-april-23rd-and-30th-zoom-2/2024-04-30/
LOCATION:Zoom (Virtual)\, Remote via Zoom
CATEGORIES:Okotoks,Okotoks FRN Youth (12-18)
ORGANIZER;CN="McMan Okotoks":MAILTO:okotoksfrn@mcmancalgary.ca
END:VEVENT
BEGIN:VEVENT
DTSTART;TZID=America/Edmonton:20240430T180000
DTEND;TZID=America/Edmonton:20240430T193000
DTSTAMP:20260422T000124
CREATED:20240404T164714Z
LAST-MODIFIED:20240404T164714Z
UID:10000438-1714500000-1714505400@mcmancalgary.ca
SUMMARY:Triple P Parenting - April 2nd\, 9th\, 16th\, 23rd\, 30th\, May 7th\, 14th & 21st
DESCRIPTION:Triple P Parenting is an 8 week workshop is an opportunity to join other parents to develop simple and practical strategies you can adapt to suit your family’s values\, beliefs and needs. Must attend all sessions. \nTuesdays April 2nd\, 9th\, 16th\, 23rd\, 30th\, May 7th\, 14th and 21st\, 6:00PM – 7:30PM \n 
URL:https://mcmancalgary.ca/events/triple-p-parenting-april-2nd-9th-16th-23rd-30th-may-7th-14th-21st/2024-04-30/
LOCATION:New Okotoks Office\, 72 N Railway St\, Okotoks\, Alberta\, T1S 1J3\, Canada
CATEGORIES:Okotoks,Okotoks FRN Parent / Caregiver
END:VEVENT
END:VCALENDAR