BEGIN:VCALENDAR
VERSION:2.0
PRODID:-//McMan Youth, Family and Community Services Association - ECPv6.15.20//NONSGML v1.0//EN
CALSCALE:GREGORIAN
METHOD:PUBLISH
X-WR-CALNAME:McMan Youth, Family and Community Services Association
X-ORIGINAL-URL:https://mcmancalgary.ca
X-WR-CALDESC:Events for McMan Youth, Family and Community Services Association
REFRESH-INTERVAL;VALUE=DURATION:PT1H
X-Robots-Tag:noindex
X-PUBLISHED-TTL:PT1H
BEGIN:VTIMEZONE
TZID:America/Edmonton
BEGIN:DAYLIGHT
TZOFFSETFROM:-0700
TZOFFSETTO:-0600
TZNAME:MDT
DTSTART:20230312T090000
END:DAYLIGHT
BEGIN:STANDARD
TZOFFSETFROM:-0600
TZOFFSETTO:-0700
TZNAME:MST
DTSTART:20231105T080000
END:STANDARD
BEGIN:DAYLIGHT
TZOFFSETFROM:-0700
TZOFFSETTO:-0600
TZNAME:MDT
DTSTART:20240310T090000
END:DAYLIGHT
BEGIN:STANDARD
TZOFFSETFROM:-0600
TZOFFSETTO:-0700
TZNAME:MST
DTSTART:20241103T080000
END:STANDARD
BEGIN:DAYLIGHT
TZOFFSETFROM:-0700
TZOFFSETTO:-0600
TZNAME:MDT
DTSTART:20250309T090000
END:DAYLIGHT
BEGIN:STANDARD
TZOFFSETFROM:-0600
TZOFFSETTO:-0700
TZNAME:MST
DTSTART:20251102T080000
END:STANDARD
END:VTIMEZONE
BEGIN:VEVENT
DTSTART;TZID=America/Edmonton:20240517T093000
DTEND;TZID=America/Edmonton:20240517T110000
DTSTAMP:20260421T174436
CREATED:20240404T193156Z
LAST-MODIFIED:20240404T193156Z
UID:10000465-1715938200-1715943600@mcmancalgary.ca
SUMMARY:Circle of Security - April 5th\, 12th\, 19th\, 26th\, May 3rd\, 10th\, 17th & 24th
DESCRIPTION:Join other parents for this 8 week workshop and learn to enhance your relationships by recognizing your child’s nedds and mae sense of their behaviours. Must attend all sessions. \nFridays April 5th\, 12th\, 19th\, 26th\, May 3rd\, 10th\, 17th & 24th\, 9:30am – 11am. \n 
URL:https://mcmancalgary.ca/events/circle-of-security-april-5th-12th-19th-26th-may-3rd-10th-17th-24th/2024-05-17/
LOCATION:New Okotoks Office\, 72 N Railway St\, Okotoks\, Alberta\, T1S 1J3\, Canada
CATEGORIES:Okotoks,Okotoks FRN Parent / Caregiver
END:VEVENT
BEGIN:VEVENT
DTSTART;TZID=America/Edmonton:20240517T130000
DTEND;TZID=America/Edmonton:20240517T150000
DTSTAMP:20260421T174436
CREATED:20240404T202223Z
LAST-MODIFIED:20240409T192607Z
UID:10000473-1715950800-1715958000@mcmancalgary.ca
SUMMARY:Grand Connections - Friday May 17th
DESCRIPTION:Whether you are watching your grandchildren a couple times a month or raising them\, this gathering is for all grandparents who are providing care for their grandchildren in some way. We will meet other grandparents\, share experiences\, gain connections and learn how essential their roe is for their grandchildren. \nFriday May 17th\, 1:00pm-3:00pm \n  \n  \n 
URL:https://mcmancalgary.ca/events/grand-connections-friday-may-17th/
LOCATION:New Okotoks Office\, 72 N Railway St\, Okotoks\, Alberta\, T1S 1J3\, Canada
CATEGORIES:Okotoks,Okotoks FRN Parent / Caregiver
END:VEVENT
END:VCALENDAR