BEGIN:VCALENDAR
VERSION:2.0
PRODID:-//McMan Youth, Family and Community Services Association - ECPv6.15.20//NONSGML v1.0//EN
CALSCALE:GREGORIAN
METHOD:PUBLISH
X-WR-CALNAME:McMan Youth, Family and Community Services Association
X-ORIGINAL-URL:https://mcmancalgary.ca
X-WR-CALDESC:Events for McMan Youth, Family and Community Services Association
REFRESH-INTERVAL;VALUE=DURATION:PT1H
X-Robots-Tag:noindex
X-PUBLISHED-TTL:PT1H
BEGIN:VTIMEZONE
TZID:America/Edmonton
BEGIN:DAYLIGHT
TZOFFSETFROM:-0700
TZOFFSETTO:-0600
TZNAME:MDT
DTSTART:20230312T090000
END:DAYLIGHT
BEGIN:STANDARD
TZOFFSETFROM:-0600
TZOFFSETTO:-0700
TZNAME:MST
DTSTART:20231105T080000
END:STANDARD
BEGIN:DAYLIGHT
TZOFFSETFROM:-0700
TZOFFSETTO:-0600
TZNAME:MDT
DTSTART:20240310T090000
END:DAYLIGHT
BEGIN:STANDARD
TZOFFSETFROM:-0600
TZOFFSETTO:-0700
TZNAME:MST
DTSTART:20241103T080000
END:STANDARD
BEGIN:DAYLIGHT
TZOFFSETFROM:-0700
TZOFFSETTO:-0600
TZNAME:MDT
DTSTART:20250309T090000
END:DAYLIGHT
BEGIN:STANDARD
TZOFFSETFROM:-0600
TZOFFSETTO:-0700
TZNAME:MST
DTSTART:20251102T080000
END:STANDARD
END:VTIMEZONE
BEGIN:VEVENT
DTSTART;TZID=America/Edmonton:20240522T123000
DTEND;TZID=America/Edmonton:20240522T150000
DTSTAMP:20260421T160922
CREATED:20240404T192427Z
LAST-MODIFIED:20240404T192427Z
UID:10000457-1716381000-1716390000@mcmancalgary.ca
SUMMARY:P.I.C.K. Me Up - April 3rd\, 10th\, 17th\, 24th\, May 1st\, 8th\, 15th & 22nd
DESCRIPTION:P.I.C.K. Me Up is a self reflective journey into rediscovering yourself. You will learn practical techniques and tools to assist you in getting more of what you want\, handle stress and build foundations to lifelong relationships. Must attend all sessions. \nWednesdays April 3rd\, 10th\, 17th\, 24th\, May 1st\, 8th\, 15th & 22nd\, 12:30pm-3:00pm. \n 
URL:https://mcmancalgary.ca/events/p-i-c-k-me-up-april-3rd-10th-17th-24th-may-1st-8th-15th-22nd/2024-05-22/
LOCATION:New Okotoks Office\, 72 N Railway St\, Okotoks\, Alberta\, T1S 1J3\, Canada
CATEGORIES:Okotoks,Okotoks FRN Parent & Child (0-6)
END:VEVENT
BEGIN:VEVENT
DTSTART;TZID=America/Edmonton:20240522T163000
DTEND;TZID=America/Edmonton:20240522T180000
DTSTAMP:20260421T160922
CREATED:20240402T170916Z
LAST-MODIFIED:20240402T170916Z
UID:10000405-1716395400-1716400800@mcmancalgary.ca
SUMMARY:Life Skills - May 1st\, 6th\, 8th\, 13th\, 15th\, 22nd\, 27th & 29th - Ages 12-18
DESCRIPTION:A lesson series for youth 12-18 years old that focuses on social and emotional skills while using effective communication and self management skills. Youth have an opportunity to strengthen their skills in the following areas: giving and receiving feedback\, listening behaviours\, questions concepts and emotions. \nMay 1st\, 6th\, 8th\, 13th\, 15th\, 22nd\, 27th & 29th from 4:30 PM to 6:00 PM \n  \nFor more information about this group\, please contact Marnie: \nmarnie.johnston@mcmancalgary.ca \n403-508-0436
URL:https://mcmancalgary.ca/events/life-skills-may-1st-6th-8th-13th-15th-22nd-27th-29th-ages-12-18/2024-05-22/
LOCATION:New Okotoks Office\, 72 N Railway St\, Okotoks\, Alberta\, T1S 1J3\, Canada
CATEGORIES:Okotoks,Okotoks FRN Youth (12-18)
ORGANIZER;CN="Marnie Johnston":MAILTO:marnie.johnston@mcmancalgary.ca
END:VEVENT
END:VCALENDAR