BEGIN:VCALENDAR
VERSION:2.0
PRODID:-//McMan Youth, Family and Community Services Association - ECPv6.15.20//NONSGML v1.0//EN
CALSCALE:GREGORIAN
METHOD:PUBLISH
X-WR-CALNAME:McMan Youth, Family and Community Services Association
X-ORIGINAL-URL:https://mcmancalgary.ca
X-WR-CALDESC:Events for McMan Youth, Family and Community Services Association
REFRESH-INTERVAL;VALUE=DURATION:PT1H
X-Robots-Tag:noindex
X-PUBLISHED-TTL:PT1H
BEGIN:VTIMEZONE
TZID:America/Edmonton
BEGIN:DAYLIGHT
TZOFFSETFROM:-0700
TZOFFSETTO:-0600
TZNAME:MDT
DTSTART:20230312T090000
END:DAYLIGHT
BEGIN:STANDARD
TZOFFSETFROM:-0600
TZOFFSETTO:-0700
TZNAME:MST
DTSTART:20231105T080000
END:STANDARD
BEGIN:DAYLIGHT
TZOFFSETFROM:-0700
TZOFFSETTO:-0600
TZNAME:MDT
DTSTART:20240310T090000
END:DAYLIGHT
BEGIN:STANDARD
TZOFFSETFROM:-0600
TZOFFSETTO:-0700
TZNAME:MST
DTSTART:20241103T080000
END:STANDARD
BEGIN:DAYLIGHT
TZOFFSETFROM:-0700
TZOFFSETTO:-0600
TZNAME:MDT
DTSTART:20250309T090000
END:DAYLIGHT
BEGIN:STANDARD
TZOFFSETFROM:-0600
TZOFFSETTO:-0700
TZNAME:MST
DTSTART:20251102T080000
END:STANDARD
END:VTIMEZONE
BEGIN:VEVENT
DTSTART;TZID=America/Edmonton:20240524T093000
DTEND;TZID=America/Edmonton:20240524T110000
DTSTAMP:20260421T160751
CREATED:20240404T193156Z
LAST-MODIFIED:20240404T193156Z
UID:10000466-1716543000-1716548400@mcmancalgary.ca
SUMMARY:Circle of Security - April 5th\, 12th\, 19th\, 26th\, May 3rd\, 10th\, 17th & 24th
DESCRIPTION:Join other parents for this 8 week workshop and learn to enhance your relationships by recognizing your child’s nedds and mae sense of their behaviours. Must attend all sessions. \nFridays April 5th\, 12th\, 19th\, 26th\, May 3rd\, 10th\, 17th & 24th\, 9:30am – 11am. \n 
URL:https://mcmancalgary.ca/events/circle-of-security-april-5th-12th-19th-26th-may-3rd-10th-17th-24th/2024-05-24/
LOCATION:New Okotoks Office\, 72 N Railway St\, Okotoks\, Alberta\, T1S 1J3\, Canada
CATEGORIES:Okotoks,Okotoks FRN Parent / Caregiver
END:VEVENT
BEGIN:VEVENT
DTSTART;TZID=America/Edmonton:20240524T150000
DTEND;TZID=America/Edmonton:20240524T170000
DTSTAMP:20260421T160751
CREATED:20240402T205508Z
LAST-MODIFIED:20240403T164955Z
UID:10000433-1716562800-1716570000@mcmancalgary.ca
SUMMARY:Upstart Art - Friday May 24th (Ages 7-13)
DESCRIPTION:Come learn and explore some basic art skills and put them to work in fun and engaging ways for youth aged 7-13. \nFriday May 24th from 3:00pm – 5:00pm \nSnacks are provided for each group. \nContact Lacey Gustavsen at lacey.gustavsen@mcmancalgary.ca or (403)801-6903 to register.
URL:https://mcmancalgary.ca/events/upstart-art-friday-may-24th-ages-7-13-2/
LOCATION:New Okotoks Office\, 72 N Railway St\, Okotoks\, Alberta\, T1S 1J3\, Canada
CATEGORIES:Okotoks,Okotoks FRN Child (7-13)
ORGANIZER;CN="Lacey Gustavsen":MAILTO:lacey.gustavsen@mcmancalgary.ca
END:VEVENT
END:VCALENDAR