BEGIN:VCALENDAR
VERSION:2.0
PRODID:-//McMan Youth, Family and Community Services Association - ECPv6.15.20//NONSGML v1.0//EN
CALSCALE:GREGORIAN
METHOD:PUBLISH
X-ORIGINAL-URL:https://mcmancalgary.ca
X-WR-CALDESC:Events for McMan Youth, Family and Community Services Association
REFRESH-INTERVAL;VALUE=DURATION:PT1H
X-Robots-Tag:noindex
X-PUBLISHED-TTL:PT1H
BEGIN:VTIMEZONE
TZID:America/Edmonton
BEGIN:DAYLIGHT
TZOFFSETFROM:-0700
TZOFFSETTO:-0600
TZNAME:MDT
DTSTART:20240310T090000
END:DAYLIGHT
BEGIN:STANDARD
TZOFFSETFROM:-0600
TZOFFSETTO:-0700
TZNAME:MST
DTSTART:20241103T080000
END:STANDARD
BEGIN:DAYLIGHT
TZOFFSETFROM:-0700
TZOFFSETTO:-0600
TZNAME:MDT
DTSTART:20250309T090000
END:DAYLIGHT
BEGIN:STANDARD
TZOFFSETFROM:-0600
TZOFFSETTO:-0700
TZNAME:MST
DTSTART:20251102T080000
END:STANDARD
BEGIN:DAYLIGHT
TZOFFSETFROM:-0700
TZOFFSETTO:-0600
TZNAME:MDT
DTSTART:20260308T090000
END:DAYLIGHT
BEGIN:STANDARD
TZOFFSETFROM:-0600
TZOFFSETTO:-0700
TZNAME:MST
DTSTART:20261101T080000
END:STANDARD
END:VTIMEZONE
BEGIN:VEVENT
DTSTART;TZID=America/Edmonton:20250303T133000
DTEND;TZID=America/Edmonton:20250303T143000
DTSTAMP:20260423T144403
CREATED:20250123T210746Z
LAST-MODIFIED:20250204T213640Z
UID:10000829-1741008600-1741012200@mcmancalgary.ca
SUMMARY:Music for Life - 1 to 4 years
DESCRIPTION:Come with your child to sing songs\, explore musical instruments for the first time in a fun and interactive way with peers of similar ages. \n  \nMarch 3rd – 1:30PM to 2:30PM \nMarch 10th – 1:30Pm to 2:30PM \nMarch 17th – 10:30AM to 11:30AM \n  \nTo register\, call\, email or text Roshelle: \nroshelle.stooshnov@mcmancalgary.ca \n403-620-0510 \n  \nPrograms are free. \n 
URL:https://mcmancalgary.ca/events/music-for-life-1-to-4-years-2/2025-03-03/
LOCATION:New Okotoks Office\, 72 N Railway St\, Okotoks\, Alberta\, T1S 1J3\, Canada
CATEGORIES:Okotoks,Okotoks FRN Parent & Child (0-6)
END:VEVENT
BEGIN:VEVENT
DTSTART;TZID=America/Edmonton:20250303T163000
DTEND;TZID=America/Edmonton:20250303T180000
DTSTAMP:20260423T144404
CREATED:20250122T212459Z
LAST-MODIFIED:20250122T212530Z
UID:10000803-1741019400-1741024800@mcmancalgary.ca
SUMMARY:Nuturing Noggins - Ages 7 to 10
DESCRIPTION:6 sessions total. Come join us to explore ways to enhance life and social skills\, foster positive friendships and develop leadership abilities. Participants will engage in topics such as responsibility\, empathy\, coping strategies\, conflict resolution and more. \nMarch 3rd\, 5th\, 10th\, 12th\, 17th & 19th – 4:30PM to 6:00PM \n  \nTo register: call\, text or email Lacey: \nlacey.gustavsen@mcmancalgary.ca \n403-801-6903 \n  \nPrograms are free and snacks are included.
URL:https://mcmancalgary.ca/events/nuturing-noggins-ages-7-to-10/2025-03-03/
LOCATION:New Okotoks Office\, 72 N Railway St\, Okotoks\, Alberta\, T1S 1J3\, Canada
CATEGORIES:Okotoks,Okotoks FRN Child (7-13)
ORGANIZER;CN="Lacey Gustavsen":MAILTO:lacey.gustavsen@mcmancalgary.ca
END:VEVENT
BEGIN:VEVENT
DTSTART;TZID=America/Edmonton:20250303T163000
DTEND;TZID=America/Edmonton:20250303T180000
DTSTAMP:20260423T144404
CREATED:20250123T185456Z
LAST-MODIFIED:20250204T220002Z
UID:10000817-1741019400-1741024800@mcmancalgary.ca
SUMMARY:Communication Confidence - Ages 12 to 18
DESCRIPTION:In this workshop\, participants will learn communication skills for the workplace\, school\, family\, friends and peers. \n\nListening behaviours\nQuestioning concepts\nEmotional management\nGiving/receiving feedback\nSetting boundaries\n\nThese skills aim to support teens to create better relationships\, handle conflict\, build empathy\, increase self awareness\, build trust and reduce anxiety. Upon completion each participant will receive a certificate which they can put on a resume. \n  \nMondays and Wednesdays\, March 3rd\, 5th\, 10th\, 12th\, 17th\, 19th\, 24th 26th & 31st  \n4:30PM to 6:00PM \n  \nTo register\, call\, text or email Marnie: \nmarnie.johnston@mcmancalgary.ca \n403-508-0436 \n  \nAll programs are free. \n 
URL:https://mcmancalgary.ca/events/communication-confidence-ages-12-to-18/2025-03-03/
LOCATION:New Okotoks Office\, 72 N Railway St\, Okotoks\, Alberta\, T1S 1J3\, Canada
CATEGORIES:Okotoks,Okotoks FRN Youth (12-18)
ORGANIZER;CN="Marnie Johnston":MAILTO:marnie.johnston@mcmancalgary.ca
END:VEVENT
BEGIN:VEVENT
DTSTART;TZID=America/Edmonton:20250303T163000
DTEND;TZID=America/Edmonton:20250303T180000
DTSTAMP:20260423T144404
CREATED:20250205T175658Z
LAST-MODIFIED:20250205T175658Z
UID:10000849-1741019400-1741024800@mcmancalgary.ca
SUMMARY:Nurturing Noggins - Ages 7-10
DESCRIPTION:6 sessions total. Come join us to explore ways to enhance life and social skills\, foster positive friendships and develop leadership abilities. Participants will engage in topics such as responsibility\, empathy\, coping strategies\, conflict resolution and more. \n  \nMarch 3rd\, 5th\, 10th\, 12th\, 17th & 19th \n4:30PM to 6:00PM \n  \nTo register\, call text or email Lacey: \n403-801-6903 \nlacey.gustavsen@mcmancalgary.ca \n  \nAll programs are free.
URL:https://mcmancalgary.ca/events/nurturing-noggins-ages-7-10/2025-03-03/
LOCATION:New Okotoks Office\, 72 N Railway St\, Okotoks\, Alberta\, T1S 1J3\, Canada
CATEGORIES:Okotoks,Okotoks FRN Child (7-13)
ORGANIZER;CN="Lacey Gustavsen":MAILTO:lacey.gustavsen@mcmancalgary.ca
END:VEVENT
END:VCALENDAR