BEGIN:VCALENDAR
VERSION:2.0
PRODID:-//McMan Youth, Family and Community Services Association - ECPv6.15.20//NONSGML v1.0//EN
CALSCALE:GREGORIAN
METHOD:PUBLISH
X-WR-CALNAME:McMan Youth, Family and Community Services Association
X-ORIGINAL-URL:https://mcmancalgary.ca
X-WR-CALDESC:Events for McMan Youth, Family and Community Services Association
REFRESH-INTERVAL;VALUE=DURATION:PT1H
X-Robots-Tag:noindex
X-PUBLISHED-TTL:PT1H
BEGIN:VTIMEZONE
TZID:America/Edmonton
BEGIN:DAYLIGHT
TZOFFSETFROM:-0700
TZOFFSETTO:-0600
TZNAME:MDT
DTSTART:20240310T090000
END:DAYLIGHT
BEGIN:STANDARD
TZOFFSETFROM:-0600
TZOFFSETTO:-0700
TZNAME:MST
DTSTART:20241103T080000
END:STANDARD
BEGIN:DAYLIGHT
TZOFFSETFROM:-0700
TZOFFSETTO:-0600
TZNAME:MDT
DTSTART:20250309T090000
END:DAYLIGHT
BEGIN:STANDARD
TZOFFSETFROM:-0600
TZOFFSETTO:-0700
TZNAME:MST
DTSTART:20251102T080000
END:STANDARD
BEGIN:DAYLIGHT
TZOFFSETFROM:-0700
TZOFFSETTO:-0600
TZNAME:MDT
DTSTART:20260308T090000
END:DAYLIGHT
BEGIN:STANDARD
TZOFFSETFROM:-0600
TZOFFSETTO:-0700
TZNAME:MST
DTSTART:20261101T080000
END:STANDARD
END:VTIMEZONE
BEGIN:VEVENT
DTSTART;TZID=America/Edmonton:20250423T080000
DTEND;TZID=America/Edmonton:20250423T170000
DTSTAMP:20260423T160234
CREATED:20250219T204005Z
LAST-MODIFIED:20250219T204005Z
UID:10000881-1745395200-1745427600@mcmancalgary.ca
SUMMARY:Nurturing Noggins - Ages 10-13
DESCRIPTION:6 sessions total. Come join us to explore ways to enhance life and social skills\, foster positive friendships and develop leadership abilities. Participants will engage in topics such as responsibility\, empathy\, coping strategies\, conflict resolution and more. \n  \nMondays and Wednesdays April 7th\, 9th\, 14th\, 16th\, 21st & 23rd \n4:30PM to 6:00PM \n  \nTo register\, call\, text or email Lacey; \nlacey.gustavsen@mcmancalgaryca \n403-801-6903
URL:https://mcmancalgary.ca/events/nurturing-noggins-ages-10-13-3/2025-04-23/
LOCATION:New Okotoks Office\, 72 N Railway St\, Okotoks\, Alberta\, T1S 1J3\, Canada
CATEGORIES:Okotoks,Okotoks FRN Child (7-13)
END:VEVENT
BEGIN:VEVENT
DTSTART;TZID=America/Edmonton:20250423T103000
DTEND;TZID=America/Edmonton:20250423T113000
DTSTAMP:20260423T160234
CREATED:20250219T191619Z
LAST-MODIFIED:20250226T204115Z
UID:10000901-1745404200-1745407800@mcmancalgary.ca
SUMMARY:Music For Life - Ages 1 to 4 years
DESCRIPTION:Come with your child to sing songs\, explore musical instruments for the first time in a fun and interactive way with peers of similar ages. \n  \nApril 1st – 1:30PM to 2:30PM \nApril 7th – 10:30AM to 11:30PM \nApril 14th – 1:30PM to 2:30PM \nApril 23rd – 10:30AM to 11:30AM \n  \nTo register\, please call\, text or email Roshelle; \nroshelle.stooshnov@mcmancalgary.ca \n403-620-0510
URL:https://mcmancalgary.ca/events/music-for-life-ages-1-to-4-years/2025-04-23/
LOCATION:New Okotoks Office\, 72 N Railway St\, Okotoks\, Alberta\, T1S 1J3\, Canada
CATEGORIES:Okotoks,Okotoks FRN Parent & Child (0-6)
END:VEVENT
BEGIN:VEVENT
DTSTART;TZID=America/Edmonton:20250423T130000
DTEND;TZID=America/Edmonton:20250423T143000
DTSTAMP:20260423T160234
CREATED:20250219T211927Z
LAST-MODIFIED:20250219T211927Z
UID:10000893-1745413200-1745418600@mcmancalgary.ca
SUMMARY:Learner's Prep - Ages 12-18
DESCRIPTION:Prepare for your learner’s test. The sessions cover an introduction to the learner’s test\, study plan and basic process for writing the test. \n  \nMondays and Wednesdays April 14th\, 16th & 23rd \n1:00PM to 2:30PM \n  \nTo register\, call\, text or email Marnie; \nmarnie.johnston@mcmancalgary.ca \n403-508-0436
URL:https://mcmancalgary.ca/events/learners-prep-ages-12-18/2025-04-23/
LOCATION:New Okotoks Office\, 72 N Railway St\, Okotoks\, Alberta\, T1S 1J3\, Canada
CATEGORIES:Okotoks,Okotoks FRN Youth (12-18)
END:VEVENT
BEGIN:VEVENT
DTSTART;TZID=America/Edmonton:20250423T130000
DTEND;TZID=America/Edmonton:20250423T150000
DTSTAMP:20260423T160235
CREATED:20250219T203228Z
LAST-MODIFIED:20250219T203228Z
UID:10000874-1745413200-1745420400@mcmancalgary.ca
SUMMARY:Circle of Security
DESCRIPTION:Learn how to understand your child’s emotional world by learning to read emotional needs.\nLearn how to support your child’s ability to successfully manage emotions.\nEnhance the development of your child’s self esteem\, while honouring the wisdom and desire for their child to be secure.\n\n  \nWednesdays April 2nd\, 9th\, 16th\, 23rd & 30th – 1:00PM to 3:00PM \nChildcare can be provided. \n  \nTo register\, call\, text or email Roshelle; \nroshelle.stooshnov@mcmancalgary.ca \n403-620-0510
URL:https://mcmancalgary.ca/events/circle-of-security/2025-04-23/
LOCATION:New Okotoks Office\, 72 N Railway St\, Okotoks\, Alberta\, T1S 1J3\, Canada
CATEGORIES:Okotoks,Okotoks FRN Parent / Caregiver
END:VEVENT
END:VCALENDAR