BEGIN:VCALENDAR
VERSION:2.0
PRODID:-//McMan Youth, Family and Community Services Association - ECPv6.15.20//NONSGML v1.0//EN
CALSCALE:GREGORIAN
METHOD:PUBLISH
X-WR-CALNAME:McMan Youth, Family and Community Services Association
X-ORIGINAL-URL:https://mcmancalgary.ca
X-WR-CALDESC:Events for McMan Youth, Family and Community Services Association
REFRESH-INTERVAL;VALUE=DURATION:PT1H
X-Robots-Tag:noindex
X-PUBLISHED-TTL:PT1H
BEGIN:VTIMEZONE
TZID:America/Edmonton
BEGIN:DAYLIGHT
TZOFFSETFROM:-0700
TZOFFSETTO:-0600
TZNAME:MDT
DTSTART:20240310T090000
END:DAYLIGHT
BEGIN:STANDARD
TZOFFSETFROM:-0600
TZOFFSETTO:-0700
TZNAME:MST
DTSTART:20241103T080000
END:STANDARD
BEGIN:DAYLIGHT
TZOFFSETFROM:-0700
TZOFFSETTO:-0600
TZNAME:MDT
DTSTART:20250309T090000
END:DAYLIGHT
BEGIN:STANDARD
TZOFFSETFROM:-0600
TZOFFSETTO:-0700
TZNAME:MST
DTSTART:20251102T080000
END:STANDARD
BEGIN:DAYLIGHT
TZOFFSETFROM:-0700
TZOFFSETTO:-0600
TZNAME:MDT
DTSTART:20260308T090000
END:DAYLIGHT
BEGIN:STANDARD
TZOFFSETFROM:-0600
TZOFFSETTO:-0700
TZNAME:MST
DTSTART:20261101T080000
END:STANDARD
END:VTIMEZONE
BEGIN:VEVENT
DTSTART;TZID=America/Edmonton:20250813T110000
DTEND;TZID=America/Edmonton:20250813T120000
DTSTAMP:20260422T045159
CREATED:20250805T181151Z
LAST-MODIFIED:20250805T181151Z
UID:10000988-1755082800-1755086400@mcmancalgary.ca
SUMMARY:MUSIC FOR LIFE - 0 TO 12 MONTHS
DESCRIPTION:Come with your child to sing songs\, explore musical instruments for the first time in a fun and interactive way with peers of similar ages. \nAugust 6th – 11:00 AM to 12:00 PM \nAugust 13th – 11:00 AM to 12:00 PM \nAugust 20th – 11:00 AM to 12:00 PM \n  \nTo register\, please call\, text or email Roshelle: \nroshelle.stooshnov@mcmancalgary.ca \n403-620-0510 \n  \nPrograms are free and held at 72 North Railway Street\, Okotoks
URL:https://mcmancalgary.ca/events/music-for-life-0-to-12-months-2/2025-08-13/
LOCATION:New Okotoks Office\, 72 N Railway St\, Okotoks\, Alberta\, T1S 1J3\, Canada
CATEGORIES:Okotoks,Okotoks FRN Parent & Child (0-6)
END:VEVENT
BEGIN:VEVENT
DTSTART;TZID=America/Edmonton:20250813T130000
DTEND;TZID=America/Edmonton:20250813T150000
DTSTAMP:20260422T045200
CREATED:20250806T202121Z
LAST-MODIFIED:20250806T202121Z
UID:10001012-1755090000-1755097200@mcmancalgary.ca
SUMMARY:SILLY SCIENCE - 7 TO 13 YEARS
DESCRIPTION:Come and join us to explore the wonderful world of science with fun experiments and creations. \nWednesdays \nAugust 13th & 20th \n1:00 PM to 3:00 PM \n  \nTo register\, please call\, text or email Lacey: \nlacey.gustavsen@mcmancalgary.ca \n403-801-6903 \n  \nPrograms are free and held at 72 North Railway St\, Okotoks
URL:https://mcmancalgary.ca/events/silly-science-7-to-13-years/2025-08-13/
LOCATION:New Okotoks Office\, 72 N Railway St\, Okotoks\, Alberta\, T1S 1J3\, Canada
CATEGORIES:Okotoks,Okotoks FRN Child (7-13)
ORGANIZER;CN="Lacey Gustavsen":MAILTO:lacey.gustavsen@mcmancalgary.ca
END:VEVENT
BEGIN:VEVENT
DTSTART;TZID=America/Edmonton:20250813T133000
DTEND;TZID=America/Edmonton:20250813T143000
DTSTAMP:20260422T045200
CREATED:20250805T181502Z
LAST-MODIFIED:20250805T181502Z
UID:10000991-1755091800-1755095400@mcmancalgary.ca
SUMMARY:MUSIC FOR LIFE - 1 TO 4 YEARS
DESCRIPTION:Come with your child to sing songs\, explore musical instruments for the first time in a fun and interactive way with peers of similar ages. \nAugust 6th – 1:30 PM to 2:30 PM \nAugust 13th – 1:30 PM to 2:30 PM \nAugust 18th – 11:00 AM to 12:00 PM \n  \nTo register\, please call\, text or email Roshelle: \nroshelle.stooshnov@mcmancalgary.ca \n403-620-0510 \n  \nPrograms are free and held at 72 North Railway Street\, Okotoks
URL:https://mcmancalgary.ca/events/music-for-life-1-to-4-years-8/2025-08-13/
LOCATION:New Okotoks Office\, 72 N Railway St\, Okotoks\, Alberta\, T1S 1J3\, Canada
CATEGORIES:Okotoks,Okotoks FRN Parent & Child (0-6)
END:VEVENT
END:VCALENDAR