BEGIN:VCALENDAR
VERSION:2.0
PRODID:-//McMan Youth, Family and Community Services Association - ECPv6.15.20//NONSGML v1.0//EN
CALSCALE:GREGORIAN
METHOD:PUBLISH
X-WR-CALNAME:McMan Youth, Family and Community Services Association
X-ORIGINAL-URL:https://mcmancalgary.ca
X-WR-CALDESC:Events for McMan Youth, Family and Community Services Association
REFRESH-INTERVAL;VALUE=DURATION:PT1H
X-Robots-Tag:noindex
X-PUBLISHED-TTL:PT1H
BEGIN:VTIMEZONE
TZID:America/Edmonton
BEGIN:DAYLIGHT
TZOFFSETFROM:-0700
TZOFFSETTO:-0600
TZNAME:MDT
DTSTART:20230312T090000
END:DAYLIGHT
BEGIN:STANDARD
TZOFFSETFROM:-0600
TZOFFSETTO:-0700
TZNAME:MST
DTSTART:20231105T080000
END:STANDARD
BEGIN:DAYLIGHT
TZOFFSETFROM:-0700
TZOFFSETTO:-0600
TZNAME:MDT
DTSTART:20240310T090000
END:DAYLIGHT
BEGIN:STANDARD
TZOFFSETFROM:-0600
TZOFFSETTO:-0700
TZNAME:MST
DTSTART:20241103T080000
END:STANDARD
BEGIN:DAYLIGHT
TZOFFSETFROM:-0700
TZOFFSETTO:-0600
TZNAME:MDT
DTSTART:20250309T090000
END:DAYLIGHT
BEGIN:STANDARD
TZOFFSETFROM:-0600
TZOFFSETTO:-0700
TZNAME:MST
DTSTART:20251102T080000
END:STANDARD
END:VTIMEZONE
BEGIN:VEVENT
DTSTART;TZID=America/Edmonton:20240806T103000
DTEND;TZID=America/Edmonton:20240806T120000
DTSTAMP:20260423T150240
CREATED:20240808T210047Z
LAST-MODIFIED:20240808T210047Z
UID:10000525-1722940200-1722945600@mcmancalgary.ca
SUMMARY:Kickstart - August 6th\, 8th\, 13th\, 15th\, 20th and 22nd - Ages 10-13
DESCRIPTION:Kickstart can be joined at anytime. This workshop is to help enhance life and social skills\, create positive friendships and build leadership skills. \nTuesdays and Thursdays – August 6th\, 8th\, 13th\, 15th\, 20th and 22nd \n10:30AM – 12PM \nTo register\, call\, text or email Lacey: \nlacey.gustavsen@mcmancalgary.ca \n403-801-6903 \n 
URL:https://mcmancalgary.ca/events/kickstart-august-6th-8th-13th-15th-20th-and-22nd-ages-10-13/2024-08-06/
LOCATION:New Okotoks Office\, 72 N Railway St\, Okotoks\, Alberta\, T1S 1J3\, Canada
CATEGORIES:Okotoks,Okotoks FRN Child (7-13)
ORGANIZER;CN="Lacey Gustavsen":MAILTO:lacey.gustavsen@mcmancalgary.ca
END:VEVENT
BEGIN:VEVENT
DTSTART;TZID=America/Edmonton:20240807T103000
DTEND;TZID=America/Edmonton:20240807T120000
DTSTAMP:20260423T150240
CREATED:20240808T205420Z
LAST-MODIFIED:20240808T205420Z
UID:10000519-1723026600-1723032000@mcmancalgary.ca
SUMMARY:Taming Worry Dragons - August 7th\, 12th\, 14th\, 19th\, 21st and 26th - Ages 7-10 - 10:30AM - 12PM
DESCRIPTION:Taming Worry Dragons is a six session workshop for kids to learn to trap and tame their worries and anxiety. The goal is to help children learn to reduce the frequency or intensity of their anxiety. \nMondays and Wednesdays  – August 7th\, 12th\, 14th\, 19th\, 21st and 26th \n10:30AM – 12PM \nTo register call\, text or email Lacey: \nlacey.gustavsen@mcmancalgary.ca \n403-801-6903
URL:https://mcmancalgary.ca/events/taming-worry-dragons-august-7th-12th-14th-19th-21st-and-26th-ages-7-10-1030am-12pm/2024-08-07/
LOCATION:New Okotoks Office\, 72 N Railway St\, Okotoks\, Alberta\, T1S 1J3\, Canada
CATEGORIES:Okotoks,Okotoks FRN Child (7-13)
ORGANIZER;CN="Lacey Gustavsen":MAILTO:lacey.gustavsen@mcmancalgary.ca
END:VEVENT
BEGIN:VEVENT
DTSTART;TZID=America/Edmonton:20240808T103000
DTEND;TZID=America/Edmonton:20240808T120000
DTSTAMP:20260423T150240
CREATED:20240808T210047Z
LAST-MODIFIED:20240808T210047Z
UID:10000526-1723113000-1723118400@mcmancalgary.ca
SUMMARY:Kickstart - August 6th\, 8th\, 13th\, 15th\, 20th and 22nd - Ages 10-13
DESCRIPTION:Kickstart can be joined at anytime. This workshop is to help enhance life and social skills\, create positive friendships and build leadership skills. \nTuesdays and Thursdays – August 6th\, 8th\, 13th\, 15th\, 20th and 22nd \n10:30AM – 12PM \nTo register\, call\, text or email Lacey: \nlacey.gustavsen@mcmancalgary.ca \n403-801-6903 \n 
URL:https://mcmancalgary.ca/events/kickstart-august-6th-8th-13th-15th-20th-and-22nd-ages-10-13/2024-08-08/
LOCATION:New Okotoks Office\, 72 N Railway St\, Okotoks\, Alberta\, T1S 1J3\, Canada
CATEGORIES:Okotoks,Okotoks FRN Child (7-13)
ORGANIZER;CN="Lacey Gustavsen":MAILTO:lacey.gustavsen@mcmancalgary.ca
END:VEVENT
BEGIN:VEVENT
DTSTART;TZID=America/Edmonton:20240809T103000
DTEND;TZID=America/Edmonton:20240809T120000
DTSTAMP:20260423T150240
CREATED:20240813T175724Z
LAST-MODIFIED:20240813T175724Z
UID:10000531-1723199400-1723204800@mcmancalgary.ca
SUMMARY:Mindfulness Walks - August 9th and 23rd - 10:30AM - 12:00PM
DESCRIPTION:Mindfulness Walks – Fridays\, August 9th and 23rd – 10:30AM – 12:00PM \nCome join us as we get out in nature and practice some basic mindfulness and grounding skills. Please note\, cap of 5 participants per walk. \nTo register\, call text or email Lacey: \nlacey.gustavsen@mcmancalgary.ca \n403-801-6903 \n  \n 
URL:https://mcmancalgary.ca/events/mindfulness-walks-august-9th-and-23rd-1030am-1200pm/2024-08-09/
LOCATION:New Okotoks Office\, 72 N Railway St\, Okotoks\, Alberta\, T1S 1J3\, Canada
CATEGORIES:Okotoks,Okotoks FRN Child (7-13)
ORGANIZER;CN="Lacey Gustavsen":MAILTO:lacey.gustavsen@mcmancalgary.ca
END:VEVENT
BEGIN:VEVENT
DTSTART;TZID=America/Edmonton:20240812T103000
DTEND;TZID=America/Edmonton:20240812T120000
DTSTAMP:20260423T150240
CREATED:20240808T205420Z
LAST-MODIFIED:20240808T205420Z
UID:10000520-1723458600-1723464000@mcmancalgary.ca
SUMMARY:Taming Worry Dragons - August 7th\, 12th\, 14th\, 19th\, 21st and 26th - Ages 7-10 - 10:30AM - 12PM
DESCRIPTION:Taming Worry Dragons is a six session workshop for kids to learn to trap and tame their worries and anxiety. The goal is to help children learn to reduce the frequency or intensity of their anxiety. \nMondays and Wednesdays  – August 7th\, 12th\, 14th\, 19th\, 21st and 26th \n10:30AM – 12PM \nTo register call\, text or email Lacey: \nlacey.gustavsen@mcmancalgary.ca \n403-801-6903
URL:https://mcmancalgary.ca/events/taming-worry-dragons-august-7th-12th-14th-19th-21st-and-26th-ages-7-10-1030am-12pm/2024-08-12/
LOCATION:New Okotoks Office\, 72 N Railway St\, Okotoks\, Alberta\, T1S 1J3\, Canada
CATEGORIES:Okotoks,Okotoks FRN Child (7-13)
ORGANIZER;CN="Lacey Gustavsen":MAILTO:lacey.gustavsen@mcmancalgary.ca
END:VEVENT
BEGIN:VEVENT
DTSTART;TZID=America/Edmonton:20240813T103000
DTEND;TZID=America/Edmonton:20240813T120000
DTSTAMP:20260423T150240
CREATED:20240808T210047Z
LAST-MODIFIED:20240808T210047Z
UID:10000527-1723545000-1723550400@mcmancalgary.ca
SUMMARY:Kickstart - August 6th\, 8th\, 13th\, 15th\, 20th and 22nd - Ages 10-13
DESCRIPTION:Kickstart can be joined at anytime. This workshop is to help enhance life and social skills\, create positive friendships and build leadership skills. \nTuesdays and Thursdays – August 6th\, 8th\, 13th\, 15th\, 20th and 22nd \n10:30AM – 12PM \nTo register\, call\, text or email Lacey: \nlacey.gustavsen@mcmancalgary.ca \n403-801-6903 \n 
URL:https://mcmancalgary.ca/events/kickstart-august-6th-8th-13th-15th-20th-and-22nd-ages-10-13/2024-08-13/
LOCATION:New Okotoks Office\, 72 N Railway St\, Okotoks\, Alberta\, T1S 1J3\, Canada
CATEGORIES:Okotoks,Okotoks FRN Child (7-13)
ORGANIZER;CN="Lacey Gustavsen":MAILTO:lacey.gustavsen@mcmancalgary.ca
END:VEVENT
BEGIN:VEVENT
DTSTART;TZID=America/Edmonton:20240814T103000
DTEND;TZID=America/Edmonton:20240814T120000
DTSTAMP:20260423T150240
CREATED:20240808T205420Z
LAST-MODIFIED:20240808T205420Z
UID:10000521-1723631400-1723636800@mcmancalgary.ca
SUMMARY:Taming Worry Dragons - August 7th\, 12th\, 14th\, 19th\, 21st and 26th - Ages 7-10 - 10:30AM - 12PM
DESCRIPTION:Taming Worry Dragons is a six session workshop for kids to learn to trap and tame their worries and anxiety. The goal is to help children learn to reduce the frequency or intensity of their anxiety. \nMondays and Wednesdays  – August 7th\, 12th\, 14th\, 19th\, 21st and 26th \n10:30AM – 12PM \nTo register call\, text or email Lacey: \nlacey.gustavsen@mcmancalgary.ca \n403-801-6903
URL:https://mcmancalgary.ca/events/taming-worry-dragons-august-7th-12th-14th-19th-21st-and-26th-ages-7-10-1030am-12pm/2024-08-14/
LOCATION:New Okotoks Office\, 72 N Railway St\, Okotoks\, Alberta\, T1S 1J3\, Canada
CATEGORIES:Okotoks,Okotoks FRN Child (7-13)
ORGANIZER;CN="Lacey Gustavsen":MAILTO:lacey.gustavsen@mcmancalgary.ca
END:VEVENT
BEGIN:VEVENT
DTSTART;TZID=America/Edmonton:20240815T103000
DTEND;TZID=America/Edmonton:20240815T120000
DTSTAMP:20260423T150240
CREATED:20240808T210047Z
LAST-MODIFIED:20240808T210047Z
UID:10000528-1723717800-1723723200@mcmancalgary.ca
SUMMARY:Kickstart - August 6th\, 8th\, 13th\, 15th\, 20th and 22nd - Ages 10-13
DESCRIPTION:Kickstart can be joined at anytime. This workshop is to help enhance life and social skills\, create positive friendships and build leadership skills. \nTuesdays and Thursdays – August 6th\, 8th\, 13th\, 15th\, 20th and 22nd \n10:30AM – 12PM \nTo register\, call\, text or email Lacey: \nlacey.gustavsen@mcmancalgary.ca \n403-801-6903 \n 
URL:https://mcmancalgary.ca/events/kickstart-august-6th-8th-13th-15th-20th-and-22nd-ages-10-13/2024-08-15/
LOCATION:New Okotoks Office\, 72 N Railway St\, Okotoks\, Alberta\, T1S 1J3\, Canada
CATEGORIES:Okotoks,Okotoks FRN Child (7-13)
ORGANIZER;CN="Lacey Gustavsen":MAILTO:lacey.gustavsen@mcmancalgary.ca
END:VEVENT
BEGIN:VEVENT
DTSTART;TZID=America/Edmonton:20240816T130000
DTEND;TZID=America/Edmonton:20240816T150000
DTSTAMP:20260423T150240
CREATED:20240815T160735Z
LAST-MODIFIED:20240815T160735Z
UID:10000533-1723813200-1723820400@mcmancalgary.ca
SUMMARY:Upstart Art - August 16th - 1:00PM - 3:00PM
DESCRIPTION:Upstart Art – Come learn and explore some basic art skills and put them to work in a fun and engaging way. \nFriday August 16th\, 1:00PM – 3:00PM \n  \nTo register call\, text or email Lacey: \nlacey.gustavsen@mcmancalgary.ca \n403-801-6903
URL:https://mcmancalgary.ca/events/upstart-art-august-16th-100pm-300pm/
LOCATION:New Okotoks Office\, 72 N Railway St\, Okotoks\, Alberta\, T1S 1J3\, Canada
CATEGORIES:Okotoks,Okotoks FRN Child (7-13)
ORGANIZER;CN="Lacey Gustavsen":MAILTO:lacey.gustavsen@mcmancalgary.ca
END:VEVENT
BEGIN:VEVENT
DTSTART;TZID=America/Edmonton:20240819T103000
DTEND;TZID=America/Edmonton:20240819T120000
DTSTAMP:20260423T150240
CREATED:20240808T205420Z
LAST-MODIFIED:20240808T205420Z
UID:10000522-1724063400-1724068800@mcmancalgary.ca
SUMMARY:Taming Worry Dragons - August 7th\, 12th\, 14th\, 19th\, 21st and 26th - Ages 7-10 - 10:30AM - 12PM
DESCRIPTION:Taming Worry Dragons is a six session workshop for kids to learn to trap and tame their worries and anxiety. The goal is to help children learn to reduce the frequency or intensity of their anxiety. \nMondays and Wednesdays  – August 7th\, 12th\, 14th\, 19th\, 21st and 26th \n10:30AM – 12PM \nTo register call\, text or email Lacey: \nlacey.gustavsen@mcmancalgary.ca \n403-801-6903
URL:https://mcmancalgary.ca/events/taming-worry-dragons-august-7th-12th-14th-19th-21st-and-26th-ages-7-10-1030am-12pm/2024-08-19/
LOCATION:New Okotoks Office\, 72 N Railway St\, Okotoks\, Alberta\, T1S 1J3\, Canada
CATEGORIES:Okotoks,Okotoks FRN Child (7-13)
ORGANIZER;CN="Lacey Gustavsen":MAILTO:lacey.gustavsen@mcmancalgary.ca
END:VEVENT
BEGIN:VEVENT
DTSTART;TZID=America/Edmonton:20240820T103000
DTEND;TZID=America/Edmonton:20240820T120000
DTSTAMP:20260423T150240
CREATED:20240808T210047Z
LAST-MODIFIED:20240808T210047Z
UID:10000529-1724149800-1724155200@mcmancalgary.ca
SUMMARY:Kickstart - August 6th\, 8th\, 13th\, 15th\, 20th and 22nd - Ages 10-13
DESCRIPTION:Kickstart can be joined at anytime. This workshop is to help enhance life and social skills\, create positive friendships and build leadership skills. \nTuesdays and Thursdays – August 6th\, 8th\, 13th\, 15th\, 20th and 22nd \n10:30AM – 12PM \nTo register\, call\, text or email Lacey: \nlacey.gustavsen@mcmancalgary.ca \n403-801-6903 \n 
URL:https://mcmancalgary.ca/events/kickstart-august-6th-8th-13th-15th-20th-and-22nd-ages-10-13/2024-08-20/
LOCATION:New Okotoks Office\, 72 N Railway St\, Okotoks\, Alberta\, T1S 1J3\, Canada
CATEGORIES:Okotoks,Okotoks FRN Child (7-13)
ORGANIZER;CN="Lacey Gustavsen":MAILTO:lacey.gustavsen@mcmancalgary.ca
END:VEVENT
BEGIN:VEVENT
DTSTART;TZID=America/Edmonton:20240821T103000
DTEND;TZID=America/Edmonton:20240821T120000
DTSTAMP:20260423T150240
CREATED:20240808T205420Z
LAST-MODIFIED:20240808T205420Z
UID:10000523-1724236200-1724241600@mcmancalgary.ca
SUMMARY:Taming Worry Dragons - August 7th\, 12th\, 14th\, 19th\, 21st and 26th - Ages 7-10 - 10:30AM - 12PM
DESCRIPTION:Taming Worry Dragons is a six session workshop for kids to learn to trap and tame their worries and anxiety. The goal is to help children learn to reduce the frequency or intensity of their anxiety. \nMondays and Wednesdays  – August 7th\, 12th\, 14th\, 19th\, 21st and 26th \n10:30AM – 12PM \nTo register call\, text or email Lacey: \nlacey.gustavsen@mcmancalgary.ca \n403-801-6903
URL:https://mcmancalgary.ca/events/taming-worry-dragons-august-7th-12th-14th-19th-21st-and-26th-ages-7-10-1030am-12pm/2024-08-21/
LOCATION:New Okotoks Office\, 72 N Railway St\, Okotoks\, Alberta\, T1S 1J3\, Canada
CATEGORIES:Okotoks,Okotoks FRN Child (7-13)
ORGANIZER;CN="Lacey Gustavsen":MAILTO:lacey.gustavsen@mcmancalgary.ca
END:VEVENT
BEGIN:VEVENT
DTSTART;TZID=America/Edmonton:20240822T103000
DTEND;TZID=America/Edmonton:20240822T120000
DTSTAMP:20260423T150240
CREATED:20240808T210047Z
LAST-MODIFIED:20240808T210047Z
UID:10000530-1724322600-1724328000@mcmancalgary.ca
SUMMARY:Kickstart - August 6th\, 8th\, 13th\, 15th\, 20th and 22nd - Ages 10-13
DESCRIPTION:Kickstart can be joined at anytime. This workshop is to help enhance life and social skills\, create positive friendships and build leadership skills. \nTuesdays and Thursdays – August 6th\, 8th\, 13th\, 15th\, 20th and 22nd \n10:30AM – 12PM \nTo register\, call\, text or email Lacey: \nlacey.gustavsen@mcmancalgary.ca \n403-801-6903 \n 
URL:https://mcmancalgary.ca/events/kickstart-august-6th-8th-13th-15th-20th-and-22nd-ages-10-13/2024-08-22/
LOCATION:New Okotoks Office\, 72 N Railway St\, Okotoks\, Alberta\, T1S 1J3\, Canada
CATEGORIES:Okotoks,Okotoks FRN Child (7-13)
ORGANIZER;CN="Lacey Gustavsen":MAILTO:lacey.gustavsen@mcmancalgary.ca
END:VEVENT
BEGIN:VEVENT
DTSTART;TZID=America/Edmonton:20240823T103000
DTEND;TZID=America/Edmonton:20240823T120000
DTSTAMP:20260423T150240
CREATED:20240813T175724Z
LAST-MODIFIED:20240813T175724Z
UID:10000532-1724409000-1724414400@mcmancalgary.ca
SUMMARY:Mindfulness Walks - August 9th and 23rd - 10:30AM - 12:00PM
DESCRIPTION:Mindfulness Walks – Fridays\, August 9th and 23rd – 10:30AM – 12:00PM \nCome join us as we get out in nature and practice some basic mindfulness and grounding skills. Please note\, cap of 5 participants per walk. \nTo register\, call text or email Lacey: \nlacey.gustavsen@mcmancalgary.ca \n403-801-6903 \n  \n 
URL:https://mcmancalgary.ca/events/mindfulness-walks-august-9th-and-23rd-1030am-1200pm/2024-08-23/
LOCATION:New Okotoks Office\, 72 N Railway St\, Okotoks\, Alberta\, T1S 1J3\, Canada
CATEGORIES:Okotoks,Okotoks FRN Child (7-13)
ORGANIZER;CN="Lacey Gustavsen":MAILTO:lacey.gustavsen@mcmancalgary.ca
END:VEVENT
BEGIN:VEVENT
DTSTART;TZID=America/Edmonton:20240826T103000
DTEND;TZID=America/Edmonton:20240826T120000
DTSTAMP:20260423T150240
CREATED:20240808T205420Z
LAST-MODIFIED:20240808T205420Z
UID:10000524-1724668200-1724673600@mcmancalgary.ca
SUMMARY:Taming Worry Dragons - August 7th\, 12th\, 14th\, 19th\, 21st and 26th - Ages 7-10 - 10:30AM - 12PM
DESCRIPTION:Taming Worry Dragons is a six session workshop for kids to learn to trap and tame their worries and anxiety. The goal is to help children learn to reduce the frequency or intensity of their anxiety. \nMondays and Wednesdays  – August 7th\, 12th\, 14th\, 19th\, 21st and 26th \n10:30AM – 12PM \nTo register call\, text or email Lacey: \nlacey.gustavsen@mcmancalgary.ca \n403-801-6903
URL:https://mcmancalgary.ca/events/taming-worry-dragons-august-7th-12th-14th-19th-21st-and-26th-ages-7-10-1030am-12pm/2024-08-26/
LOCATION:New Okotoks Office\, 72 N Railway St\, Okotoks\, Alberta\, T1S 1J3\, Canada
CATEGORIES:Okotoks,Okotoks FRN Child (7-13)
ORGANIZER;CN="Lacey Gustavsen":MAILTO:lacey.gustavsen@mcmancalgary.ca
END:VEVENT
BEGIN:VEVENT
DTSTART;TZID=America/Edmonton:20240828T163000
DTEND;TZID=America/Edmonton:20240828T183000
DTSTAMP:20260423T150240
CREATED:20240815T163223Z
LAST-MODIFIED:20240815T163223Z
UID:10000534-1724862600-1724869800@mcmancalgary.ca
SUMMARY:Let's Get Cookin'! - All Ages and Families - August 28th\, 4:30PM - 6:30PM
DESCRIPTION:We will be hosting an in-person bannock making workshop. Each participant will have the opportunity to make their own bannock. \nWednesday August 28th\, 4:30 – 6:30pm. \n  \nTo register call\, text or email Marnie: \nmarnie.johnston@mcmancalgary.ca \n403-508-0436
URL:https://mcmancalgary.ca/events/lets-get-cookin-all-ages-and-families-august-28th-430pm-630pm/
LOCATION:New Okotoks Office\, 72 N Railway St\, Okotoks\, Alberta\, T1S 1J3\, Canada
CATEGORIES:Okotoks,Okotoks FRN Child (7-13)
ORGANIZER;CN="Lacey Gustavsen":MAILTO:lacey.gustavsen@mcmancalgary.ca
END:VEVENT
END:VCALENDAR