BEGIN:VCALENDAR
VERSION:2.0
PRODID:-//McMan Youth, Family and Community Services Association - ECPv6.15.20//NONSGML v1.0//EN
CALSCALE:GREGORIAN
METHOD:PUBLISH
X-ORIGINAL-URL:https://mcmancalgary.ca
X-WR-CALDESC:Events for McMan Youth, Family and Community Services Association
REFRESH-INTERVAL;VALUE=DURATION:PT1H
X-Robots-Tag:noindex
X-PUBLISHED-TTL:PT1H
BEGIN:VTIMEZONE
TZID:America/Edmonton
BEGIN:DAYLIGHT
TZOFFSETFROM:-0700
TZOFFSETTO:-0600
TZNAME:MDT
DTSTART:20230312T090000
END:DAYLIGHT
BEGIN:STANDARD
TZOFFSETFROM:-0600
TZOFFSETTO:-0700
TZNAME:MST
DTSTART:20231105T080000
END:STANDARD
BEGIN:DAYLIGHT
TZOFFSETFROM:-0700
TZOFFSETTO:-0600
TZNAME:MDT
DTSTART:20240310T090000
END:DAYLIGHT
BEGIN:STANDARD
TZOFFSETFROM:-0600
TZOFFSETTO:-0700
TZNAME:MST
DTSTART:20241103T080000
END:STANDARD
BEGIN:DAYLIGHT
TZOFFSETFROM:-0700
TZOFFSETTO:-0600
TZNAME:MDT
DTSTART:20250309T090000
END:DAYLIGHT
BEGIN:STANDARD
TZOFFSETFROM:-0600
TZOFFSETTO:-0700
TZNAME:MST
DTSTART:20251102T080000
END:STANDARD
END:VTIMEZONE
BEGIN:VEVENT
DTSTART;TZID=America/Edmonton:20241216T163000
DTEND;TZID=America/Edmonton:20241216T183000
DTSTAMP:20260420T081754
CREATED:20241105T214515Z
LAST-MODIFIED:20241105T214515Z
UID:10000702-1734366600-1734373800@mcmancalgary.ca
SUMMARY:Big Feels - Ages 7-13 years - December 9th & 16th (4:30PM - 6:00PM)
DESCRIPTION:Two session group\, must be able to attend both sessions. This group is all about learning skills to help us cope with big emotions. Participants will learn tools and strategies to support emotional regulation\, and create their own calming kit to use in situations where they may need a little extra support to stay calm. \n  \nTo register\, call\, text or email Lacey: \nlacey.gustavsen@mcmancalgary.ca \n(403) 801-6903
URL:https://mcmancalgary.ca/events/big-feels-ages-7-13-years-december-9th-16th-430pm-600pm/2024-12-16/
LOCATION:New Okotoks Office\, 72 N Railway St\, Okotoks\, Alberta\, T1S 1J3\, Canada
CATEGORIES:Okotoks,Okotoks FRN Child (7-13)
ORGANIZER;CN="Lacey Gustavsen":MAILTO:lacey.gustavsen@mcmancalgary.ca
END:VEVENT
END:VCALENDAR