BEGIN:VCALENDAR
VERSION:2.0
PRODID:-//McMan Youth, Family and Community Services Association - ECPv6.15.20//NONSGML v1.0//EN
CALSCALE:GREGORIAN
METHOD:PUBLISH
X-ORIGINAL-URL:https://mcmancalgary.ca
X-WR-CALDESC:Events for McMan Youth, Family and Community Services Association
REFRESH-INTERVAL;VALUE=DURATION:PT1H
X-Robots-Tag:noindex
X-PUBLISHED-TTL:PT1H
BEGIN:VTIMEZONE
TZID:America/Edmonton
BEGIN:DAYLIGHT
TZOFFSETFROM:-0700
TZOFFSETTO:-0600
TZNAME:MDT
DTSTART:20230312T090000
END:DAYLIGHT
BEGIN:STANDARD
TZOFFSETFROM:-0600
TZOFFSETTO:-0700
TZNAME:MST
DTSTART:20231105T080000
END:STANDARD
BEGIN:DAYLIGHT
TZOFFSETFROM:-0700
TZOFFSETTO:-0600
TZNAME:MDT
DTSTART:20240310T090000
END:DAYLIGHT
BEGIN:STANDARD
TZOFFSETFROM:-0600
TZOFFSETTO:-0700
TZNAME:MST
DTSTART:20241103T080000
END:STANDARD
BEGIN:DAYLIGHT
TZOFFSETFROM:-0700
TZOFFSETTO:-0600
TZNAME:MDT
DTSTART:20250309T090000
END:DAYLIGHT
BEGIN:STANDARD
TZOFFSETFROM:-0600
TZOFFSETTO:-0700
TZNAME:MST
DTSTART:20251102T080000
END:STANDARD
END:VTIMEZONE
BEGIN:VEVENT
DTSTART;TZID=America/Edmonton:20240520T163000
DTEND;TZID=America/Edmonton:20240520T180000
DTSTAMP:20260421T125705
CREATED:20240402T204248Z
LAST-MODIFIED:20240402T204352Z
UID:10000426-1716222600-1716228000@mcmancalgary.ca
SUMMARY:Taming Worry Dragons - May 6th\, 8th\, 13th\, 15th\, 22nd & 27th - Ages 7-10
DESCRIPTION:Taming Worry Dragons\, Ages 7-10\, is 6 sessions total. Come join us at this workshop for kids to learn to trap and tame their worries and anxiety. The goal is to help children learn to reduce the frequency or intensity of their anxiety. \nMondays and Wednesdays May 6th\, 8th\, 13th\, 15th\, 22nd & 27th 4:30pm – 6:00pm \nTo register please contact Lacey at: \nlacey.gustavsen@mcmancaglary.ca \n403-801-6903 \n 
URL:https://mcmancalgary.ca/events/taming-worry-dragons-may-6th-8th-13th-15th-22nd-27th-ages-7-10/2024-05-20/
LOCATION:New Okotoks Office\, 72 N Railway St\, Okotoks\, Alberta\, T1S 1J3\, Canada
CATEGORIES:Okotoks,Okotoks FRN Child (7-13)
ORGANIZER;CN="Lacey Gustavsen":MAILTO:lacey.gustavsen@mcmancalgary.ca
END:VEVENT
BEGIN:VEVENT
DTSTART;TZID=America/Edmonton:20240513T163000
DTEND;TZID=America/Edmonton:20240513T180000
DTSTAMP:20260421T125705
CREATED:20240402T204248Z
LAST-MODIFIED:20240402T204352Z
UID:10000425-1715617800-1715623200@mcmancalgary.ca
SUMMARY:Taming Worry Dragons - May 6th\, 8th\, 13th\, 15th\, 22nd & 27th - Ages 7-10
DESCRIPTION:Taming Worry Dragons\, Ages 7-10\, is 6 sessions total. Come join us at this workshop for kids to learn to trap and tame their worries and anxiety. The goal is to help children learn to reduce the frequency or intensity of their anxiety. \nMondays and Wednesdays May 6th\, 8th\, 13th\, 15th\, 22nd & 27th 4:30pm – 6:00pm \nTo register please contact Lacey at: \nlacey.gustavsen@mcmancaglary.ca \n403-801-6903 \n 
URL:https://mcmancalgary.ca/events/taming-worry-dragons-may-6th-8th-13th-15th-22nd-27th-ages-7-10/2024-05-13/
LOCATION:New Okotoks Office\, 72 N Railway St\, Okotoks\, Alberta\, T1S 1J3\, Canada
CATEGORIES:Okotoks,Okotoks FRN Child (7-13)
ORGANIZER;CN="Lacey Gustavsen":MAILTO:lacey.gustavsen@mcmancalgary.ca
END:VEVENT
BEGIN:VEVENT
DTSTART;TZID=America/Edmonton:20240506T163000
DTEND;TZID=America/Edmonton:20240506T180000
DTSTAMP:20260421T125705
CREATED:20240402T204248Z
LAST-MODIFIED:20240402T204352Z
UID:10000424-1715013000-1715018400@mcmancalgary.ca
SUMMARY:Taming Worry Dragons - May 6th\, 8th\, 13th\, 15th\, 22nd & 27th - Ages 7-10
DESCRIPTION:Taming Worry Dragons\, Ages 7-10\, is 6 sessions total. Come join us at this workshop for kids to learn to trap and tame their worries and anxiety. The goal is to help children learn to reduce the frequency or intensity of their anxiety. \nMondays and Wednesdays May 6th\, 8th\, 13th\, 15th\, 22nd & 27th 4:30pm – 6:00pm \nTo register please contact Lacey at: \nlacey.gustavsen@mcmancaglary.ca \n403-801-6903 \n 
URL:https://mcmancalgary.ca/events/taming-worry-dragons-may-6th-8th-13th-15th-22nd-27th-ages-7-10/2024-05-06/
LOCATION:New Okotoks Office\, 72 N Railway St\, Okotoks\, Alberta\, T1S 1J3\, Canada
CATEGORIES:Okotoks,Okotoks FRN Child (7-13)
ORGANIZER;CN="Lacey Gustavsen":MAILTO:lacey.gustavsen@mcmancalgary.ca
END:VEVENT
BEGIN:VEVENT
DTSTART;TZID=America/Edmonton:20240424T163000
DTEND;TZID=America/Edmonton:20240424T180000
DTSTAMP:20260421T125705
CREATED:20240326T195117Z
LAST-MODIFIED:20240326T200438Z
UID:10000381-1713976200-1713981600@mcmancalgary.ca
SUMMARY:ZONES of REGULATION (Ages 10-13) - April 8th\, 10th\, 15th\, 17th\, 22nd & 24th 2024
DESCRIPTION:Zones of Regulation is a 6-session program. Come join us to learn how to manage emotions and build skills to express feelings in a healthy way! \n\nApril 8th\, 10th\, 15th\, 17th\, 18th\, 22nd & 24th 2024 4:30-6:00PM\n\nSnacks are provided for each group. \nContact Lacey Gustavsen at lacey.gustavsen@mcmancalgary.ca or (403)801-6903 to register.
URL:https://mcmancalgary.ca/events/zones-of-regulation-ages-10-13-april-8th-10th-15th-17th-22nd-24th-2024/2024-04-24/
LOCATION:New Okotoks Office\, 72 N Railway St\, Okotoks\, Alberta\, T1S 1J3\, Canada
CATEGORIES:Okotoks,Okotoks FRN Child (7-13)
ORGANIZER;CN="Lacey Gustavsen":MAILTO:lacey.gustavsen@mcmancalgary.ca
END:VEVENT
BEGIN:VEVENT
DTSTART;TZID=America/Edmonton:20240422T163000
DTEND;TZID=America/Edmonton:20240422T180000
DTSTAMP:20260421T125705
CREATED:20240326T195117Z
LAST-MODIFIED:20240326T200438Z
UID:10000380-1713803400-1713808800@mcmancalgary.ca
SUMMARY:ZONES of REGULATION (Ages 10-13) - April 8th\, 10th\, 15th\, 17th\, 22nd & 24th 2024
DESCRIPTION:Zones of Regulation is a 6-session program. Come join us to learn how to manage emotions and build skills to express feelings in a healthy way! \n\nApril 8th\, 10th\, 15th\, 17th\, 18th\, 22nd & 24th 2024 4:30-6:00PM\n\nSnacks are provided for each group. \nContact Lacey Gustavsen at lacey.gustavsen@mcmancalgary.ca or (403)801-6903 to register.
URL:https://mcmancalgary.ca/events/zones-of-regulation-ages-10-13-april-8th-10th-15th-17th-22nd-24th-2024/2024-04-22/
LOCATION:New Okotoks Office\, 72 N Railway St\, Okotoks\, Alberta\, T1S 1J3\, Canada
CATEGORIES:Okotoks,Okotoks FRN Child (7-13)
ORGANIZER;CN="Lacey Gustavsen":MAILTO:lacey.gustavsen@mcmancalgary.ca
END:VEVENT
BEGIN:VEVENT
DTSTART;TZID=America/Edmonton:20240419T150000
DTEND;TZID=America/Edmonton:20240419T170000
DTSTAMP:20260421T125705
CREATED:20240326T201343Z
LAST-MODIFIED:20240404T165823Z
UID:10000382-1713538800-1713546000@mcmancalgary.ca
SUMMARY:Upstart Art - Friday April 19th (Ages 7-13)
DESCRIPTION:Come learn and explore some basic art skills and put them to work in fun and engaging ways for youth aged 7-13. \nFriday April 19th from 3:00pm – 5:00pm \nSnacks are provided for each group. \nContact Lacey Gustavsen at lacey.gustavsen@mcmancalgary.ca or (403)801-6903 to register.
URL:https://mcmancalgary.ca/events/upstart-art-friday-april-19th-ages-7-13/
LOCATION:New Okotoks Office\, 72 N Railway St\, Okotoks\, Alberta\, T1S 1J3\, Canada
CATEGORIES:Okotoks,Okotoks FRN Child (7-13)
ORGANIZER;CN="Lacey Gustavsen":MAILTO:lacey.gustavsen@mcmancalgary.ca
END:VEVENT
BEGIN:VEVENT
DTSTART;TZID=America/Edmonton:20240417T163000
DTEND;TZID=America/Edmonton:20240417T180000
DTSTAMP:20260421T125705
CREATED:20240326T195117Z
LAST-MODIFIED:20240326T200438Z
UID:10000379-1713371400-1713376800@mcmancalgary.ca
SUMMARY:ZONES of REGULATION (Ages 10-13) - April 8th\, 10th\, 15th\, 17th\, 22nd & 24th 2024
DESCRIPTION:Zones of Regulation is a 6-session program. Come join us to learn how to manage emotions and build skills to express feelings in a healthy way! \n\nApril 8th\, 10th\, 15th\, 17th\, 18th\, 22nd & 24th 2024 4:30-6:00PM\n\nSnacks are provided for each group. \nContact Lacey Gustavsen at lacey.gustavsen@mcmancalgary.ca or (403)801-6903 to register.
URL:https://mcmancalgary.ca/events/zones-of-regulation-ages-10-13-april-8th-10th-15th-17th-22nd-24th-2024/2024-04-17/
LOCATION:New Okotoks Office\, 72 N Railway St\, Okotoks\, Alberta\, T1S 1J3\, Canada
CATEGORIES:Okotoks,Okotoks FRN Child (7-13)
ORGANIZER;CN="Lacey Gustavsen":MAILTO:lacey.gustavsen@mcmancalgary.ca
END:VEVENT
BEGIN:VEVENT
DTSTART;TZID=America/Edmonton:20240415T163000
DTEND;TZID=America/Edmonton:20240415T180000
DTSTAMP:20260421T125705
CREATED:20240326T195117Z
LAST-MODIFIED:20240326T200438Z
UID:10000378-1713198600-1713204000@mcmancalgary.ca
SUMMARY:ZONES of REGULATION (Ages 10-13) - April 8th\, 10th\, 15th\, 17th\, 22nd & 24th 2024
DESCRIPTION:Zones of Regulation is a 6-session program. Come join us to learn how to manage emotions and build skills to express feelings in a healthy way! \n\nApril 8th\, 10th\, 15th\, 17th\, 18th\, 22nd & 24th 2024 4:30-6:00PM\n\nSnacks are provided for each group. \nContact Lacey Gustavsen at lacey.gustavsen@mcmancalgary.ca or (403)801-6903 to register.
URL:https://mcmancalgary.ca/events/zones-of-regulation-ages-10-13-april-8th-10th-15th-17th-22nd-24th-2024/2024-04-15/
LOCATION:New Okotoks Office\, 72 N Railway St\, Okotoks\, Alberta\, T1S 1J3\, Canada
CATEGORIES:Okotoks,Okotoks FRN Child (7-13)
ORGANIZER;CN="Lacey Gustavsen":MAILTO:lacey.gustavsen@mcmancalgary.ca
END:VEVENT
BEGIN:VEVENT
DTSTART;TZID=America/Edmonton:20240410T163000
DTEND;TZID=America/Edmonton:20240410T180000
DTSTAMP:20260421T125705
CREATED:20240326T195117Z
LAST-MODIFIED:20240326T200438Z
UID:10000377-1712766600-1712772000@mcmancalgary.ca
SUMMARY:ZONES of REGULATION (Ages 10-13) - April 8th\, 10th\, 15th\, 17th\, 22nd & 24th 2024
DESCRIPTION:Zones of Regulation is a 6-session program. Come join us to learn how to manage emotions and build skills to express feelings in a healthy way! \n\nApril 8th\, 10th\, 15th\, 17th\, 18th\, 22nd & 24th 2024 4:30-6:00PM\n\nSnacks are provided for each group. \nContact Lacey Gustavsen at lacey.gustavsen@mcmancalgary.ca or (403)801-6903 to register.
URL:https://mcmancalgary.ca/events/zones-of-regulation-ages-10-13-april-8th-10th-15th-17th-22nd-24th-2024/2024-04-10/
LOCATION:New Okotoks Office\, 72 N Railway St\, Okotoks\, Alberta\, T1S 1J3\, Canada
CATEGORIES:Okotoks,Okotoks FRN Child (7-13)
ORGANIZER;CN="Lacey Gustavsen":MAILTO:lacey.gustavsen@mcmancalgary.ca
END:VEVENT
BEGIN:VEVENT
DTSTART;TZID=America/Edmonton:20240408T163000
DTEND;TZID=America/Edmonton:20240408T180000
DTSTAMP:20260421T125705
CREATED:20240326T195117Z
LAST-MODIFIED:20240326T200438Z
UID:10000376-1712593800-1712599200@mcmancalgary.ca
SUMMARY:ZONES of REGULATION (Ages 10-13) - April 8th\, 10th\, 15th\, 17th\, 22nd & 24th 2024
DESCRIPTION:Zones of Regulation is a 6-session program. Come join us to learn how to manage emotions and build skills to express feelings in a healthy way! \n\nApril 8th\, 10th\, 15th\, 17th\, 18th\, 22nd & 24th 2024 4:30-6:00PM\n\nSnacks are provided for each group. \nContact Lacey Gustavsen at lacey.gustavsen@mcmancalgary.ca or (403)801-6903 to register.
URL:https://mcmancalgary.ca/events/zones-of-regulation-ages-10-13-april-8th-10th-15th-17th-22nd-24th-2024/2024-04-08/
LOCATION:New Okotoks Office\, 72 N Railway St\, Okotoks\, Alberta\, T1S 1J3\, Canada
CATEGORIES:Okotoks,Okotoks FRN Child (7-13)
ORGANIZER;CN="Lacey Gustavsen":MAILTO:lacey.gustavsen@mcmancalgary.ca
END:VEVENT
BEGIN:VEVENT
DTSTART;TZID=America/Edmonton:20240405T150000
DTEND;TZID=America/Edmonton:20240405T170000
DTSTAMP:20260421T125705
CREATED:20240418T204000Z
LAST-MODIFIED:20240418T204000Z
UID:10000478-1712329200-1712336400@mcmancalgary.ca
SUMMARY:Friday Fun Day - June 7th 2024
DESCRIPTION:Come join us for a drop in program. This month’s Friday Fun Day will be a sensory exploration! \nJune 7th from 2:00pm – 5:00pm \nSnacks are provided for each group. \nContact Lacey Gustavsen at lacey.gustavsen@mcmancalgary.ca or (403)801-6903 to register.
URL:https://mcmancalgary.ca/events/friday-fun-day-june-7th-2024/
LOCATION:New Okotoks Office\, 72 N Railway St\, Okotoks\, Alberta\, T1S 1J3\, Canada
CATEGORIES:Okotoks,Okotoks FRN Child (7-13)
END:VEVENT
BEGIN:VEVENT
DTSTART;TZID=America/Edmonton:20240405T140000
DTEND;TZID=America/Edmonton:20240405T170000
DTSTAMP:20260421T125705
CREATED:20240325T203129Z
LAST-MODIFIED:20240326T200745Z
UID:10000264-1712325600-1712336400@mcmancalgary.ca
SUMMARY:Friday Fun Day - April 5th 2024
DESCRIPTION:Come join us for a drop in program. This month’s Friday Fun Day will be a sensory exploration! \nApril 5th from 2:00pm – 5:00pm \nSnacks are provided for each group. \nContact Lacey Gustavsen at lacey.gustavsen@mcmancalgary.ca or (403)801-6903 to register.
URL:https://mcmancalgary.ca/events/friday-fun-day-april-5th-2024/
LOCATION:New Okotoks Office\, 72 N Railway St\, Okotoks\, Alberta\, T1S 1J3\, Canada
CATEGORIES:Okotoks,Okotoks FRN Child (7-13)
END:VEVENT
BEGIN:VEVENT
DTSTART;TZID=America/Edmonton:20240130T163000
DTEND;TZID=America/Edmonton:20240130T180000
DTSTAMP:20260421T125705
CREATED:20240103T213141Z
LAST-MODIFIED:20240205T175050Z
UID:10000013-1706632200-1706637600@mcmancalgary.ca
SUMMARY:Taming Worry Dragons - January 4th\, 9th\, 11th\, 16th\, 18th\, 23rd and 30th (Ages 7-13)
DESCRIPTION:Taming Worry Dragons is a 7 session workshop for kids ages 7-13\, to learn to trap and tame their worries and anxiety. The goal is to help children learn to reduce the frequency or intensity of their anxiety. \n (Registration is for all 7 Sessions) \n\n January 4th\, 9th\, 11th\, 16th\, 18th\, 23rd\, and 30th\n\nSnacks are provided for each group. \nContact Lacey Gustavsen at lacey.gustavsen@mcmancalgary.ca or (403)801-6903 to register. \n 
URL:https://mcmancalgary.ca/events/kickstartmar-496/2024-01-30/
LOCATION:Okotoks Office\, 22 Crystal Ridge Drive\, Okotoks\, Alberta\, T1S 2C3\, Canada
CATEGORIES:Okotoks FRN Child (7-13)
ORGANIZER;CN="McMan Okotoks":MAILTO:okotoksfrn@mcmancalgary.ca
GEO:50.72885;-113.98281
X-APPLE-STRUCTURED-LOCATION;VALUE=URI;X-ADDRESS=Okotoks Office 22 Crystal Ridge Drive Okotoks Alberta T1S 2C3 Canada;X-APPLE-RADIUS=500;X-TITLE=22 Crystal Ridge Drive:geo:-113.98281,50.72885
END:VEVENT
BEGIN:VEVENT
DTSTART;TZID=America/Edmonton:20240123T163000
DTEND;TZID=America/Edmonton:20240123T180000
DTSTAMP:20260421T125705
CREATED:20240103T213141Z
LAST-MODIFIED:20240205T175050Z
UID:10000012-1706027400-1706032800@mcmancalgary.ca
SUMMARY:Taming Worry Dragons - January 4th\, 9th\, 11th\, 16th\, 18th\, 23rd and 30th (Ages 7-13)
DESCRIPTION:Taming Worry Dragons is a 7 session workshop for kids ages 7-13\, to learn to trap and tame their worries and anxiety. The goal is to help children learn to reduce the frequency or intensity of their anxiety. \n (Registration is for all 7 Sessions) \n\n January 4th\, 9th\, 11th\, 16th\, 18th\, 23rd\, and 30th\n\nSnacks are provided for each group. \nContact Lacey Gustavsen at lacey.gustavsen@mcmancalgary.ca or (403)801-6903 to register. \n 
URL:https://mcmancalgary.ca/events/kickstartmar-496/2024-01-23/
LOCATION:Okotoks Office\, 22 Crystal Ridge Drive\, Okotoks\, Alberta\, T1S 2C3\, Canada
CATEGORIES:Okotoks FRN Child (7-13)
ORGANIZER;CN="McMan Okotoks":MAILTO:okotoksfrn@mcmancalgary.ca
GEO:50.72885;-113.98281
X-APPLE-STRUCTURED-LOCATION;VALUE=URI;X-ADDRESS=Okotoks Office 22 Crystal Ridge Drive Okotoks Alberta T1S 2C3 Canada;X-APPLE-RADIUS=500;X-TITLE=22 Crystal Ridge Drive:geo:-113.98281,50.72885
END:VEVENT
BEGIN:VEVENT
DTSTART;TZID=America/Edmonton:20240122T163000
DTEND;TZID=America/Edmonton:20240122T180000
DTSTAMP:20260421T125705
CREATED:20240103T210451Z
LAST-MODIFIED:20240205T173750Z
UID:10000005-1705941000-1705946400@mcmancalgary.ca
SUMMARY:Drop In Board Game Nights - January 8th and 22nd
DESCRIPTION:Come and join us for a board game night! Board games played will be voted on by participants for youth aged 7-13. \nJanuary 8th and 22nd from 4:30pm – 6:00pm
URL:https://mcmancalgary.ca/events/drop-in-board-game-nights-january-8th-and-22nd-2/
LOCATION:New Okotoks Office\, 72 N Railway St\, Okotoks\, Alberta\, T1S 1J3\, Canada
CATEGORIES:Okotoks FRN Child (7-13)
ORGANIZER;CN="Lacey":MAILTO:lacey.Gustavsen@mcmancalgary.ca
END:VEVENT
BEGIN:VEVENT
DTSTART;TZID=America/Edmonton:20240119T160000
DTEND;TZID=America/Edmonton:20240119T173000
DTSTAMP:20260421T125705
CREATED:20231214T220313Z
LAST-MODIFIED:20240126T205959Z
UID:10000003-1705680000-1705685400@mcmancalgary.ca
SUMMARY:Upstart Art - January 19th 2024
DESCRIPTION:Come learn and explore some basic art skills and put them to work in fun and engaging ways for youth aged 7-13. \nJanuary 19th from 4:00pm – 5:30pm
URL:https://mcmancalgary.ca/events/upstart-art-june-605/
LOCATION:New Okotoks Office\, 72 N Railway St\, Okotoks\, Alberta\, T1S 1J3\, Canada
CATEGORIES:Okotoks FRN Child (7-13)
ORGANIZER;CN="Lacey":MAILTO:lacey.Gustavsen@mcmancalgary.ca
END:VEVENT
BEGIN:VEVENT
DTSTART;TZID=America/Edmonton:20240118T163000
DTEND;TZID=America/Edmonton:20240118T180000
DTSTAMP:20260421T125705
CREATED:20240103T213141Z
LAST-MODIFIED:20240205T175050Z
UID:10000011-1705595400-1705600800@mcmancalgary.ca
SUMMARY:Taming Worry Dragons - January 4th\, 9th\, 11th\, 16th\, 18th\, 23rd and 30th (Ages 7-13)
DESCRIPTION:Taming Worry Dragons is a 7 session workshop for kids ages 7-13\, to learn to trap and tame their worries and anxiety. The goal is to help children learn to reduce the frequency or intensity of their anxiety. \n (Registration is for all 7 Sessions) \n\n January 4th\, 9th\, 11th\, 16th\, 18th\, 23rd\, and 30th\n\nSnacks are provided for each group. \nContact Lacey Gustavsen at lacey.gustavsen@mcmancalgary.ca or (403)801-6903 to register. \n 
URL:https://mcmancalgary.ca/events/kickstartmar-496/2024-01-18/
LOCATION:Okotoks Office\, 22 Crystal Ridge Drive\, Okotoks\, Alberta\, T1S 2C3\, Canada
CATEGORIES:Okotoks FRN Child (7-13)
ORGANIZER;CN="McMan Okotoks":MAILTO:okotoksfrn@mcmancalgary.ca
GEO:50.72885;-113.98281
X-APPLE-STRUCTURED-LOCATION;VALUE=URI;X-ADDRESS=Okotoks Office 22 Crystal Ridge Drive Okotoks Alberta T1S 2C3 Canada;X-APPLE-RADIUS=500;X-TITLE=22 Crystal Ridge Drive:geo:-113.98281,50.72885
END:VEVENT
BEGIN:VEVENT
DTSTART;TZID=America/Edmonton:20240116T163000
DTEND;TZID=America/Edmonton:20240116T180000
DTSTAMP:20260421T125705
CREATED:20240103T213141Z
LAST-MODIFIED:20240205T175050Z
UID:10000010-1705422600-1705428000@mcmancalgary.ca
SUMMARY:Taming Worry Dragons - January 4th\, 9th\, 11th\, 16th\, 18th\, 23rd and 30th (Ages 7-13)
DESCRIPTION:Taming Worry Dragons is a 7 session workshop for kids ages 7-13\, to learn to trap and tame their worries and anxiety. The goal is to help children learn to reduce the frequency or intensity of their anxiety. \n (Registration is for all 7 Sessions) \n\n January 4th\, 9th\, 11th\, 16th\, 18th\, 23rd\, and 30th\n\nSnacks are provided for each group. \nContact Lacey Gustavsen at lacey.gustavsen@mcmancalgary.ca or (403)801-6903 to register. \n 
URL:https://mcmancalgary.ca/events/kickstartmar-496/2024-01-16/
LOCATION:Okotoks Office\, 22 Crystal Ridge Drive\, Okotoks\, Alberta\, T1S 2C3\, Canada
CATEGORIES:Okotoks FRN Child (7-13)
ORGANIZER;CN="McMan Okotoks":MAILTO:okotoksfrn@mcmancalgary.ca
GEO:50.72885;-113.98281
X-APPLE-STRUCTURED-LOCATION;VALUE=URI;X-ADDRESS=Okotoks Office 22 Crystal Ridge Drive Okotoks Alberta T1S 2C3 Canada;X-APPLE-RADIUS=500;X-TITLE=22 Crystal Ridge Drive:geo:-113.98281,50.72885
END:VEVENT
BEGIN:VEVENT
DTSTART;TZID=America/Edmonton:20240111T163000
DTEND;TZID=America/Edmonton:20240111T180000
DTSTAMP:20260421T125705
CREATED:20240103T213141Z
LAST-MODIFIED:20240205T175050Z
UID:10000009-1704990600-1704996000@mcmancalgary.ca
SUMMARY:Taming Worry Dragons - January 4th\, 9th\, 11th\, 16th\, 18th\, 23rd and 30th (Ages 7-13)
DESCRIPTION:Taming Worry Dragons is a 7 session workshop for kids ages 7-13\, to learn to trap and tame their worries and anxiety. The goal is to help children learn to reduce the frequency or intensity of their anxiety. \n (Registration is for all 7 Sessions) \n\n January 4th\, 9th\, 11th\, 16th\, 18th\, 23rd\, and 30th\n\nSnacks are provided for each group. \nContact Lacey Gustavsen at lacey.gustavsen@mcmancalgary.ca or (403)801-6903 to register. \n 
URL:https://mcmancalgary.ca/events/kickstartmar-496/2024-01-11/
LOCATION:Okotoks Office\, 22 Crystal Ridge Drive\, Okotoks\, Alberta\, T1S 2C3\, Canada
CATEGORIES:Okotoks FRN Child (7-13)
ORGANIZER;CN="McMan Okotoks":MAILTO:okotoksfrn@mcmancalgary.ca
GEO:50.72885;-113.98281
X-APPLE-STRUCTURED-LOCATION;VALUE=URI;X-ADDRESS=Okotoks Office 22 Crystal Ridge Drive Okotoks Alberta T1S 2C3 Canada;X-APPLE-RADIUS=500;X-TITLE=22 Crystal Ridge Drive:geo:-113.98281,50.72885
END:VEVENT
BEGIN:VEVENT
DTSTART;TZID=America/Edmonton:20240109T163000
DTEND;TZID=America/Edmonton:20240109T180000
DTSTAMP:20260421T125705
CREATED:20240103T213141Z
LAST-MODIFIED:20240205T175050Z
UID:10000008-1704817800-1704823200@mcmancalgary.ca
SUMMARY:Taming Worry Dragons - January 4th\, 9th\, 11th\, 16th\, 18th\, 23rd and 30th (Ages 7-13)
DESCRIPTION:Taming Worry Dragons is a 7 session workshop for kids ages 7-13\, to learn to trap and tame their worries and anxiety. The goal is to help children learn to reduce the frequency or intensity of their anxiety. \n (Registration is for all 7 Sessions) \n\n January 4th\, 9th\, 11th\, 16th\, 18th\, 23rd\, and 30th\n\nSnacks are provided for each group. \nContact Lacey Gustavsen at lacey.gustavsen@mcmancalgary.ca or (403)801-6903 to register. \n 
URL:https://mcmancalgary.ca/events/kickstartmar-496/2024-01-09/
LOCATION:Okotoks Office\, 22 Crystal Ridge Drive\, Okotoks\, Alberta\, T1S 2C3\, Canada
CATEGORIES:Okotoks FRN Child (7-13)
ORGANIZER;CN="McMan Okotoks":MAILTO:okotoksfrn@mcmancalgary.ca
GEO:50.72885;-113.98281
X-APPLE-STRUCTURED-LOCATION;VALUE=URI;X-ADDRESS=Okotoks Office 22 Crystal Ridge Drive Okotoks Alberta T1S 2C3 Canada;X-APPLE-RADIUS=500;X-TITLE=22 Crystal Ridge Drive:geo:-113.98281,50.72885
END:VEVENT
BEGIN:VEVENT
DTSTART;TZID=America/Edmonton:20240108T043000
DTEND;TZID=America/Edmonton:20240108T180000
DTSTAMP:20260421T125705
CREATED:20240103T210350Z
LAST-MODIFIED:20240205T173152Z
UID:10000004-1704688200-1704736800@mcmancalgary.ca
SUMMARY:Drop In Board Game Nights - January 8th and 22nd
DESCRIPTION:Come and join us for a board game night! Board games played will be voted on by participants for youth aged 7-13. \nJanuary 8th and 22nd from 4:30pm – 6:00pm
URL:https://mcmancalgary.ca/events/drop-in-board-game-nights-january-8th-and-22nd/
LOCATION:New Okotoks Office\, 72 N Railway St\, Okotoks\, Alberta\, T1S 1J3\, Canada
CATEGORIES:Okotoks FRN Child (7-13)
ORGANIZER;CN="Lacey":MAILTO:lacey.Gustavsen@mcmancalgary.ca
END:VEVENT
BEGIN:VEVENT
DTSTART;TZID=America/Edmonton:20240104T163000
DTEND;TZID=America/Edmonton:20240104T180000
DTSTAMP:20260421T125705
CREATED:20240103T213141Z
LAST-MODIFIED:20240205T175050Z
UID:10000007-1704385800-1704391200@mcmancalgary.ca
SUMMARY:Taming Worry Dragons - January 4th\, 9th\, 11th\, 16th\, 18th\, 23rd and 30th (Ages 7-13)
DESCRIPTION:Taming Worry Dragons is a 7 session workshop for kids ages 7-13\, to learn to trap and tame their worries and anxiety. The goal is to help children learn to reduce the frequency or intensity of their anxiety. \n (Registration is for all 7 Sessions) \n\n January 4th\, 9th\, 11th\, 16th\, 18th\, 23rd\, and 30th\n\nSnacks are provided for each group. \nContact Lacey Gustavsen at lacey.gustavsen@mcmancalgary.ca or (403)801-6903 to register. \n 
URL:https://mcmancalgary.ca/events/kickstartmar-496/2024-01-04/
LOCATION:Okotoks Office\, 22 Crystal Ridge Drive\, Okotoks\, Alberta\, T1S 2C3\, Canada
CATEGORIES:Okotoks FRN Child (7-13)
ORGANIZER;CN="McMan Okotoks":MAILTO:okotoksfrn@mcmancalgary.ca
GEO:50.72885;-113.98281
X-APPLE-STRUCTURED-LOCATION;VALUE=URI;X-ADDRESS=Okotoks Office 22 Crystal Ridge Drive Okotoks Alberta T1S 2C3 Canada;X-APPLE-RADIUS=500;X-TITLE=22 Crystal Ridge Drive:geo:-113.98281,50.72885
END:VEVENT
END:VCALENDAR