BEGIN:VCALENDAR
VERSION:2.0
PRODID:-//McMan Youth, Family and Community Services Association - ECPv6.15.20//NONSGML v1.0//EN
CALSCALE:GREGORIAN
METHOD:PUBLISH
X-WR-CALNAME:McMan Youth, Family and Community Services Association
X-ORIGINAL-URL:https://mcmancalgary.ca
X-WR-CALDESC:Events for McMan Youth, Family and Community Services Association
REFRESH-INTERVAL;VALUE=DURATION:PT1H
X-Robots-Tag:noindex
X-PUBLISHED-TTL:PT1H
BEGIN:VTIMEZONE
TZID:America/Edmonton
BEGIN:DAYLIGHT
TZOFFSETFROM:-0700
TZOFFSETTO:-0600
TZNAME:MDT
DTSTART:20230312T090000
END:DAYLIGHT
BEGIN:STANDARD
TZOFFSETFROM:-0600
TZOFFSETTO:-0700
TZNAME:MST
DTSTART:20231105T080000
END:STANDARD
BEGIN:DAYLIGHT
TZOFFSETFROM:-0700
TZOFFSETTO:-0600
TZNAME:MDT
DTSTART:20240310T090000
END:DAYLIGHT
BEGIN:STANDARD
TZOFFSETFROM:-0600
TZOFFSETTO:-0700
TZNAME:MST
DTSTART:20241103T080000
END:STANDARD
BEGIN:DAYLIGHT
TZOFFSETFROM:-0700
TZOFFSETTO:-0600
TZNAME:MDT
DTSTART:20250309T090000
END:DAYLIGHT
BEGIN:STANDARD
TZOFFSETFROM:-0600
TZOFFSETTO:-0700
TZNAME:MST
DTSTART:20251102T080000
END:STANDARD
END:VTIMEZONE
BEGIN:VEVENT
DTSTART;TZID=America/Edmonton:20241028T163000
DTEND;TZID=America/Edmonton:20241028T180000
DTSTAMP:20260420T224556
CREATED:20241002T180917Z
LAST-MODIFIED:20241010T171141Z
UID:10000644-1730133000-1730138400@mcmancalgary.ca
SUMMARY:Zones of Regulation - Ages 10-13 - October 7th\, 9th\, 16th\, 21st\, 23rd\, 28th & 30th - 4:30PM-6:00PM
DESCRIPTION:7 sessions total. Come join us to explore strategies to support emotional regulation and learn more about healthy ways to express our feelings. \nTo register please contact Lacey Gustavsen: \nLacey.Gustavsen@mcmancalgary.ca \n403-801-6903
URL:https://mcmancalgary.ca/events/zones-of-regulation-ages-10-13-october-7th-9th-16th-21st-23rd-28th-30th-430pm-600pm/2024-10-28/
LOCATION:New Okotoks Office\, 72 N Railway St\, Okotoks\, Alberta\, T1S 1J3\, Canada
CATEGORIES:Okotoks,Okotoks FRN Child (7-13)
ORGANIZER;CN="Lacey Gustavsen":MAILTO:lacey.gustavsen@mcmancalgary.ca
END:VEVENT
BEGIN:VEVENT
DTSTART;TZID=America/Edmonton:20241030T163000
DTEND;TZID=America/Edmonton:20241030T180000
DTSTAMP:20260420T224556
CREATED:20241002T180917Z
LAST-MODIFIED:20241010T171141Z
UID:10000645-1730305800-1730311200@mcmancalgary.ca
SUMMARY:Zones of Regulation - Ages 10-13 - October 7th\, 9th\, 16th\, 21st\, 23rd\, 28th & 30th - 4:30PM-6:00PM
DESCRIPTION:7 sessions total. Come join us to explore strategies to support emotional regulation and learn more about healthy ways to express our feelings. \nTo register please contact Lacey Gustavsen: \nLacey.Gustavsen@mcmancalgary.ca \n403-801-6903
URL:https://mcmancalgary.ca/events/zones-of-regulation-ages-10-13-october-7th-9th-16th-21st-23rd-28th-30th-430pm-600pm/2024-10-30/
LOCATION:New Okotoks Office\, 72 N Railway St\, Okotoks\, Alberta\, T1S 1J3\, Canada
CATEGORIES:Okotoks,Okotoks FRN Child (7-13)
ORGANIZER;CN="Lacey Gustavsen":MAILTO:lacey.gustavsen@mcmancalgary.ca
END:VEVENT
END:VCALENDAR