BEGIN:VCALENDAR
VERSION:2.0
PRODID:-//McMan Youth, Family and Community Services Association - ECPv6.15.20//NONSGML v1.0//EN
CALSCALE:GREGORIAN
METHOD:PUBLISH
X-WR-CALNAME:McMan Youth, Family and Community Services Association
X-ORIGINAL-URL:https://mcmancalgary.ca
X-WR-CALDESC:Events for McMan Youth, Family and Community Services Association
REFRESH-INTERVAL;VALUE=DURATION:PT1H
X-Robots-Tag:noindex
X-PUBLISHED-TTL:PT1H
BEGIN:VTIMEZONE
TZID:America/Edmonton
BEGIN:DAYLIGHT
TZOFFSETFROM:-0700
TZOFFSETTO:-0600
TZNAME:MDT
DTSTART:20230312T090000
END:DAYLIGHT
BEGIN:STANDARD
TZOFFSETFROM:-0600
TZOFFSETTO:-0700
TZNAME:MST
DTSTART:20231105T080000
END:STANDARD
BEGIN:DAYLIGHT
TZOFFSETFROM:-0700
TZOFFSETTO:-0600
TZNAME:MDT
DTSTART:20240310T090000
END:DAYLIGHT
BEGIN:STANDARD
TZOFFSETFROM:-0600
TZOFFSETTO:-0700
TZNAME:MST
DTSTART:20241103T080000
END:STANDARD
BEGIN:DAYLIGHT
TZOFFSETFROM:-0700
TZOFFSETTO:-0600
TZNAME:MDT
DTSTART:20250309T090000
END:DAYLIGHT
BEGIN:STANDARD
TZOFFSETFROM:-0600
TZOFFSETTO:-0700
TZNAME:MST
DTSTART:20251102T080000
END:STANDARD
END:VTIMEZONE
BEGIN:VEVENT
DTSTART;TZID=America/Edmonton:20241112T163000
DTEND;TZID=America/Edmonton:20241112T180000
DTSTAMP:20260420T205428
CREATED:20241010T173130Z
LAST-MODIFIED:20241010T173130Z
UID:10000658-1731429000-1731434400@mcmancalgary.ca
SUMMARY:Nurturing Noggins - Ages 10-13 - November 5th\, 7th\, 12th\, 14th\, 19 & 21st - 4:30PM to 6:00PM
DESCRIPTION:6 sessions total. Come join us as we explore ways to enhance life and social skills\, foster positive friendships and develop leadership abilities. Participants will engage in topics such as responsibility\, empathy\, coping strategies\, conflict resolution and more. \n 
URL:https://mcmancalgary.ca/events/nurturing-noggins-ages-10-13-november-5th-7th-12th-14th-19-21st-430pm-to-600pm/2024-11-12/
LOCATION:New Okotoks Office\, 72 N Railway St\, Okotoks\, Alberta\, T1S 1J3\, Canada
CATEGORIES:Okotoks,Okotoks FRN Child (7-13)
ORGANIZER;CN="Lacey Gustavsen":MAILTO:lacey.gustavsen@mcmancalgary.ca
END:VEVENT
BEGIN:VEVENT
DTSTART;TZID=America/Edmonton:20241113T163000
DTEND;TZID=America/Edmonton:20241113T183000
DTSTAMP:20260420T205428
CREATED:20241008T204943Z
LAST-MODIFIED:20241023T154102Z
UID:10000636-1731515400-1731522600@mcmancalgary.ca
SUMMARY:Taming Worry Dragons - Ages 7-10 - November 4th\, 6th\, 13th\, 18th & 20th - 4:30PM to 6:30PM
DESCRIPTION:5 sessions total. Come join us at this workshop for kids to learn to trap and tame their worries and anxiety. The goal is to help children learn to reduce the frequency or intensity of their anxiety. \n  \nTo register\, contact Lacey: \nlacey.gustavsen@mcmancalgary.ca \n403-801-6903 \n  \nAll programs are free \nSnacks provided at each group
URL:https://mcmancalgary.ca/events/taming-worry-dragons-ages-7-10-november-4th-6th-13th-18th-20th-430pm-to-630pm/2024-11-13/
LOCATION:New Okotoks Office\, 72 N Railway St\, Okotoks\, Alberta\, T1S 1J3\, Canada
CATEGORIES:Okotoks,Okotoks FRN Child (7-13)
ORGANIZER;CN="Lacey Gustavsen":MAILTO:lacey.gustavsen@mcmancalgary.ca
END:VEVENT
BEGIN:VEVENT
DTSTART;TZID=America/Edmonton:20241114T163000
DTEND;TZID=America/Edmonton:20241114T180000
DTSTAMP:20260420T205428
CREATED:20241010T173130Z
LAST-MODIFIED:20241010T173130Z
UID:10000659-1731601800-1731607200@mcmancalgary.ca
SUMMARY:Nurturing Noggins - Ages 10-13 - November 5th\, 7th\, 12th\, 14th\, 19 & 21st - 4:30PM to 6:00PM
DESCRIPTION:6 sessions total. Come join us as we explore ways to enhance life and social skills\, foster positive friendships and develop leadership abilities. Participants will engage in topics such as responsibility\, empathy\, coping strategies\, conflict resolution and more. \n 
URL:https://mcmancalgary.ca/events/nurturing-noggins-ages-10-13-november-5th-7th-12th-14th-19-21st-430pm-to-600pm/2024-11-14/
LOCATION:New Okotoks Office\, 72 N Railway St\, Okotoks\, Alberta\, T1S 1J3\, Canada
CATEGORIES:Okotoks,Okotoks FRN Child (7-13)
ORGANIZER;CN="Lacey Gustavsen":MAILTO:lacey.gustavsen@mcmancalgary.ca
END:VEVENT
BEGIN:VEVENT
DTSTART;TZID=America/Edmonton:20241115T140000
DTEND;TZID=America/Edmonton:20241115T160000
DTSTAMP:20260420T205428
CREATED:20241010T173610Z
LAST-MODIFIED:20241010T173610Z
UID:10000662-1731679200-1731686400@mcmancalgary.ca
SUMMARY:Upstart Art - Ages 7-13 - November 15th - 2:00PM to 4:00PM
DESCRIPTION:Come learn and explore some basic art skills and put them to work in a fun and engaging way. \n  \nTo register\, call\, text or email Lacey: \nlacey.gustavesen@mcmancalgary.ca \n403-801-6903 \n  \nPrograms are free. \nSnacks are included.
URL:https://mcmancalgary.ca/events/upstart-art-ages-7-13-november-15th-200pm-to-400pm/
LOCATION:New Okotoks Office\, 72 N Railway St\, Okotoks\, Alberta\, T1S 1J3\, Canada
CATEGORIES:Okotoks,Okotoks FRN Child (7-13)
ORGANIZER;CN="Lacey Gustavsen":MAILTO:lacey.gustavsen@mcmancalgary.ca
END:VEVENT
END:VCALENDAR