BEGIN:VCALENDAR
VERSION:2.0
PRODID:-//McMan Youth, Family and Community Services Association - ECPv6.15.20//NONSGML v1.0//EN
CALSCALE:GREGORIAN
METHOD:PUBLISH
X-ORIGINAL-URL:https://mcmancalgary.ca
X-WR-CALDESC:Events for McMan Youth, Family and Community Services Association
REFRESH-INTERVAL;VALUE=DURATION:PT1H
X-Robots-Tag:noindex
X-PUBLISHED-TTL:PT1H
BEGIN:VTIMEZONE
TZID:America/Edmonton
BEGIN:DAYLIGHT
TZOFFSETFROM:-0700
TZOFFSETTO:-0600
TZNAME:MDT
DTSTART:20240310T090000
END:DAYLIGHT
BEGIN:STANDARD
TZOFFSETFROM:-0600
TZOFFSETTO:-0700
TZNAME:MST
DTSTART:20241103T080000
END:STANDARD
BEGIN:DAYLIGHT
TZOFFSETFROM:-0700
TZOFFSETTO:-0600
TZNAME:MDT
DTSTART:20250309T090000
END:DAYLIGHT
BEGIN:STANDARD
TZOFFSETFROM:-0600
TZOFFSETTO:-0700
TZNAME:MST
DTSTART:20251102T080000
END:STANDARD
BEGIN:DAYLIGHT
TZOFFSETFROM:-0700
TZOFFSETTO:-0600
TZNAME:MDT
DTSTART:20260308T090000
END:DAYLIGHT
BEGIN:STANDARD
TZOFFSETFROM:-0600
TZOFFSETTO:-0700
TZNAME:MST
DTSTART:20261101T080000
END:STANDARD
END:VTIMEZONE
BEGIN:VEVENT
DTSTART;TZID=America/Edmonton:20250120T163000
DTEND;TZID=America/Edmonton:20250120T180000
DTSTAMP:20260420T081711
CREATED:20241217T214014Z
LAST-MODIFIED:20241217T214014Z
UID:10000746-1737390600-1737396000@mcmancalgary.ca
SUMMARY:Zones of Regulation - Ages 7-13
DESCRIPTION:6 sessions total. Come join us to explore strategies to support emotional regulation and learn more about healthy ways to express our feelings. \n(Please note\, it is recommended that for any participant in the Zones of Regulation program\, one of their parents/guardians attends the Zones of Regulation parent education program. This program is run by our Early Childhood Educator\, Roshelle. roshelle.stooshnov@mcmancalgary.ca) \n  \nMondays and Wednesdays \nJanuary 13th\, 15th\, 20th\, 22nd\, 27th & 29th \n4:30PM – 6:00PM \n  \nTo register\, call\, text or email Lacey: \nlacey.gustavsen@mcmancalgary.ca \n403-801-6903
URL:https://mcmancalgary.ca/events/zones-of-regulation-ages-7-13/2025-01-20/
LOCATION:New Okotoks Office\, 72 N Railway St\, Okotoks\, Alberta\, T1S 1J3\, Canada
CATEGORIES:Okotoks,Okotoks FRN Child (7-13)
END:VEVENT
BEGIN:VEVENT
DTSTART;TZID=America/Edmonton:20250121T163000
DTEND;TZID=America/Edmonton:20250121T180000
DTSTAMP:20260420T081711
CREATED:20241217T211239Z
LAST-MODIFIED:20241217T211239Z
UID:10000742-1737477000-1737482400@mcmancalgary.ca
SUMMARY:Nurturing Noggins - Ages 7 to 10
DESCRIPTION:6 sessions total. Come join us to explore ways to enhance life and social skills\, foster positive friendships and develop leadership abilities. Participants will engage in topics such as responsibility\, empathy\, coping strategies\, conflict resolution and more. \n  \nTuesdays and Thursdays \nJanuary 7th\, 9th\, 14th\, 16th\, 21st & 23rd \n4:30PM – 6:00PM \n  \nAll programs are free and snacks are included. \n  \nTo register\, call\, text or email Lacey: \nlacey.gustavsen@mcmancalgary.ca \n403-801-6903 \n 
URL:https://mcmancalgary.ca/events/nurturing-noggins-ages-7-to-10/2025-01-21/
LOCATION:New Okotoks Office\, 72 N Railway St\, Okotoks\, Alberta\, T1S 1J3\, Canada
CATEGORIES:Okotoks,Okotoks FRN Child (7-13)
END:VEVENT
BEGIN:VEVENT
DTSTART;TZID=America/Edmonton:20250122T163000
DTEND;TZID=America/Edmonton:20250122T180000
DTSTAMP:20260420T081711
CREATED:20241217T214014Z
LAST-MODIFIED:20241217T214014Z
UID:10000747-1737563400-1737568800@mcmancalgary.ca
SUMMARY:Zones of Regulation - Ages 7-13
DESCRIPTION:6 sessions total. Come join us to explore strategies to support emotional regulation and learn more about healthy ways to express our feelings. \n(Please note\, it is recommended that for any participant in the Zones of Regulation program\, one of their parents/guardians attends the Zones of Regulation parent education program. This program is run by our Early Childhood Educator\, Roshelle. roshelle.stooshnov@mcmancalgary.ca) \n  \nMondays and Wednesdays \nJanuary 13th\, 15th\, 20th\, 22nd\, 27th & 29th \n4:30PM – 6:00PM \n  \nTo register\, call\, text or email Lacey: \nlacey.gustavsen@mcmancalgary.ca \n403-801-6903
URL:https://mcmancalgary.ca/events/zones-of-regulation-ages-7-13/2025-01-22/
LOCATION:New Okotoks Office\, 72 N Railway St\, Okotoks\, Alberta\, T1S 1J3\, Canada
CATEGORIES:Okotoks,Okotoks FRN Child (7-13)
END:VEVENT
BEGIN:VEVENT
DTSTART;TZID=America/Edmonton:20250123T163000
DTEND;TZID=America/Edmonton:20250123T180000
DTSTAMP:20260420T081711
CREATED:20241217T211239Z
LAST-MODIFIED:20241217T211239Z
UID:10000743-1737649800-1737655200@mcmancalgary.ca
SUMMARY:Nurturing Noggins - Ages 7 to 10
DESCRIPTION:6 sessions total. Come join us to explore ways to enhance life and social skills\, foster positive friendships and develop leadership abilities. Participants will engage in topics such as responsibility\, empathy\, coping strategies\, conflict resolution and more. \n  \nTuesdays and Thursdays \nJanuary 7th\, 9th\, 14th\, 16th\, 21st & 23rd \n4:30PM – 6:00PM \n  \nAll programs are free and snacks are included. \n  \nTo register\, call\, text or email Lacey: \nlacey.gustavsen@mcmancalgary.ca \n403-801-6903 \n 
URL:https://mcmancalgary.ca/events/nurturing-noggins-ages-7-to-10/2025-01-23/
LOCATION:New Okotoks Office\, 72 N Railway St\, Okotoks\, Alberta\, T1S 1J3\, Canada
CATEGORIES:Okotoks,Okotoks FRN Child (7-13)
END:VEVENT
END:VCALENDAR