BEGIN:VCALENDAR
VERSION:2.0
PRODID:-//McMan Youth, Family and Community Services Association - ECPv6.15.20//NONSGML v1.0//EN
CALSCALE:GREGORIAN
METHOD:PUBLISH
X-WR-CALNAME:McMan Youth, Family and Community Services Association
X-ORIGINAL-URL:https://mcmancalgary.ca
X-WR-CALDESC:Events for McMan Youth, Family and Community Services Association
REFRESH-INTERVAL;VALUE=DURATION:PT1H
X-Robots-Tag:noindex
X-PUBLISHED-TTL:PT1H
BEGIN:VTIMEZONE
TZID:America/Edmonton
BEGIN:DAYLIGHT
TZOFFSETFROM:-0700
TZOFFSETTO:-0600
TZNAME:MDT
DTSTART:20240310T090000
END:DAYLIGHT
BEGIN:STANDARD
TZOFFSETFROM:-0600
TZOFFSETTO:-0700
TZNAME:MST
DTSTART:20241103T080000
END:STANDARD
BEGIN:DAYLIGHT
TZOFFSETFROM:-0700
TZOFFSETTO:-0600
TZNAME:MDT
DTSTART:20250309T090000
END:DAYLIGHT
BEGIN:STANDARD
TZOFFSETFROM:-0600
TZOFFSETTO:-0700
TZNAME:MST
DTSTART:20251102T080000
END:STANDARD
BEGIN:DAYLIGHT
TZOFFSETFROM:-0700
TZOFFSETTO:-0600
TZNAME:MDT
DTSTART:20260308T090000
END:DAYLIGHT
BEGIN:STANDARD
TZOFFSETFROM:-0600
TZOFFSETTO:-0700
TZNAME:MST
DTSTART:20261101T080000
END:STANDARD
END:VTIMEZONE
BEGIN:VEVENT
DTSTART;TZID=America/Edmonton:20250218T163000
DTEND;TZID=America/Edmonton:20250218T183000
DTSTAMP:20260420T094118
CREATED:20250109T175913Z
LAST-MODIFIED:20250204T215656Z
UID:10000800-1739896200-1739903400@mcmancalgary.ca
SUMMARY:Taming Worry Dragons - Ages 7-10
DESCRIPTION:5 sessions total. Come join us at this workshop for kids to learn to trap and tame their worries and anxiety. The goal is to help children learn to reduce the frequency or intensity of their anxiety. \n  \nTuesdays and Thursdays: February 4th\, 6th\, 11th\, 13th\, 18th & 20th \n4:30PM to 6:30PM \n  \nTo register\, please call\, text or email Lacey: \n403-801-6903 \nlacey.gustavsen@mcmancalgary.ca \n  \nAll programs are free.
URL:https://mcmancalgary.ca/events/taming-worry-dragons-ages-7-10/2025-02-18/
LOCATION:New Okotoks Office\, 72 N Railway St\, Okotoks\, Alberta\, T1S 1J3\, Canada
CATEGORIES:Okotoks,Okotoks FRN Child (7-13)
ORGANIZER;CN="McMan Okotoks":MAILTO:okotoksfrn@mcmancalgary.ca
END:VEVENT
BEGIN:VEVENT
DTSTART;TZID=America/Edmonton:20250220T163000
DTEND;TZID=America/Edmonton:20250220T183000
DTSTAMP:20260420T094118
CREATED:20250109T175913Z
LAST-MODIFIED:20250204T215656Z
UID:10000801-1740069000-1740076200@mcmancalgary.ca
SUMMARY:Taming Worry Dragons - Ages 7-10
DESCRIPTION:5 sessions total. Come join us at this workshop for kids to learn to trap and tame their worries and anxiety. The goal is to help children learn to reduce the frequency or intensity of their anxiety. \n  \nTuesdays and Thursdays: February 4th\, 6th\, 11th\, 13th\, 18th & 20th \n4:30PM to 6:30PM \n  \nTo register\, please call\, text or email Lacey: \n403-801-6903 \nlacey.gustavsen@mcmancalgary.ca \n  \nAll programs are free.
URL:https://mcmancalgary.ca/events/taming-worry-dragons-ages-7-10/2025-02-20/
LOCATION:New Okotoks Office\, 72 N Railway St\, Okotoks\, Alberta\, T1S 1J3\, Canada
CATEGORIES:Okotoks,Okotoks FRN Child (7-13)
ORGANIZER;CN="McMan Okotoks":MAILTO:okotoksfrn@mcmancalgary.ca
END:VEVENT
BEGIN:VEVENT
DTSTART;TZID=America/Edmonton:20250221T130000
DTEND;TZID=America/Edmonton:20250221T150000
DTSTAMP:20260420T094118
CREATED:20250108T214728Z
LAST-MODIFIED:20250108T214728Z
UID:10000794-1740142800-1740150000@mcmancalgary.ca
SUMMARY:Upstart Art - Ages 7-13
DESCRIPTION:Come learn and explore some basic art skills and put them to work in a fun and engaging way. \n  \nFebruary 21st – 1:00PM to 3:00PM \n  \nTo register\, call\, text or email Lacey: \n403-801-6903 \nlacey.gustavsen@mcmancalgary.ca
URL:https://mcmancalgary.ca/events/upstart-art-ages-7-13-4/
LOCATION:New Okotoks Office\, 72 N Railway St\, Okotoks\, Alberta\, T1S 1J3\, Canada
CATEGORIES:Okotoks,Okotoks FRN Child (7-13)
END:VEVENT
END:VCALENDAR