BEGIN:VCALENDAR
VERSION:2.0
PRODID:-//McMan Youth, Family and Community Services Association - ECPv6.15.20//NONSGML v1.0//EN
CALSCALE:GREGORIAN
METHOD:PUBLISH
X-WR-CALNAME:McMan Youth, Family and Community Services Association
X-ORIGINAL-URL:https://mcmancalgary.ca
X-WR-CALDESC:Events for McMan Youth, Family and Community Services Association
REFRESH-INTERVAL;VALUE=DURATION:PT1H
X-Robots-Tag:noindex
X-PUBLISHED-TTL:PT1H
BEGIN:VTIMEZONE
TZID:America/Edmonton
BEGIN:DAYLIGHT
TZOFFSETFROM:-0700
TZOFFSETTO:-0600
TZNAME:MDT
DTSTART:20240310T090000
END:DAYLIGHT
BEGIN:STANDARD
TZOFFSETFROM:-0600
TZOFFSETTO:-0700
TZNAME:MST
DTSTART:20241103T080000
END:STANDARD
BEGIN:DAYLIGHT
TZOFFSETFROM:-0700
TZOFFSETTO:-0600
TZNAME:MDT
DTSTART:20250309T090000
END:DAYLIGHT
BEGIN:STANDARD
TZOFFSETFROM:-0600
TZOFFSETTO:-0700
TZNAME:MST
DTSTART:20251102T080000
END:STANDARD
BEGIN:DAYLIGHT
TZOFFSETFROM:-0700
TZOFFSETTO:-0600
TZNAME:MDT
DTSTART:20260308T090000
END:DAYLIGHT
BEGIN:STANDARD
TZOFFSETFROM:-0600
TZOFFSETTO:-0700
TZNAME:MST
DTSTART:20261101T080000
END:STANDARD
END:VTIMEZONE
BEGIN:VEVENT
DTSTART;TZID=America/Edmonton:20250520T163000
DTEND;TZID=America/Edmonton:20250520T180000
DTSTAMP:20260419T201408
CREATED:20250408T171816Z
LAST-MODIFIED:20250408T171816Z
UID:10000926-1747758600-1747764000@mcmancalgary.ca
SUMMARY:Zones of Regulation - Ages 7 to 13
DESCRIPTION:6 sessions total. Come join us each Tuesday to explore strategies to support emotional regulation and learn more about healthy ways to express our feelings. \n  \nTuesdays – May 6th\, 13th\, 20th\, 27th\, June 3rd & 10th – 4:30 PM to 6:00 PM \n  \nTo register\, call\, text or email Lacey: \nlacey.gustavsen@mcmancalgary.ca \n403-801-6903 \n  \nPrograms are free and are held at 72 North Railway Street\, Okotoks.
URL:https://mcmancalgary.ca/events/zones-of-regulation-ages-7-to-13-2/2025-05-20/
LOCATION:New Okotoks Office\, 72 N Railway St\, Okotoks\, Alberta\, T1S 1J3\, Canada
CATEGORIES:Okotoks,Okotoks FRN Child (7-13)
END:VEVENT
BEGIN:VEVENT
DTSTART;TZID=America/Edmonton:20250523T140000
DTEND;TZID=America/Edmonton:20250523T160000
DTSTAMP:20260419T201408
CREATED:20250408T173705Z
LAST-MODIFIED:20250408T173705Z
UID:10000930-1748008800-1748016000@mcmancalgary.ca
SUMMARY:Upstart Art - Ages 7 to 13
DESCRIPTION:Come learn and explore some basic art skills and put them to work in a fun and engaging way. \n  \nFriday May 23rd – 2:00 PM to 4:00 PM \n  \nTo register\, call\, text or email Lacey: \nlacey.gustavsen@mcmancalgary.ca \n403-801-6903 \n  \nPrograms are free and are held at 72 North Railway Street\, Okotoks
URL:https://mcmancalgary.ca/events/upstart-art-ages-7-to-13-3/
LOCATION:New Okotoks Office\, 72 N Railway St\, Okotoks\, Alberta\, T1S 1J3\, Canada
CATEGORIES:Okotoks,Okotoks FRN Child (7-13)
ORGANIZER;CN="Lacey Gustavsen":MAILTO:lacey.gustavsen@mcmancalgary.ca
END:VEVENT
END:VCALENDAR