BEGIN:VCALENDAR
VERSION:2.0
PRODID:-//McMan Youth, Family and Community Services Association - ECPv6.15.20//NONSGML v1.0//EN
CALSCALE:GREGORIAN
METHOD:PUBLISH
X-ORIGINAL-URL:https://mcmancalgary.ca
X-WR-CALDESC:Events for McMan Youth, Family and Community Services Association
REFRESH-INTERVAL;VALUE=DURATION:PT1H
X-Robots-Tag:noindex
X-PUBLISHED-TTL:PT1H
BEGIN:VTIMEZONE
TZID:America/Edmonton
BEGIN:DAYLIGHT
TZOFFSETFROM:-0700
TZOFFSETTO:-0600
TZNAME:MDT
DTSTART:20230312T090000
END:DAYLIGHT
BEGIN:STANDARD
TZOFFSETFROM:-0600
TZOFFSETTO:-0700
TZNAME:MST
DTSTART:20231105T080000
END:STANDARD
BEGIN:DAYLIGHT
TZOFFSETFROM:-0700
TZOFFSETTO:-0600
TZNAME:MDT
DTSTART:20240310T090000
END:DAYLIGHT
BEGIN:STANDARD
TZOFFSETFROM:-0600
TZOFFSETTO:-0700
TZNAME:MST
DTSTART:20241103T080000
END:STANDARD
BEGIN:DAYLIGHT
TZOFFSETFROM:-0700
TZOFFSETTO:-0600
TZNAME:MDT
DTSTART:20250309T090000
END:DAYLIGHT
BEGIN:STANDARD
TZOFFSETFROM:-0600
TZOFFSETTO:-0700
TZNAME:MST
DTSTART:20251102T080000
END:STANDARD
END:VTIMEZONE
BEGIN:VEVENT
DTSTART;TZID=America/Edmonton:20241206T133000
DTEND;TZID=America/Edmonton:20241206T143000
DTSTAMP:20260420T162718
CREATED:20241031T204717Z
LAST-MODIFIED:20241105T184005Z
UID:10000688-1733491800-1733495400@mcmancalgary.ca
SUMMARY:Music for Life - 4 - 7 years - December 6th\, 11th & 19th
DESCRIPTION:Come with your child to sing songs\, explore musical instruments for the first time in a fun and interactive way with peers of similar ages. \n  \nDecember 6th – 1:30PM TO 2:30PM \nDecember 11th – 1:30PM TO 2;30PM \nDecember 19th – 10:00AM TO 11:00AM \n  \nTo register\, call\, text or email Roshelle: \nroshelle.stooshnov@mcmancalgary.ca \n403-620-0510 \nPrograms are free.
URL:https://mcmancalgary.ca/events/music-for-life-4-7-years-december-6th-11th-19th/2024-12-06/
LOCATION:New Okotoks Office\, 72 N Railway St\, Okotoks\, Alberta\, T1S 1J3\, Canada
CATEGORIES:Okotoks,Okotoks FRN Parent / Caregiver
END:VEVENT
BEGIN:VEVENT
DTSTART;TZID=America/Edmonton:20241211T133000
DTEND;TZID=America/Edmonton:20241211T143000
DTSTAMP:20260420T162718
CREATED:20241031T204717Z
LAST-MODIFIED:20241105T184005Z
UID:10000689-1733923800-1733927400@mcmancalgary.ca
SUMMARY:Music for Life - 4 - 7 years - December 6th\, 11th & 19th
DESCRIPTION:Come with your child to sing songs\, explore musical instruments for the first time in a fun and interactive way with peers of similar ages. \n  \nDecember 6th – 1:30PM TO 2:30PM \nDecember 11th – 1:30PM TO 2;30PM \nDecember 19th – 10:00AM TO 11:00AM \n  \nTo register\, call\, text or email Roshelle: \nroshelle.stooshnov@mcmancalgary.ca \n403-620-0510 \nPrograms are free.
URL:https://mcmancalgary.ca/events/music-for-life-4-7-years-december-6th-11th-19th/2024-12-11/
LOCATION:New Okotoks Office\, 72 N Railway St\, Okotoks\, Alberta\, T1S 1J3\, Canada
CATEGORIES:Okotoks,Okotoks FRN Parent / Caregiver
END:VEVENT
BEGIN:VEVENT
DTSTART;TZID=America/Edmonton:20241219T100000
DTEND;TZID=America/Edmonton:20241219T110000
DTSTAMP:20260420T162718
CREATED:20241031T204717Z
LAST-MODIFIED:20241105T184005Z
UID:10000690-1734602400-1734606000@mcmancalgary.ca
SUMMARY:Music for Life - 4 - 7 years - December 6th\, 11th & 19th
DESCRIPTION:Come with your child to sing songs\, explore musical instruments for the first time in a fun and interactive way with peers of similar ages. \n  \nDecember 6th – 1:30PM TO 2:30PM \nDecember 11th – 1:30PM TO 2;30PM \nDecember 19th – 10:00AM TO 11:00AM \n  \nTo register\, call\, text or email Roshelle: \nroshelle.stooshnov@mcmancalgary.ca \n403-620-0510 \nPrograms are free.
URL:https://mcmancalgary.ca/events/music-for-life-4-7-years-december-6th-11th-19th/2024-12-19/
LOCATION:New Okotoks Office\, 72 N Railway St\, Okotoks\, Alberta\, T1S 1J3\, Canada
CATEGORIES:Okotoks,Okotoks FRN Parent / Caregiver
END:VEVENT
END:VCALENDAR