BEGIN:VCALENDAR
VERSION:2.0
PRODID:-//McMan Youth, Family and Community Services Association - ECPv6.15.20//NONSGML v1.0//EN
CALSCALE:GREGORIAN
METHOD:PUBLISH
X-ORIGINAL-URL:https://mcmancalgary.ca
X-WR-CALDESC:Events for McMan Youth, Family and Community Services Association
REFRESH-INTERVAL;VALUE=DURATION:PT1H
X-Robots-Tag:noindex
X-PUBLISHED-TTL:PT1H
BEGIN:VTIMEZONE
TZID:America/Edmonton
BEGIN:DAYLIGHT
TZOFFSETFROM:-0700
TZOFFSETTO:-0600
TZNAME:MDT
DTSTART:20230312T090000
END:DAYLIGHT
BEGIN:STANDARD
TZOFFSETFROM:-0600
TZOFFSETTO:-0700
TZNAME:MST
DTSTART:20231105T080000
END:STANDARD
BEGIN:DAYLIGHT
TZOFFSETFROM:-0700
TZOFFSETTO:-0600
TZNAME:MDT
DTSTART:20240310T090000
END:DAYLIGHT
BEGIN:STANDARD
TZOFFSETFROM:-0600
TZOFFSETTO:-0700
TZNAME:MST
DTSTART:20241103T080000
END:STANDARD
BEGIN:DAYLIGHT
TZOFFSETFROM:-0700
TZOFFSETTO:-0600
TZNAME:MDT
DTSTART:20250309T090000
END:DAYLIGHT
BEGIN:STANDARD
TZOFFSETFROM:-0600
TZOFFSETTO:-0700
TZNAME:MST
DTSTART:20251102T080000
END:STANDARD
END:VTIMEZONE
BEGIN:VEVENT
DTSTART;TZID=America/Edmonton:20240514T180000
DTEND;TZID=America/Edmonton:20240514T193000
DTSTAMP:20260425T065217
CREATED:20240404T164714Z
LAST-MODIFIED:20240404T164714Z
UID:10000440-1715709600-1715715000@mcmancalgary.ca
SUMMARY:Triple P Parenting - April 2nd\, 9th\, 16th\, 23rd\, 30th\, May 7th\, 14th & 21st
DESCRIPTION:Triple P Parenting is an 8 week workshop is an opportunity to join other parents to develop simple and practical strategies you can adapt to suit your family’s values\, beliefs and needs. Must attend all sessions. \nTuesdays April 2nd\, 9th\, 16th\, 23rd\, 30th\, May 7th\, 14th and 21st\, 6:00PM – 7:30PM \n 
URL:https://mcmancalgary.ca/events/triple-p-parenting-april-2nd-9th-16th-23rd-30th-may-7th-14th-21st/2024-05-14/
LOCATION:New Okotoks Office\, 72 N Railway St\, Okotoks\, Alberta\, T1S 1J3\, Canada
CATEGORIES:Okotoks,Okotoks FRN Parent / Caregiver
END:VEVENT
BEGIN:VEVENT
DTSTART;TZID=America/Edmonton:20240515T093000
DTEND;TZID=America/Edmonton:20240515T110000
DTSTAMP:20260425T065217
CREATED:20240404T200530Z
LAST-MODIFIED:20240404T201222Z
UID:10000471-1715765400-1715770800@mcmancalgary.ca
SUMMARY:Stress Busters Part 2 - Building Empowerment and Resiliency in Children - May 1st\, 8th & 15th
DESCRIPTION:This is a 3 part follow up to Stress Busters part 1. Parents and caregivers will determine their child’s resiliency skills and how to use these skills to build their child’s confidence to tackle “hard things”. Must attend all sessions. \nWednesdays – May 1st\, 8th & 15th\, 9:30am-11:00am.
URL:https://mcmancalgary.ca/events/stress-busters-part-2-building-empowerment-and-resiliency-in-children-may-1st-8th-15th/2024-05-15/
LOCATION:New Okotoks Office\, 72 N Railway St\, Okotoks\, Alberta\, T1S 1J3\, Canada
CATEGORIES:Okotoks,Okotoks FRN Parent / Caregiver
END:VEVENT
BEGIN:VEVENT
DTSTART;TZID=America/Edmonton:20240516T130000
DTEND;TZID=America/Edmonton:20240516T150000
DTSTAMP:20260425T065217
CREATED:20240409T185957Z
LAST-MODIFIED:20240502T192147Z
UID:10000475-1715864400-1715871600@mcmancalgary.ca
SUMMARY:Parent and Caregiver Water Safety - Thursday May 16th
DESCRIPTION:This certificate workshop is for parents\, grandparents\, teachers\, coaches\, camp leaders\, aides and anyone else who will be spending time caring for children around water this summer. Caregiver Water Safety is designed to help plan for water activities to prevent drowning and other water related injuries. The program is supplementary to water rescue however\, life saving techniques are not offered. \nThursday May 16th 1:00pm – 3:00pm
URL:https://mcmancalgary.ca/events/parent-and-caregiver-water-safety-thursday-may-16th/
LOCATION:New Okotoks Office\, 72 N Railway St\, Okotoks\, Alberta\, T1S 1J3\, Canada
CATEGORIES:Okotoks,Okotoks FRN Parent / Caregiver
END:VEVENT
BEGIN:VEVENT
DTSTART;TZID=America/Edmonton:20240516T180000
DTEND;TZID=America/Edmonton:20240516T200000
DTSTAMP:20260425T065217
CREATED:20240404T201922Z
LAST-MODIFIED:20240409T192439Z
UID:10000472-1715882400-1715889600@mcmancalgary.ca
SUMMARY:Mom's Night at the FRN - Thursday May 16th
DESCRIPTION:Calling all moms and female caregivers to join us for a night of fun\, laughs and discovery. This is the second of four evening s to celebrate the special women who do so much to strengthen and encourage the young people of our community. Registration will close on May 10 or when capacity is reached. \nThursday May 16th\, 6:00pm-8:00pm
URL:https://mcmancalgary.ca/events/moms-night-at-the-frn-thursday-may-16th/
LOCATION:New Okotoks Office\, 72 N Railway St\, Okotoks\, Alberta\, T1S 1J3\, Canada
CATEGORIES:Okotoks,Okotoks FRN Parent / Caregiver
END:VEVENT
BEGIN:VEVENT
DTSTART;TZID=America/Edmonton:20240517T093000
DTEND;TZID=America/Edmonton:20240517T110000
DTSTAMP:20260425T065217
CREATED:20240404T193156Z
LAST-MODIFIED:20240404T193156Z
UID:10000465-1715938200-1715943600@mcmancalgary.ca
SUMMARY:Circle of Security - April 5th\, 12th\, 19th\, 26th\, May 3rd\, 10th\, 17th & 24th
DESCRIPTION:Join other parents for this 8 week workshop and learn to enhance your relationships by recognizing your child’s nedds and mae sense of their behaviours. Must attend all sessions. \nFridays April 5th\, 12th\, 19th\, 26th\, May 3rd\, 10th\, 17th & 24th\, 9:30am – 11am. \n 
URL:https://mcmancalgary.ca/events/circle-of-security-april-5th-12th-19th-26th-may-3rd-10th-17th-24th/2024-05-17/
LOCATION:New Okotoks Office\, 72 N Railway St\, Okotoks\, Alberta\, T1S 1J3\, Canada
CATEGORIES:Okotoks,Okotoks FRN Parent / Caregiver
END:VEVENT
BEGIN:VEVENT
DTSTART;TZID=America/Edmonton:20240517T130000
DTEND;TZID=America/Edmonton:20240517T150000
DTSTAMP:20260425T065217
CREATED:20240404T202223Z
LAST-MODIFIED:20240409T192607Z
UID:10000473-1715950800-1715958000@mcmancalgary.ca
SUMMARY:Grand Connections - Friday May 17th
DESCRIPTION:Whether you are watching your grandchildren a couple times a month or raising them\, this gathering is for all grandparents who are providing care for their grandchildren in some way. We will meet other grandparents\, share experiences\, gain connections and learn how essential their roe is for their grandchildren. \nFriday May 17th\, 1:00pm-3:00pm \n  \n  \n 
URL:https://mcmancalgary.ca/events/grand-connections-friday-may-17th/
LOCATION:New Okotoks Office\, 72 N Railway St\, Okotoks\, Alberta\, T1S 1J3\, Canada
CATEGORIES:Okotoks,Okotoks FRN Parent / Caregiver
END:VEVENT
END:VCALENDAR