BEGIN:VCALENDAR
VERSION:2.0
PRODID:-//McMan Youth, Family and Community Services Association - ECPv6.15.20//NONSGML v1.0//EN
CALSCALE:GREGORIAN
METHOD:PUBLISH
X-WR-CALNAME:McMan Youth, Family and Community Services Association
X-ORIGINAL-URL:https://mcmancalgary.ca
X-WR-CALDESC:Events for McMan Youth, Family and Community Services Association
REFRESH-INTERVAL;VALUE=DURATION:PT1H
X-Robots-Tag:noindex
X-PUBLISHED-TTL:PT1H
BEGIN:VTIMEZONE
TZID:America/Edmonton
BEGIN:DAYLIGHT
TZOFFSETFROM:-0700
TZOFFSETTO:-0600
TZNAME:MDT
DTSTART:20240310T090000
END:DAYLIGHT
BEGIN:STANDARD
TZOFFSETFROM:-0600
TZOFFSETTO:-0700
TZNAME:MST
DTSTART:20241103T080000
END:STANDARD
BEGIN:DAYLIGHT
TZOFFSETFROM:-0700
TZOFFSETTO:-0600
TZNAME:MDT
DTSTART:20250309T090000
END:DAYLIGHT
BEGIN:STANDARD
TZOFFSETFROM:-0600
TZOFFSETTO:-0700
TZNAME:MST
DTSTART:20251102T080000
END:STANDARD
BEGIN:DAYLIGHT
TZOFFSETFROM:-0700
TZOFFSETTO:-0600
TZNAME:MDT
DTSTART:20260308T090000
END:DAYLIGHT
BEGIN:STANDARD
TZOFFSETFROM:-0600
TZOFFSETTO:-0700
TZNAME:MST
DTSTART:20261101T080000
END:STANDARD
END:VTIMEZONE
BEGIN:VEVENT
DTSTART;TZID=America/Edmonton:20250127T163000
DTEND;TZID=America/Edmonton:20250127T173000
DTSTAMP:20260420T214025
CREATED:20241211T213815Z
LAST-MODIFIED:20241211T213815Z
UID:10000736-1737995400-1737999000@mcmancalgary.ca
SUMMARY:Zones Of Regulation - January 13th\, 20th & 27th
DESCRIPTION:This parent course is designed to support their children in integrating strategies learned in the Child Life Skills Zones of Regulation course. Must attend all 3 sessions. \n  \nJanuary 13th\, 20th & 27th – 4:30PM to 5:30PM \n  \nAll programs are free and snacks are included. \n  \nTo register\, call\, text or email Roshelle: \nroshelle.stooshnov@mcmancalgary.ca \n403-620-0510 \n  \n  \n 
URL:https://mcmancalgary.ca/events/zones-of-regulation-january-13th-20th-27th/2025-01-27/
LOCATION:New Okotoks Office\, 72 N Railway St\, Okotoks\, Alberta\, T1S 1J3\, Canada
CATEGORIES:Okotoks,Okotoks FRN Parent / Caregiver
END:VEVENT
END:VCALENDAR