BEGIN:VCALENDAR
VERSION:2.0
PRODID:-//McMan Youth, Family and Community Services Association - ECPv6.15.20//NONSGML v1.0//EN
CALSCALE:GREGORIAN
METHOD:PUBLISH
X-WR-CALNAME:McMan Youth, Family and Community Services Association
X-ORIGINAL-URL:https://mcmancalgary.ca
X-WR-CALDESC:Events for McMan Youth, Family and Community Services Association
REFRESH-INTERVAL;VALUE=DURATION:PT1H
X-Robots-Tag:noindex
X-PUBLISHED-TTL:PT1H
BEGIN:VTIMEZONE
TZID:America/Edmonton
BEGIN:DAYLIGHT
TZOFFSETFROM:-0700
TZOFFSETTO:-0600
TZNAME:MDT
DTSTART:20240310T090000
END:DAYLIGHT
BEGIN:STANDARD
TZOFFSETFROM:-0600
TZOFFSETTO:-0700
TZNAME:MST
DTSTART:20241103T080000
END:STANDARD
BEGIN:DAYLIGHT
TZOFFSETFROM:-0700
TZOFFSETTO:-0600
TZNAME:MDT
DTSTART:20250309T090000
END:DAYLIGHT
BEGIN:STANDARD
TZOFFSETFROM:-0600
TZOFFSETTO:-0700
TZNAME:MST
DTSTART:20251102T080000
END:STANDARD
BEGIN:DAYLIGHT
TZOFFSETFROM:-0700
TZOFFSETTO:-0600
TZNAME:MDT
DTSTART:20260308T090000
END:DAYLIGHT
BEGIN:STANDARD
TZOFFSETFROM:-0600
TZOFFSETTO:-0700
TZNAME:MST
DTSTART:20261101T080000
END:STANDARD
END:VTIMEZONE
BEGIN:VEVENT
DTSTART;TZID=America/Edmonton:20250326T120000
DTEND;TZID=America/Edmonton:20250326T140000
DTSTAMP:20260419T235821
CREATED:20250108T205439Z
LAST-MODIFIED:20250204T214620Z
UID:10000782-1742990400-1742997600@mcmancalgary.ca
SUMMARY:Circle of Security (COS)
DESCRIPTION:Learn how to understand your child’s emotional world by learning to read emotional needs.\nLearn how to support your child’s ability to successfully manage emotions.\nEnhance the development of your child’ self esteem\, while honouring the wisdom and desire for their child to be secure.\n\n  \nProgram is held on Wednesdays: February 5th\, 12th\, 19th and 26th\, March 5th\, 12th\, 19th and 26th \n12:00PM – 2:00PM \nChildcare can be provided. \nAll programs are free.
URL:https://mcmancalgary.ca/events/circle-of-security-cos/2025-03-26/
LOCATION:New Okotoks Office\, 72 N Railway St\, Okotoks\, Alberta\, T1S 1J3\, Canada
CATEGORIES:Okotoks,Okotoks FRN Parent / Caregiver
END:VEVENT
BEGIN:VEVENT
DTSTART;TZID=America/Edmonton:20250326T120000
DTEND;TZID=America/Edmonton:20250326T140000
DTSTAMP:20260419T235821
CREATED:20250123T213324Z
LAST-MODIFIED:20250204T214705Z
UID:10000847-1742990400-1742997600@mcmancalgary.ca
SUMMARY:Circle of Security (COS)
DESCRIPTION:Learn how to understand your child’s emotional world by learning to read emotional needs.\nLearn how to support your child’s ability to successfully manage emotions.\nEnhance the development of your child’s self esteem\, while honoring the wisdom and desire for their child to be secure.\n\n  \nMarch 5th\, 12th\, 19th & 26th – 12:00PM to 2:00PM \n  \nTo register\, call\, email or text Roshelle: \nroshelle.stooshnov@mcmancalgary.ca \n403-620-0510 \n  \nAll programs are free. \nChildcare can be provided.
URL:https://mcmancalgary.ca/events/circle-of-security-cos-2/2025-03-26/
LOCATION:New Okotoks Office\, 72 N Railway St\, Okotoks\, Alberta\, T1S 1J3\, Canada
CATEGORIES:Okotoks,Okotoks FRN Parent / Caregiver
END:VEVENT
END:VCALENDAR