BEGIN:VCALENDAR
VERSION:2.0
PRODID:-//McMan Youth, Family and Community Services Association - ECPv6.15.20//NONSGML v1.0//EN
CALSCALE:GREGORIAN
METHOD:PUBLISH
X-WR-CALNAME:McMan Youth, Family and Community Services Association
X-ORIGINAL-URL:https://mcmancalgary.ca
X-WR-CALDESC:Events for McMan Youth, Family and Community Services Association
REFRESH-INTERVAL;VALUE=DURATION:PT1H
X-Robots-Tag:noindex
X-PUBLISHED-TTL:PT1H
BEGIN:VTIMEZONE
TZID:America/Edmonton
BEGIN:DAYLIGHT
TZOFFSETFROM:-0700
TZOFFSETTO:-0600
TZNAME:MDT
DTSTART:20230312T090000
END:DAYLIGHT
BEGIN:STANDARD
TZOFFSETFROM:-0600
TZOFFSETTO:-0700
TZNAME:MST
DTSTART:20231105T080000
END:STANDARD
BEGIN:DAYLIGHT
TZOFFSETFROM:-0700
TZOFFSETTO:-0600
TZNAME:MDT
DTSTART:20240310T090000
END:DAYLIGHT
BEGIN:STANDARD
TZOFFSETFROM:-0600
TZOFFSETTO:-0700
TZNAME:MST
DTSTART:20241103T080000
END:STANDARD
BEGIN:DAYLIGHT
TZOFFSETFROM:-0700
TZOFFSETTO:-0600
TZNAME:MDT
DTSTART:20250309T090000
END:DAYLIGHT
BEGIN:STANDARD
TZOFFSETFROM:-0600
TZOFFSETTO:-0700
TZNAME:MST
DTSTART:20251102T080000
END:STANDARD
END:VTIMEZONE
BEGIN:VEVENT
DTSTART;TZID=America/Edmonton:20241002T093000
DTEND;TZID=America/Edmonton:20241002T110000
DTSTAMP:20260422T100226
CREATED:20241003T192810Z
LAST-MODIFIED:20241003T192810Z
UID:10000619-1727861400-1727866800@mcmancalgary.ca
SUMMARY:Stay and Play - 0 to 5 Years - October 2nd\, 7th & 21st
DESCRIPTION:Explore the Fun Forest with all it’s toys and make new friends for future play dates. We believe in building connection and belonging within our community\, so come be a part of the Fun Forest community. \n-October 2nd 9:30AM to 11:00AM \n-October 7th 10:00AM to 11:30AM \n-October 21st 10:00AM to 11:00AM \n  \nTo register\, please contact Roshelle Stooshnov: \nRoshelle.Stooshnov@mcmancalgary.ca \n403-620-0510
URL:https://mcmancalgary.ca/events/stay-and-play-0-to-5-years-october-2nd-7th-21st/2024-10-02/
LOCATION:New Okotoks Office\, 72 N Railway St\, Okotoks\, Alberta\, T1S 1J3\, Canada
CATEGORIES:Okotoks,Okotoks FRN Parent & Child (0-6)
END:VEVENT
BEGIN:VEVENT
DTSTART;TZID=America/Edmonton:20241002T133000
DTEND;TZID=America/Edmonton:20241002T143000
DTSTAMP:20260422T100226
CREATED:20241003T191624Z
LAST-MODIFIED:20241003T191624Z
UID:10000615-1727875800-1727879400@mcmancalgary.ca
SUMMARY:Kids Yoga - 4 to 7 years - October 2nd\, 11th\, 18th & 25th
DESCRIPTION:Come join us for Kids Yoga and parent self-care time. Kids will build foundational yoga skills through deep breathing and positive affirmations\, while parents participate in self-care in a separate room. \n-October 2nd – 1:30PM to 2:30PM \n-October 11th – 1:30PM – 2:30PM \n-October 18th – 1:30PM – 2:30PM \n-October 25th – 1:30PM – 2:30PM \n  \nTo register\, please contact Roshelle Stooshnov: \nRoshelle.Stooshnov@mcmancalgary.ca \n403-620-0510
URL:https://mcmancalgary.ca/events/kids-yoga-4-to-7-years-october-2nd-11th-18th-25th/2024-10-02/
LOCATION:New Okotoks Office\, 72 N Railway St\, Okotoks\, Alberta\, T1S 1J3\, Canada
CATEGORIES:Okotoks,Okotoks FRN Parent & Child (0-6)
END:VEVENT
BEGIN:VEVENT
DTSTART;TZID=America/Edmonton:20241004T100000
DTEND;TZID=America/Edmonton:20241004T110000
DTSTAMP:20260422T100226
CREATED:20241003T164551Z
LAST-MODIFIED:20241003T164551Z
UID:10000607-1728036000-1728039600@mcmancalgary.ca
SUMMARY:Music for Life - 0-12 months - October 4th\, 9th\, 18th & 23rd
DESCRIPTION:Come with your child to sing songs\, explore musical instruments for the first time in a fun and interactive way with peers of similar ages. \n-October 4th – 10:00AM to 11:00AM \n-October 9th – 9:15AM to 10:15AM \n-October 18th – 10:00AM to 11:00AM \n-October 23rd – 9:15AM to 10:15AM \n  \nTo register please contact Roshelle Stooshnov: \n403-620-0510 \nRoshelle. Stooshnov@mcmancalgary.ca
URL:https://mcmancalgary.ca/events/music-for-life-0-12-months-october-4th-9th-18th-23rd/2024-10-04/
LOCATION:New Okotoks Office\, 72 N Railway St\, Okotoks\, Alberta\, T1S 1J3\, Canada
CATEGORIES:Okotoks,Okotoks FRN Parent & Child (0-6)
END:VEVENT
BEGIN:VEVENT
DTSTART;TZID=America/Edmonton:20241004T131500
DTEND;TZID=America/Edmonton:20241004T141500
DTSTAMP:20260422T100226
CREATED:20241003T174251Z
LAST-MODIFIED:20241003T174251Z
UID:10000611-1728047700-1728051300@mcmancalgary.ca
SUMMARY:Music for Life - 1 year to 4 years - October 4th\, 11th\, 16th & 25th
DESCRIPTION:Come with your child to sing songs\, explore musical instruments for the first time in a fun and interactive way with peers of similar ages. \n  \n-October 4th – 1:15PM to 2:15PM \n-October 11th – 10:00AM to 11:00AM \n-October 16th – 9:15AM to 10:15AM \n-October 25th – 10:00AM to 11:00AM \n  \nTo register\, please contact Roshelle Stooshnov: \nRoshelle.Stooshnov@mcmancalgary.ca \n403-620-0510
URL:https://mcmancalgary.ca/events/music-for-life-1-year-to-4-years-october-4th-11th-16th-25th/2024-10-04/
LOCATION:New Okotoks Office\, 72 N Railway St\, Okotoks\, Alberta\, T1S 1J3\, Canada
CATEGORIES:Okotoks,Okotoks FRN Parent & Child (0-6)
END:VEVENT
BEGIN:VEVENT
DTSTART;TZID=America/Edmonton:20241007T100000
DTEND;TZID=America/Edmonton:20241007T113000
DTSTAMP:20260422T100226
CREATED:20241003T192810Z
LAST-MODIFIED:20241003T192810Z
UID:10000620-1728295200-1728300600@mcmancalgary.ca
SUMMARY:Stay and Play - 0 to 5 Years - October 2nd\, 7th & 21st
DESCRIPTION:Explore the Fun Forest with all it’s toys and make new friends for future play dates. We believe in building connection and belonging within our community\, so come be a part of the Fun Forest community. \n-October 2nd 9:30AM to 11:00AM \n-October 7th 10:00AM to 11:30AM \n-October 21st 10:00AM to 11:00AM \n  \nTo register\, please contact Roshelle Stooshnov: \nRoshelle.Stooshnov@mcmancalgary.ca \n403-620-0510
URL:https://mcmancalgary.ca/events/stay-and-play-0-to-5-years-october-2nd-7th-21st/2024-10-07/
LOCATION:New Okotoks Office\, 72 N Railway St\, Okotoks\, Alberta\, T1S 1J3\, Canada
CATEGORIES:Okotoks,Okotoks FRN Parent & Child (0-6)
END:VEVENT
BEGIN:VEVENT
DTSTART;TZID=America/Edmonton:20241009T091500
DTEND;TZID=America/Edmonton:20241009T101500
DTSTAMP:20260422T100226
CREATED:20241003T164551Z
LAST-MODIFIED:20241003T164551Z
UID:10000608-1728465300-1728468900@mcmancalgary.ca
SUMMARY:Music for Life - 0-12 months - October 4th\, 9th\, 18th & 23rd
DESCRIPTION:Come with your child to sing songs\, explore musical instruments for the first time in a fun and interactive way with peers of similar ages. \n-October 4th – 10:00AM to 11:00AM \n-October 9th – 9:15AM to 10:15AM \n-October 18th – 10:00AM to 11:00AM \n-October 23rd – 9:15AM to 10:15AM \n  \nTo register please contact Roshelle Stooshnov: \n403-620-0510 \nRoshelle. Stooshnov@mcmancalgary.ca
URL:https://mcmancalgary.ca/events/music-for-life-0-12-months-october-4th-9th-18th-23rd/2024-10-09/
LOCATION:New Okotoks Office\, 72 N Railway St\, Okotoks\, Alberta\, T1S 1J3\, Canada
CATEGORIES:Okotoks,Okotoks FRN Parent & Child (0-6)
END:VEVENT
BEGIN:VEVENT
DTSTART;TZID=America/Edmonton:20241011T100000
DTEND;TZID=America/Edmonton:20241011T110000
DTSTAMP:20260422T100226
CREATED:20241003T174251Z
LAST-MODIFIED:20241003T174251Z
UID:10000612-1728640800-1728644400@mcmancalgary.ca
SUMMARY:Music for Life - 1 year to 4 years - October 4th\, 11th\, 16th & 25th
DESCRIPTION:Come with your child to sing songs\, explore musical instruments for the first time in a fun and interactive way with peers of similar ages. \n  \n-October 4th – 1:15PM to 2:15PM \n-October 11th – 10:00AM to 11:00AM \n-October 16th – 9:15AM to 10:15AM \n-October 25th – 10:00AM to 11:00AM \n  \nTo register\, please contact Roshelle Stooshnov: \nRoshelle.Stooshnov@mcmancalgary.ca \n403-620-0510
URL:https://mcmancalgary.ca/events/music-for-life-1-year-to-4-years-october-4th-11th-16th-25th/2024-10-11/
LOCATION:New Okotoks Office\, 72 N Railway St\, Okotoks\, Alberta\, T1S 1J3\, Canada
CATEGORIES:Okotoks,Okotoks FRN Parent & Child (0-6)
END:VEVENT
BEGIN:VEVENT
DTSTART;TZID=America/Edmonton:20241011T133000
DTEND;TZID=America/Edmonton:20241011T143000
DTSTAMP:20260422T100226
CREATED:20241003T191624Z
LAST-MODIFIED:20241003T191624Z
UID:10000616-1728653400-1728657000@mcmancalgary.ca
SUMMARY:Kids Yoga - 4 to 7 years - October 2nd\, 11th\, 18th & 25th
DESCRIPTION:Come join us for Kids Yoga and parent self-care time. Kids will build foundational yoga skills through deep breathing and positive affirmations\, while parents participate in self-care in a separate room. \n-October 2nd – 1:30PM to 2:30PM \n-October 11th – 1:30PM – 2:30PM \n-October 18th – 1:30PM – 2:30PM \n-October 25th – 1:30PM – 2:30PM \n  \nTo register\, please contact Roshelle Stooshnov: \nRoshelle.Stooshnov@mcmancalgary.ca \n403-620-0510
URL:https://mcmancalgary.ca/events/kids-yoga-4-to-7-years-october-2nd-11th-18th-25th/2024-10-11/
LOCATION:New Okotoks Office\, 72 N Railway St\, Okotoks\, Alberta\, T1S 1J3\, Canada
CATEGORIES:Okotoks,Okotoks FRN Parent & Child (0-6)
END:VEVENT
BEGIN:VEVENT
DTSTART;TZID=America/Edmonton:20241016T091500
DTEND;TZID=America/Edmonton:20241016T101500
DTSTAMP:20260422T100226
CREATED:20241003T174251Z
LAST-MODIFIED:20241003T174251Z
UID:10000613-1729070100-1729073700@mcmancalgary.ca
SUMMARY:Music for Life - 1 year to 4 years - October 4th\, 11th\, 16th & 25th
DESCRIPTION:Come with your child to sing songs\, explore musical instruments for the first time in a fun and interactive way with peers of similar ages. \n  \n-October 4th – 1:15PM to 2:15PM \n-October 11th – 10:00AM to 11:00AM \n-October 16th – 9:15AM to 10:15AM \n-October 25th – 10:00AM to 11:00AM \n  \nTo register\, please contact Roshelle Stooshnov: \nRoshelle.Stooshnov@mcmancalgary.ca \n403-620-0510
URL:https://mcmancalgary.ca/events/music-for-life-1-year-to-4-years-october-4th-11th-16th-25th/2024-10-16/
LOCATION:New Okotoks Office\, 72 N Railway St\, Okotoks\, Alberta\, T1S 1J3\, Canada
CATEGORIES:Okotoks,Okotoks FRN Parent & Child (0-6)
END:VEVENT
BEGIN:VEVENT
DTSTART;TZID=America/Edmonton:20241018T100000
DTEND;TZID=America/Edmonton:20241018T110000
DTSTAMP:20260422T100226
CREATED:20241003T164551Z
LAST-MODIFIED:20241003T164551Z
UID:10000609-1729245600-1729249200@mcmancalgary.ca
SUMMARY:Music for Life - 0-12 months - October 4th\, 9th\, 18th & 23rd
DESCRIPTION:Come with your child to sing songs\, explore musical instruments for the first time in a fun and interactive way with peers of similar ages. \n-October 4th – 10:00AM to 11:00AM \n-October 9th – 9:15AM to 10:15AM \n-October 18th – 10:00AM to 11:00AM \n-October 23rd – 9:15AM to 10:15AM \n  \nTo register please contact Roshelle Stooshnov: \n403-620-0510 \nRoshelle. Stooshnov@mcmancalgary.ca
URL:https://mcmancalgary.ca/events/music-for-life-0-12-months-october-4th-9th-18th-23rd/2024-10-18/
LOCATION:New Okotoks Office\, 72 N Railway St\, Okotoks\, Alberta\, T1S 1J3\, Canada
CATEGORIES:Okotoks,Okotoks FRN Parent & Child (0-6)
END:VEVENT
BEGIN:VEVENT
DTSTART;TZID=America/Edmonton:20241018T133000
DTEND;TZID=America/Edmonton:20241018T143000
DTSTAMP:20260422T100226
CREATED:20241003T191624Z
LAST-MODIFIED:20241003T191624Z
UID:10000617-1729258200-1729261800@mcmancalgary.ca
SUMMARY:Kids Yoga - 4 to 7 years - October 2nd\, 11th\, 18th & 25th
DESCRIPTION:Come join us for Kids Yoga and parent self-care time. Kids will build foundational yoga skills through deep breathing and positive affirmations\, while parents participate in self-care in a separate room. \n-October 2nd – 1:30PM to 2:30PM \n-October 11th – 1:30PM – 2:30PM \n-October 18th – 1:30PM – 2:30PM \n-October 25th – 1:30PM – 2:30PM \n  \nTo register\, please contact Roshelle Stooshnov: \nRoshelle.Stooshnov@mcmancalgary.ca \n403-620-0510
URL:https://mcmancalgary.ca/events/kids-yoga-4-to-7-years-october-2nd-11th-18th-25th/2024-10-18/
LOCATION:New Okotoks Office\, 72 N Railway St\, Okotoks\, Alberta\, T1S 1J3\, Canada
CATEGORIES:Okotoks,Okotoks FRN Parent & Child (0-6)
END:VEVENT
BEGIN:VEVENT
DTSTART;TZID=America/Edmonton:20241021T100000
DTEND;TZID=America/Edmonton:20241021T113000
DTSTAMP:20260422T100226
CREATED:20241003T192810Z
LAST-MODIFIED:20241003T192810Z
UID:10000621-1729504800-1729510200@mcmancalgary.ca
SUMMARY:Stay and Play - 0 to 5 Years - October 2nd\, 7th & 21st
DESCRIPTION:Explore the Fun Forest with all it’s toys and make new friends for future play dates. We believe in building connection and belonging within our community\, so come be a part of the Fun Forest community. \n-October 2nd 9:30AM to 11:00AM \n-October 7th 10:00AM to 11:30AM \n-October 21st 10:00AM to 11:00AM \n  \nTo register\, please contact Roshelle Stooshnov: \nRoshelle.Stooshnov@mcmancalgary.ca \n403-620-0510
URL:https://mcmancalgary.ca/events/stay-and-play-0-to-5-years-october-2nd-7th-21st/2024-10-21/
LOCATION:New Okotoks Office\, 72 N Railway St\, Okotoks\, Alberta\, T1S 1J3\, Canada
CATEGORIES:Okotoks,Okotoks FRN Parent & Child (0-6)
END:VEVENT
BEGIN:VEVENT
DTSTART;TZID=America/Edmonton:20241023T091500
DTEND;TZID=America/Edmonton:20241023T101500
DTSTAMP:20260422T100226
CREATED:20241003T164551Z
LAST-MODIFIED:20241003T164551Z
UID:10000610-1729674900-1729678500@mcmancalgary.ca
SUMMARY:Music for Life - 0-12 months - October 4th\, 9th\, 18th & 23rd
DESCRIPTION:Come with your child to sing songs\, explore musical instruments for the first time in a fun and interactive way with peers of similar ages. \n-October 4th – 10:00AM to 11:00AM \n-October 9th – 9:15AM to 10:15AM \n-October 18th – 10:00AM to 11:00AM \n-October 23rd – 9:15AM to 10:15AM \n  \nTo register please contact Roshelle Stooshnov: \n403-620-0510 \nRoshelle. Stooshnov@mcmancalgary.ca
URL:https://mcmancalgary.ca/events/music-for-life-0-12-months-october-4th-9th-18th-23rd/2024-10-23/
LOCATION:New Okotoks Office\, 72 N Railway St\, Okotoks\, Alberta\, T1S 1J3\, Canada
CATEGORIES:Okotoks,Okotoks FRN Parent & Child (0-6)
END:VEVENT
BEGIN:VEVENT
DTSTART;TZID=America/Edmonton:20241025T100000
DTEND;TZID=America/Edmonton:20241025T110000
DTSTAMP:20260422T100226
CREATED:20241003T174251Z
LAST-MODIFIED:20241003T174251Z
UID:10000614-1729850400-1729854000@mcmancalgary.ca
SUMMARY:Music for Life - 1 year to 4 years - October 4th\, 11th\, 16th & 25th
DESCRIPTION:Come with your child to sing songs\, explore musical instruments for the first time in a fun and interactive way with peers of similar ages. \n  \n-October 4th – 1:15PM to 2:15PM \n-October 11th – 10:00AM to 11:00AM \n-October 16th – 9:15AM to 10:15AM \n-October 25th – 10:00AM to 11:00AM \n  \nTo register\, please contact Roshelle Stooshnov: \nRoshelle.Stooshnov@mcmancalgary.ca \n403-620-0510
URL:https://mcmancalgary.ca/events/music-for-life-1-year-to-4-years-october-4th-11th-16th-25th/2024-10-25/
LOCATION:New Okotoks Office\, 72 N Railway St\, Okotoks\, Alberta\, T1S 1J3\, Canada
CATEGORIES:Okotoks,Okotoks FRN Parent & Child (0-6)
END:VEVENT
BEGIN:VEVENT
DTSTART;TZID=America/Edmonton:20241025T133000
DTEND;TZID=America/Edmonton:20241025T143000
DTSTAMP:20260422T100226
CREATED:20241003T191624Z
LAST-MODIFIED:20241003T191624Z
UID:10000618-1729863000-1729866600@mcmancalgary.ca
SUMMARY:Kids Yoga - 4 to 7 years - October 2nd\, 11th\, 18th & 25th
DESCRIPTION:Come join us for Kids Yoga and parent self-care time. Kids will build foundational yoga skills through deep breathing and positive affirmations\, while parents participate in self-care in a separate room. \n-October 2nd – 1:30PM to 2:30PM \n-October 11th – 1:30PM – 2:30PM \n-October 18th – 1:30PM – 2:30PM \n-October 25th – 1:30PM – 2:30PM \n  \nTo register\, please contact Roshelle Stooshnov: \nRoshelle.Stooshnov@mcmancalgary.ca \n403-620-0510
URL:https://mcmancalgary.ca/events/kids-yoga-4-to-7-years-october-2nd-11th-18th-25th/2024-10-25/
LOCATION:New Okotoks Office\, 72 N Railway St\, Okotoks\, Alberta\, T1S 1J3\, Canada
CATEGORIES:Okotoks,Okotoks FRN Parent & Child (0-6)
END:VEVENT
BEGIN:VEVENT
DTSTART;TZID=America/Edmonton:20241028T093000
DTEND;TZID=America/Edmonton:20241028T103000
DTSTAMP:20260422T100226
CREATED:20241003T193251Z
LAST-MODIFIED:20241003T193535Z
UID:10000622-1730107800-1730111400@mcmancalgary.ca
SUMMARY:Arts for Miles - 0-6 months - October 28th - 9:30AM to 10:30AM
DESCRIPTION:Parents\, babies and tots\, come join the FRN for the last week of the month for art week! Based on applying developmental milestones to guide interactive learning/play in an artistic manor. \n  \nTo register\, please contact Roshelle: \nRoshelle.Stooshnov@mcmancalgary.ca \n403-620-0510 \n  \n  \n 
URL:https://mcmancalgary.ca/events/arts-for-miles-0-6-months-october-28th-930am-to-1030am/
LOCATION:New Okotoks Office\, 72 N Railway St\, Okotoks\, Alberta\, T1S 1J3\, Canada
CATEGORIES:Okotoks,Okotoks FRN Parent & Child (0-6)
END:VEVENT
BEGIN:VEVENT
DTSTART;TZID=America/Edmonton:20241029T093000
DTEND;TZID=America/Edmonton:20241029T110000
DTSTAMP:20260422T100226
CREATED:20241003T195054Z
LAST-MODIFIED:20241003T195054Z
UID:10000623-1730194200-1730199600@mcmancalgary.ca
SUMMARY:Arts for Miles - 6-12 months - October 29th - 9:30AM to 11:00AM
DESCRIPTION:Parents\, babies and tots\, come join the FRN for the last week of the month for art week! Based on applying developmental milestones to guide interactive learning/play in an artistic manor. \n  \nTo register\, please contact Roshelle: \nRoshelle.Stooshnov@mcmancalgary.ca \n403-620-0510
URL:https://mcmancalgary.ca/events/arts-for-miles-6-12-months-october-29th-930am-to-1100am/
LOCATION:New Okotoks Office\, 72 N Railway St\, Okotoks\, Alberta\, T1S 1J3\, Canada
CATEGORIES:Okotoks,Okotoks FRN Parent & Child (0-6)
END:VEVENT
BEGIN:VEVENT
DTSTART;TZID=America/Edmonton:20241030T100000
DTEND;TZID=America/Edmonton:20241030T110000
DTSTAMP:20260422T100226
CREATED:20241003T195222Z
LAST-MODIFIED:20241003T195222Z
UID:10000624-1730282400-1730286000@mcmancalgary.ca
SUMMARY:Arts for Miles - 12-22 months - October 30th - 10:00AM to 11AM
DESCRIPTION:Parents\, babies and tots\, come join the FRN for the last week of the month for art week! Based on applying developmental milestones to guide interactive learning/play in an artistic manor. \n  \nTo register\, please contact Roshelle: \nRoshelle.Stooshnov@mcmancalgary.ca \n403-620-0510
URL:https://mcmancalgary.ca/events/arts-for-miles-12-22-months-october-30th-1000am-to-11am/
LOCATION:New Okotoks Office\, 72 N Railway St\, Okotoks\, Alberta\, T1S 1J3\, Canada
CATEGORIES:Okotoks,Okotoks FRN Parent & Child (0-6)
END:VEVENT
BEGIN:VEVENT
DTSTART;TZID=America/Edmonton:20241031T100000
DTEND;TZID=America/Edmonton:20241031T110000
DTSTAMP:20260422T100226
CREATED:20241003T195333Z
LAST-MODIFIED:20241003T195333Z
UID:10000625-1730368800-1730372400@mcmancalgary.ca
SUMMARY:Arts for Miles - 22-33 months - October 31st - 10:00AM to 11:00AM
DESCRIPTION:Parents\, babies and tots\, come join the FRN for the last week of the month for art week! Based on applying developmental milestones to guide interactive learning/play in an artistic manor. \n  \nTo register\, please contact Roshelle: \nRoshelle.Stooshnov@mcmancalgary.ca \n403-620-0510
URL:https://mcmancalgary.ca/events/arts-for-miles-22-33-months-october-31st-1000am-to-1100am/
LOCATION:New Okotoks Office\, 72 N Railway St\, Okotoks\, Alberta\, T1S 1J3\, Canada
CATEGORIES:Okotoks,Okotoks FRN Parent & Child (0-6)
END:VEVENT
BEGIN:VEVENT
DTSTART;TZID=America/Edmonton:20241031T131500
DTEND;TZID=America/Edmonton:20241031T141500
DTSTAMP:20260422T100226
CREATED:20241003T195455Z
LAST-MODIFIED:20241003T195455Z
UID:10000626-1730380500-1730384100@mcmancalgary.ca
SUMMARY:Arts for Miles - 33-42 Months - October 31st - 1:15PM to 2:15PM
DESCRIPTION:Parents\, babies and tots\, come join the FRN for the last week of the month for art week! Based on applying developmental milestones to guide interactive learning/play in an artistic manor. \n  \nTo register\, please contact Roshelle: \nRoshelle.Stooshnov@mcmancalgary.ca \n403-620-0510
URL:https://mcmancalgary.ca/events/arts-for-miles-33-42-months-october-31st-115pm-to-215pm/
LOCATION:New Okotoks Office\, 72 N Railway St\, Okotoks\, Alberta\, T1S 1J3\, Canada
CATEGORIES:Okotoks,Okotoks FRN Parent & Child (0-6)
END:VEVENT
END:VCALENDAR