BEGIN:VCALENDAR
VERSION:2.0
PRODID:-//McMan Youth, Family and Community Services Association - ECPv6.15.20//NONSGML v1.0//EN
CALSCALE:GREGORIAN
METHOD:PUBLISH
X-ORIGINAL-URL:https://mcmancalgary.ca
X-WR-CALDESC:Events for McMan Youth, Family and Community Services Association
REFRESH-INTERVAL;VALUE=DURATION:PT1H
X-Robots-Tag:noindex
X-PUBLISHED-TTL:PT1H
BEGIN:VTIMEZONE
TZID:America/Edmonton
BEGIN:DAYLIGHT
TZOFFSETFROM:-0700
TZOFFSETTO:-0600
TZNAME:MDT
DTSTART:20230312T090000
END:DAYLIGHT
BEGIN:STANDARD
TZOFFSETFROM:-0600
TZOFFSETTO:-0700
TZNAME:MST
DTSTART:20231105T080000
END:STANDARD
BEGIN:DAYLIGHT
TZOFFSETFROM:-0700
TZOFFSETTO:-0600
TZNAME:MDT
DTSTART:20240310T090000
END:DAYLIGHT
BEGIN:STANDARD
TZOFFSETFROM:-0600
TZOFFSETTO:-0700
TZNAME:MST
DTSTART:20241103T080000
END:STANDARD
BEGIN:DAYLIGHT
TZOFFSETFROM:-0700
TZOFFSETTO:-0600
TZNAME:MDT
DTSTART:20250309T090000
END:DAYLIGHT
BEGIN:STANDARD
TZOFFSETFROM:-0600
TZOFFSETTO:-0700
TZNAME:MST
DTSTART:20251102T080000
END:STANDARD
END:VTIMEZONE
BEGIN:VEVENT
DTSTART;TZID=America/Edmonton:20241009T091500
DTEND;TZID=America/Edmonton:20241009T101500
DTSTAMP:20260422T171039
CREATED:20241003T164551Z
LAST-MODIFIED:20241003T164551Z
UID:10000608-1728465300-1728468900@mcmancalgary.ca
SUMMARY:Music for Life - 0-12 months - October 4th\, 9th\, 18th & 23rd
DESCRIPTION:Come with your child to sing songs\, explore musical instruments for the first time in a fun and interactive way with peers of similar ages. \n-October 4th – 10:00AM to 11:00AM \n-October 9th – 9:15AM to 10:15AM \n-October 18th – 10:00AM to 11:00AM \n-October 23rd – 9:15AM to 10:15AM \n  \nTo register please contact Roshelle Stooshnov: \n403-620-0510 \nRoshelle. Stooshnov@mcmancalgary.ca
URL:https://mcmancalgary.ca/events/music-for-life-0-12-months-october-4th-9th-18th-23rd/2024-10-09/
LOCATION:New Okotoks Office\, 72 N Railway St\, Okotoks\, Alberta\, T1S 1J3\, Canada
CATEGORIES:Okotoks,Okotoks FRN Parent & Child (0-6)
END:VEVENT
END:VCALENDAR