BEGIN:VCALENDAR
VERSION:2.0
PRODID:-//McMan Youth, Family and Community Services Association - ECPv6.15.20//NONSGML v1.0//EN
CALSCALE:GREGORIAN
METHOD:PUBLISH
X-WR-CALNAME:McMan Youth, Family and Community Services Association
X-ORIGINAL-URL:https://mcmancalgary.ca
X-WR-CALDESC:Events for McMan Youth, Family and Community Services Association
REFRESH-INTERVAL;VALUE=DURATION:PT1H
X-Robots-Tag:noindex
X-PUBLISHED-TTL:PT1H
BEGIN:VTIMEZONE
TZID:America/Edmonton
BEGIN:DAYLIGHT
TZOFFSETFROM:-0700
TZOFFSETTO:-0600
TZNAME:MDT
DTSTART:20230312T090000
END:DAYLIGHT
BEGIN:STANDARD
TZOFFSETFROM:-0600
TZOFFSETTO:-0700
TZNAME:MST
DTSTART:20231105T080000
END:STANDARD
BEGIN:DAYLIGHT
TZOFFSETFROM:-0700
TZOFFSETTO:-0600
TZNAME:MDT
DTSTART:20240310T090000
END:DAYLIGHT
BEGIN:STANDARD
TZOFFSETFROM:-0600
TZOFFSETTO:-0700
TZNAME:MST
DTSTART:20241103T080000
END:STANDARD
BEGIN:DAYLIGHT
TZOFFSETFROM:-0700
TZOFFSETTO:-0600
TZNAME:MDT
DTSTART:20250309T090000
END:DAYLIGHT
BEGIN:STANDARD
TZOFFSETFROM:-0600
TZOFFSETTO:-0700
TZNAME:MST
DTSTART:20251102T080000
END:STANDARD
END:VTIMEZONE
BEGIN:VEVENT
DTSTART;TZID=America/Edmonton:20241031T100000
DTEND;TZID=America/Edmonton:20241031T110000
DTSTAMP:20260422T041928
CREATED:20241003T195333Z
LAST-MODIFIED:20241003T195333Z
UID:10000625-1730368800-1730372400@mcmancalgary.ca
SUMMARY:Arts for Miles - 22-33 months - October 31st - 10:00AM to 11:00AM
DESCRIPTION:Parents\, babies and tots\, come join the FRN for the last week of the month for art week! Based on applying developmental milestones to guide interactive learning/play in an artistic manor. \n  \nTo register\, please contact Roshelle: \nRoshelle.Stooshnov@mcmancalgary.ca \n403-620-0510
URL:https://mcmancalgary.ca/events/arts-for-miles-22-33-months-october-31st-1000am-to-1100am/
LOCATION:New Okotoks Office\, 72 N Railway St\, Okotoks\, Alberta\, T1S 1J3\, Canada
CATEGORIES:Okotoks,Okotoks FRN Parent & Child (0-6)
END:VEVENT
BEGIN:VEVENT
DTSTART;TZID=America/Edmonton:20241031T131500
DTEND;TZID=America/Edmonton:20241031T141500
DTSTAMP:20260422T041928
CREATED:20241003T195455Z
LAST-MODIFIED:20241003T195455Z
UID:10000626-1730380500-1730384100@mcmancalgary.ca
SUMMARY:Arts for Miles - 33-42 Months - October 31st - 1:15PM to 2:15PM
DESCRIPTION:Parents\, babies and tots\, come join the FRN for the last week of the month for art week! Based on applying developmental milestones to guide interactive learning/play in an artistic manor. \n  \nTo register\, please contact Roshelle: \nRoshelle.Stooshnov@mcmancalgary.ca \n403-620-0510
URL:https://mcmancalgary.ca/events/arts-for-miles-33-42-months-october-31st-115pm-to-215pm/
LOCATION:New Okotoks Office\, 72 N Railway St\, Okotoks\, Alberta\, T1S 1J3\, Canada
CATEGORIES:Okotoks,Okotoks FRN Parent & Child (0-6)
END:VEVENT
END:VCALENDAR