BEGIN:VCALENDAR
VERSION:2.0
PRODID:-//McMan Youth, Family and Community Services Association - ECPv6.15.20//NONSGML v1.0//EN
CALSCALE:GREGORIAN
METHOD:PUBLISH
X-WR-CALNAME:McMan Youth, Family and Community Services Association
X-ORIGINAL-URL:https://mcmancalgary.ca
X-WR-CALDESC:Events for McMan Youth, Family and Community Services Association
REFRESH-INTERVAL;VALUE=DURATION:PT1H
X-Robots-Tag:noindex
X-PUBLISHED-TTL:PT1H
BEGIN:VTIMEZONE
TZID:America/Edmonton
BEGIN:DAYLIGHT
TZOFFSETFROM:-0700
TZOFFSETTO:-0600
TZNAME:MDT
DTSTART:20230312T090000
END:DAYLIGHT
BEGIN:STANDARD
TZOFFSETFROM:-0600
TZOFFSETTO:-0700
TZNAME:MST
DTSTART:20231105T080000
END:STANDARD
BEGIN:DAYLIGHT
TZOFFSETFROM:-0700
TZOFFSETTO:-0600
TZNAME:MDT
DTSTART:20240310T090000
END:DAYLIGHT
BEGIN:STANDARD
TZOFFSETFROM:-0600
TZOFFSETTO:-0700
TZNAME:MST
DTSTART:20241103T080000
END:STANDARD
BEGIN:DAYLIGHT
TZOFFSETFROM:-0700
TZOFFSETTO:-0600
TZNAME:MDT
DTSTART:20250309T090000
END:DAYLIGHT
BEGIN:STANDARD
TZOFFSETFROM:-0600
TZOFFSETTO:-0700
TZNAME:MST
DTSTART:20251102T080000
END:STANDARD
BEGIN:DAYLIGHT
TZOFFSETFROM:-0700
TZOFFSETTO:-0600
TZNAME:MDT
DTSTART:20260308T090000
END:DAYLIGHT
BEGIN:STANDARD
TZOFFSETFROM:-0600
TZOFFSETTO:-0700
TZNAME:MST
DTSTART:20261101T080000
END:STANDARD
END:VTIMEZONE
BEGIN:VEVENT
DTSTART;TZID=America/Edmonton:20250124T100000
DTEND;TZID=America/Edmonton:20250124T110000
DTSTAMP:20260422T155249
CREATED:20241205T210906Z
LAST-MODIFIED:20241205T210906Z
UID:10000719-1737712800-1737716400@mcmancalgary.ca
SUMMARY:Music For Life - 0-5 years - January 10th\, 17th & 24th
DESCRIPTION:Join us with your child to sing songs\, explore musical instruments for the first time in a fun and interactive way with peers of similar ages. \nJanuary 10th – 10:00AM to 11:00AM \nJanuary 17th – 1:30PM to 2:30PM \nJanuary 24th – 10:00AM to 11:00AM \nAll programs are free. Snacks are included. \n  \nTo register\, call\, text or email Roshelle: \nRoshelle.stooshnov@mcmancalgary.ca \n403-620-0510
URL:https://mcmancalgary.ca/events/music-for-life-0-5-years-january-10th-17th-24th/2025-01-24/
LOCATION:New Okotoks Office\, 72 N Railway St\, Okotoks\, Alberta\, T1S 1J3\, Canada
CATEGORIES:Okotoks,Okotoks FRN Parent & Child (0-6)
END:VEVENT
BEGIN:VEVENT
DTSTART;TZID=America/Edmonton:20250122T113000
DTEND;TZID=America/Edmonton:20250122T123000
DTSTAMP:20260422T155249
CREATED:20241205T190957Z
LAST-MODIFIED:20241211T203831Z
UID:10000713-1737545400-1737549000@mcmancalgary.ca
SUMMARY:Music for Life - 0-12 months - January 8th\, 15th and 22nd
DESCRIPTION:Come with your child to sing songs\, explore musical instruments for the first time in a fun and interactive way with peers of similar ages. \n  \nJanuary 8th – 11:30AM to 12:30PM \nJanuary 15th – 10:30AM to 11:30AM \nJanuary 22nd – 11:30AM to 12:30PM \n  \nAll programs are free and snacks are included. \n  \nTo register\, call\, text or email Roshelle: \nroshelle.stooshnov@mcmancalgary.ca \n403-620-0510
URL:https://mcmancalgary.ca/events/music-for-life-0-12-months-january-8th-15th-and-22nd/2025-01-22/
LOCATION:New Okotoks Office\, 72 N Railway St\, Okotoks\, Alberta\, T1S 1J3\, Canada
CATEGORIES:Okotoks,Okotoks FRN Parent & Child (0-6)
END:VEVENT
BEGIN:VEVENT
DTSTART;TZID=America/Edmonton:20250120T100000
DTEND;TZID=America/Edmonton:20250120T110000
DTSTAMP:20260422T155249
CREATED:20241205T190352Z
LAST-MODIFIED:20241211T201608Z
UID:10000710-1737367200-1737370800@mcmancalgary.ca
SUMMARY:Music For Life - 1 to 4 years - January 6th\, 15th & 20th
DESCRIPTION:Come with your child to sing songs\, explore musical instruments for the first time in a fun and interactive way with peers of similar ages. \n  \nJanuary 6th – 10:00AM to 11:00AM \nJanuary 15th – 1:30PM to 2:30PM \nJanuary 20th – 10:00AM to 11:00AM \n  \nAll programs are free. Snacks are included. \n  \nTo register call\, text or email Roshelle: \nroshelle.stooshnov@mcmancalgary.ca \n403-620-0510
URL:https://mcmancalgary.ca/events/music-for-life-1-to-4-years-january-6th-15th-20th/2025-01-20/
LOCATION:New Okotoks Office\, 72 N Railway St\, Okotoks\, Alberta\, T1S 1J3\, Canada
CATEGORIES:Okotoks,Okotoks FRN Parent & Child (0-6)
END:VEVENT
BEGIN:VEVENT
DTSTART;TZID=America/Edmonton:20250117T133000
DTEND;TZID=America/Edmonton:20250117T143000
DTSTAMP:20260422T155249
CREATED:20241211T195002Z
LAST-MODIFIED:20241211T195002Z
UID:10000722-1737120600-1737124200@mcmancalgary.ca
SUMMARY:Stay And Play - 0-5 years - January 10th\, 17th & 24th
DESCRIPTION:Explore the Fun Forest with all it’s toys and make new friends for future play dates. We believe in building connection and belonging within our community\, so come be a part of the Fun Forest community. \nJanuary 10th – 10:00AM to 11:00AM \nJanuary 17th – 1:30PM to 2:30PM \nJanuary 24th – 10:00AM to 11:00AM \n  \nAll programs are free. Snacks are included. \n  \nTo register\, call\, text or email Roshelle: \nRoshelle.stooshnov@mcmancalgary.ca \n403-620-0510
URL:https://mcmancalgary.ca/events/stay-and-play-0-5-years-january-10th-17th-24th/2025-01-17/
LOCATION:New Okotoks Office\, 72 N Railway St\, Okotoks\, Alberta\, T1S 1J3\, Canada
CATEGORIES:Okotoks,Okotoks FRN Parent & Child (0-6)
END:VEVENT
BEGIN:VEVENT
DTSTART;TZID=America/Edmonton:20250117T133000
DTEND;TZID=America/Edmonton:20250117T143000
DTSTAMP:20260422T155249
CREATED:20241205T210906Z
LAST-MODIFIED:20241205T210906Z
UID:10000718-1737120600-1737124200@mcmancalgary.ca
SUMMARY:Music For Life - 0-5 years - January 10th\, 17th & 24th
DESCRIPTION:Join us with your child to sing songs\, explore musical instruments for the first time in a fun and interactive way with peers of similar ages. \nJanuary 10th – 10:00AM to 11:00AM \nJanuary 17th – 1:30PM to 2:30PM \nJanuary 24th – 10:00AM to 11:00AM \nAll programs are free. Snacks are included. \n  \nTo register\, call\, text or email Roshelle: \nRoshelle.stooshnov@mcmancalgary.ca \n403-620-0510
URL:https://mcmancalgary.ca/events/music-for-life-0-5-years-january-10th-17th-24th/2025-01-17/
LOCATION:New Okotoks Office\, 72 N Railway St\, Okotoks\, Alberta\, T1S 1J3\, Canada
CATEGORIES:Okotoks,Okotoks FRN Parent & Child (0-6)
END:VEVENT
BEGIN:VEVENT
DTSTART;TZID=America/Edmonton:20250117T133000
DTEND;TZID=America/Edmonton:20250117T143000
DTSTAMP:20260422T155249
CREATED:20241205T210257Z
LAST-MODIFIED:20241205T210257Z
UID:10000715-1737120600-1737124200@mcmancalgary.ca
SUMMARY:Music For Life - 4 to 7 years - January 10th\, 17th & 24th
DESCRIPTION:Come with your child to sing songs\, explore musical instruments for the first time in a fun and interactive way with peers of similar ages. Class is for ages 4 – 7 years. \nJanuary 10th – 1:30PM to 2:30PM \nJanuary 17th – 10:00AM to 11:00AM \nJanuary 24th – 1:30PM to 2:30PM \n  \nAll classes are free and snacks are included. \n  \nTo register\, call\, text or email Roshelle: \nRoshelle.stooshnov@mcmancalgary.ca \n403-620-0510 \n 
URL:https://mcmancalgary.ca/events/music-for-life-4-to-7-years-january-10th-17th-24th/2025-01-17/
LOCATION:New Okotoks Office\, 72 N Railway St\, Okotoks\, Alberta\, T1S 1J3\, Canada
CATEGORIES:Okotoks,Okotoks FRN Parent & Child (0-6)
END:VEVENT
BEGIN:VEVENT
DTSTART;TZID=America/Edmonton:20250115T133000
DTEND;TZID=America/Edmonton:20250115T143000
DTSTAMP:20260422T155249
CREATED:20241205T190352Z
LAST-MODIFIED:20241211T201608Z
UID:10000709-1736947800-1736951400@mcmancalgary.ca
SUMMARY:Music For Life - 1 to 4 years - January 6th\, 15th & 20th
DESCRIPTION:Come with your child to sing songs\, explore musical instruments for the first time in a fun and interactive way with peers of similar ages. \n  \nJanuary 6th – 10:00AM to 11:00AM \nJanuary 15th – 1:30PM to 2:30PM \nJanuary 20th – 10:00AM to 11:00AM \n  \nAll programs are free. Snacks are included. \n  \nTo register call\, text or email Roshelle: \nroshelle.stooshnov@mcmancalgary.ca \n403-620-0510
URL:https://mcmancalgary.ca/events/music-for-life-1-to-4-years-january-6th-15th-20th/2025-01-15/
LOCATION:New Okotoks Office\, 72 N Railway St\, Okotoks\, Alberta\, T1S 1J3\, Canada
CATEGORIES:Okotoks,Okotoks FRN Parent & Child (0-6)
END:VEVENT
BEGIN:VEVENT
DTSTART;TZID=America/Edmonton:20250115T103000
DTEND;TZID=America/Edmonton:20250115T113000
DTSTAMP:20260422T155249
CREATED:20241205T190957Z
LAST-MODIFIED:20241211T203831Z
UID:10000712-1736937000-1736940600@mcmancalgary.ca
SUMMARY:Music for Life - 0-12 months - January 8th\, 15th and 22nd
DESCRIPTION:Come with your child to sing songs\, explore musical instruments for the first time in a fun and interactive way with peers of similar ages. \n  \nJanuary 8th – 11:30AM to 12:30PM \nJanuary 15th – 10:30AM to 11:30AM \nJanuary 22nd – 11:30AM to 12:30PM \n  \nAll programs are free and snacks are included. \n  \nTo register\, call\, text or email Roshelle: \nroshelle.stooshnov@mcmancalgary.ca \n403-620-0510
URL:https://mcmancalgary.ca/events/music-for-life-0-12-months-january-8th-15th-and-22nd/2025-01-15/
LOCATION:New Okotoks Office\, 72 N Railway St\, Okotoks\, Alberta\, T1S 1J3\, Canada
CATEGORIES:Okotoks,Okotoks FRN Parent & Child (0-6)
END:VEVENT
BEGIN:VEVENT
DTSTART;TZID=America/Edmonton:20250110T100000
DTEND;TZID=America/Edmonton:20250110T110000
DTSTAMP:20260422T155249
CREATED:20241211T195002Z
LAST-MODIFIED:20241211T195002Z
UID:10000721-1736503200-1736506800@mcmancalgary.ca
SUMMARY:Stay And Play - 0-5 years - January 10th\, 17th & 24th
DESCRIPTION:Explore the Fun Forest with all it’s toys and make new friends for future play dates. We believe in building connection and belonging within our community\, so come be a part of the Fun Forest community. \nJanuary 10th – 10:00AM to 11:00AM \nJanuary 17th – 1:30PM to 2:30PM \nJanuary 24th – 10:00AM to 11:00AM \n  \nAll programs are free. Snacks are included. \n  \nTo register\, call\, text or email Roshelle: \nRoshelle.stooshnov@mcmancalgary.ca \n403-620-0510
URL:https://mcmancalgary.ca/events/stay-and-play-0-5-years-january-10th-17th-24th/2025-01-10/
LOCATION:New Okotoks Office\, 72 N Railway St\, Okotoks\, Alberta\, T1S 1J3\, Canada
CATEGORIES:Okotoks,Okotoks FRN Parent & Child (0-6)
END:VEVENT
BEGIN:VEVENT
DTSTART;TZID=America/Edmonton:20250110T100000
DTEND;TZID=America/Edmonton:20250110T110000
DTSTAMP:20260422T155249
CREATED:20241205T210906Z
LAST-MODIFIED:20241205T210906Z
UID:10000717-1736503200-1736506800@mcmancalgary.ca
SUMMARY:Music For Life - 0-5 years - January 10th\, 17th & 24th
DESCRIPTION:Join us with your child to sing songs\, explore musical instruments for the first time in a fun and interactive way with peers of similar ages. \nJanuary 10th – 10:00AM to 11:00AM \nJanuary 17th – 1:30PM to 2:30PM \nJanuary 24th – 10:00AM to 11:00AM \nAll programs are free. Snacks are included. \n  \nTo register\, call\, text or email Roshelle: \nRoshelle.stooshnov@mcmancalgary.ca \n403-620-0510
URL:https://mcmancalgary.ca/events/music-for-life-0-5-years-january-10th-17th-24th/2025-01-10/
LOCATION:New Okotoks Office\, 72 N Railway St\, Okotoks\, Alberta\, T1S 1J3\, Canada
CATEGORIES:Okotoks,Okotoks FRN Parent & Child (0-6)
END:VEVENT
BEGIN:VEVENT
DTSTART;TZID=America/Edmonton:20250110T100000
DTEND;TZID=America/Edmonton:20250110T110000
DTSTAMP:20260422T155249
CREATED:20241205T210257Z
LAST-MODIFIED:20241205T210257Z
UID:10000714-1736503200-1736506800@mcmancalgary.ca
SUMMARY:Music For Life - 4 to 7 years - January 10th\, 17th & 24th
DESCRIPTION:Come with your child to sing songs\, explore musical instruments for the first time in a fun and interactive way with peers of similar ages. Class is for ages 4 – 7 years. \nJanuary 10th – 1:30PM to 2:30PM \nJanuary 17th – 10:00AM to 11:00AM \nJanuary 24th – 1:30PM to 2:30PM \n  \nAll classes are free and snacks are included. \n  \nTo register\, call\, text or email Roshelle: \nRoshelle.stooshnov@mcmancalgary.ca \n403-620-0510 \n 
URL:https://mcmancalgary.ca/events/music-for-life-4-to-7-years-january-10th-17th-24th/2025-01-10/
LOCATION:New Okotoks Office\, 72 N Railway St\, Okotoks\, Alberta\, T1S 1J3\, Canada
CATEGORIES:Okotoks,Okotoks FRN Parent & Child (0-6)
END:VEVENT
BEGIN:VEVENT
DTSTART;TZID=America/Edmonton:20250108T113000
DTEND;TZID=America/Edmonton:20250108T123000
DTSTAMP:20260422T155249
CREATED:20241205T190957Z
LAST-MODIFIED:20241211T203831Z
UID:10000711-1736335800-1736339400@mcmancalgary.ca
SUMMARY:Music for Life - 0-12 months - January 8th\, 15th and 22nd
DESCRIPTION:Come with your child to sing songs\, explore musical instruments for the first time in a fun and interactive way with peers of similar ages. \n  \nJanuary 8th – 11:30AM to 12:30PM \nJanuary 15th – 10:30AM to 11:30AM \nJanuary 22nd – 11:30AM to 12:30PM \n  \nAll programs are free and snacks are included. \n  \nTo register\, call\, text or email Roshelle: \nroshelle.stooshnov@mcmancalgary.ca \n403-620-0510
URL:https://mcmancalgary.ca/events/music-for-life-0-12-months-january-8th-15th-and-22nd/2025-01-08/
LOCATION:New Okotoks Office\, 72 N Railway St\, Okotoks\, Alberta\, T1S 1J3\, Canada
CATEGORIES:Okotoks,Okotoks FRN Parent & Child (0-6)
END:VEVENT
BEGIN:VEVENT
DTSTART;TZID=America/Edmonton:20250106T100000
DTEND;TZID=America/Edmonton:20250106T110000
DTSTAMP:20260422T155249
CREATED:20241205T190352Z
LAST-MODIFIED:20241211T201608Z
UID:10000708-1736157600-1736161200@mcmancalgary.ca
SUMMARY:Music For Life - 1 to 4 years - January 6th\, 15th & 20th
DESCRIPTION:Come with your child to sing songs\, explore musical instruments for the first time in a fun and interactive way with peers of similar ages. \n  \nJanuary 6th – 10:00AM to 11:00AM \nJanuary 15th – 1:30PM to 2:30PM \nJanuary 20th – 10:00AM to 11:00AM \n  \nAll programs are free. Snacks are included. \n  \nTo register call\, text or email Roshelle: \nroshelle.stooshnov@mcmancalgary.ca \n403-620-0510
URL:https://mcmancalgary.ca/events/music-for-life-1-to-4-years-january-6th-15th-20th/2025-01-06/
LOCATION:New Okotoks Office\, 72 N Railway St\, Okotoks\, Alberta\, T1S 1J3\, Canada
CATEGORIES:Okotoks,Okotoks FRN Parent & Child (0-6)
END:VEVENT
BEGIN:VEVENT
DTSTART;TZID=America/Edmonton:20241218T133000
DTEND;TZID=America/Edmonton:20241218T143000
DTSTAMP:20260422T155249
CREATED:20241031T203459Z
LAST-MODIFIED:20241031T203459Z
UID:10000687-1734528600-1734532200@mcmancalgary.ca
SUMMARY:Music for Life - 1 - 4 years - December 4th\, 10th & 18th
DESCRIPTION:Come with your child to sing songs\, explore musical instruments for the first time in a fun and interactive way with peers of similar ages. \n  \nDecember 4th – 1:30PM TO 2:30PM \nDecember 10th – 2:00PM TO 3:00PM \nDecember 18th – 1:30PM TO 2:30PM \n  \nTo register\, call\, text or email Roshelle: \nroshelle.stooshnov@mcmancalgary.ca \n403-620-0510 \nPrograms are free. \n 
URL:https://mcmancalgary.ca/events/music-for-life-1-4-years-december-4th-10th-18th/2024-12-18/
LOCATION:New Okotoks Office\, 72 N Railway St\, Okotoks\, Alberta\, T1S 1J3\, Canada
CATEGORIES:Okotoks,Okotoks FRN Parent & Child (0-6)
END:VEVENT
BEGIN:VEVENT
DTSTART;TZID=America/Edmonton:20241218T100000
DTEND;TZID=America/Edmonton:20241218T110000
DTSTAMP:20260422T155249
CREATED:20241031T202506Z
LAST-MODIFIED:20241031T202506Z
UID:10000684-1734516000-1734519600@mcmancalgary.ca
SUMMARY:Music for Life - 0-12 months - December 4th\, 11th & 18th - 10:00AM to 11:00AM
DESCRIPTION:Come with your child to sing songs\, explore musical instruments for the first time in a fun and interactive way with peers of similar ages. \n  \nTo register\, please contact Roshelle at: \nroshelle.stooshnov@mcmancalgary.ca \n403-620-0510 \nPrograms are free.
URL:https://mcmancalgary.ca/events/music-for-life-0-12-months-december-4th-11th-18th-1000am-to-1100am/2024-12-18/
LOCATION:New Okotoks Office\, 72 N Railway St\, Okotoks\, Alberta\, T1S 1J3\, Canada
CATEGORIES:Okotoks,Okotoks FRN Parent & Child (0-6)
END:VEVENT
BEGIN:VEVENT
DTSTART;TZID=America/Edmonton:20241217T100000
DTEND;TZID=America/Edmonton:20241217T110000
DTSTAMP:20260422T155249
CREATED:20241105T211623Z
LAST-MODIFIED:20241105T211623Z
UID:10000693-1734429600-1734433200@mcmancalgary.ca
SUMMARY:Stay and Play - 0-5 years - December 3rd\, 9th & 17th
DESCRIPTION:Explore the Fun Forest with all its’ toys and make new friends for future play dates. We believe in building connection and belonging within our community\, so come be a part of the Fun Forest community. \n  \nDecember 3rd – 10:00AM to 11:00AM \nDecember 9th – 2:00PM to 3:00PM \nDecember 17th – 10:00AM to 11:00AM \n  \nTo register\, please contact Roshelle: \nRoshelle.Stooshnov@mcmancalgary.ca \n403-620-0510 \n 
URL:https://mcmancalgary.ca/events/stay-and-play-0-5-years-december-3rd-9th-17th/2024-12-17/
LOCATION:New Okotoks Office\, 72 N Railway St\, Okotoks\, Alberta\, T1S 1J3\, Canada
CATEGORIES:Okotoks,Okotoks FRN Parent & Child (0-6)
END:VEVENT
BEGIN:VEVENT
DTSTART;TZID=America/Edmonton:20241211T100000
DTEND;TZID=America/Edmonton:20241211T110000
DTSTAMP:20260422T155249
CREATED:20241031T202506Z
LAST-MODIFIED:20241031T202506Z
UID:10000683-1733911200-1733914800@mcmancalgary.ca
SUMMARY:Music for Life - 0-12 months - December 4th\, 11th & 18th - 10:00AM to 11:00AM
DESCRIPTION:Come with your child to sing songs\, explore musical instruments for the first time in a fun and interactive way with peers of similar ages. \n  \nTo register\, please contact Roshelle at: \nroshelle.stooshnov@mcmancalgary.ca \n403-620-0510 \nPrograms are free.
URL:https://mcmancalgary.ca/events/music-for-life-0-12-months-december-4th-11th-18th-1000am-to-1100am/2024-12-11/
LOCATION:New Okotoks Office\, 72 N Railway St\, Okotoks\, Alberta\, T1S 1J3\, Canada
CATEGORIES:Okotoks,Okotoks FRN Parent & Child (0-6)
END:VEVENT
BEGIN:VEVENT
DTSTART;TZID=America/Edmonton:20241210T140000
DTEND;TZID=America/Edmonton:20241210T150000
DTSTAMP:20260422T155249
CREATED:20241031T203459Z
LAST-MODIFIED:20241031T203459Z
UID:10000686-1733839200-1733842800@mcmancalgary.ca
SUMMARY:Music for Life - 1 - 4 years - December 4th\, 10th & 18th
DESCRIPTION:Come with your child to sing songs\, explore musical instruments for the first time in a fun and interactive way with peers of similar ages. \n  \nDecember 4th – 1:30PM TO 2:30PM \nDecember 10th – 2:00PM TO 3:00PM \nDecember 18th – 1:30PM TO 2:30PM \n  \nTo register\, call\, text or email Roshelle: \nroshelle.stooshnov@mcmancalgary.ca \n403-620-0510 \nPrograms are free. \n 
URL:https://mcmancalgary.ca/events/music-for-life-1-4-years-december-4th-10th-18th/2024-12-10/
LOCATION:New Okotoks Office\, 72 N Railway St\, Okotoks\, Alberta\, T1S 1J3\, Canada
CATEGORIES:Okotoks,Okotoks FRN Parent & Child (0-6)
END:VEVENT
BEGIN:VEVENT
DTSTART;TZID=America/Edmonton:20241209T140000
DTEND;TZID=America/Edmonton:20241209T150000
DTSTAMP:20260422T155249
CREATED:20241105T211623Z
LAST-MODIFIED:20241105T211623Z
UID:10000692-1733752800-1733756400@mcmancalgary.ca
SUMMARY:Stay and Play - 0-5 years - December 3rd\, 9th & 17th
DESCRIPTION:Explore the Fun Forest with all its’ toys and make new friends for future play dates. We believe in building connection and belonging within our community\, so come be a part of the Fun Forest community. \n  \nDecember 3rd – 10:00AM to 11:00AM \nDecember 9th – 2:00PM to 3:00PM \nDecember 17th – 10:00AM to 11:00AM \n  \nTo register\, please contact Roshelle: \nRoshelle.Stooshnov@mcmancalgary.ca \n403-620-0510 \n 
URL:https://mcmancalgary.ca/events/stay-and-play-0-5-years-december-3rd-9th-17th/2024-12-09/
LOCATION:New Okotoks Office\, 72 N Railway St\, Okotoks\, Alberta\, T1S 1J3\, Canada
CATEGORIES:Okotoks,Okotoks FRN Parent & Child (0-6)
END:VEVENT
BEGIN:VEVENT
DTSTART;TZID=America/Edmonton:20241204T133000
DTEND;TZID=America/Edmonton:20241204T143000
DTSTAMP:20260422T155249
CREATED:20241031T203459Z
LAST-MODIFIED:20241031T203459Z
UID:10000685-1733319000-1733322600@mcmancalgary.ca
SUMMARY:Music for Life - 1 - 4 years - December 4th\, 10th & 18th
DESCRIPTION:Come with your child to sing songs\, explore musical instruments for the first time in a fun and interactive way with peers of similar ages. \n  \nDecember 4th – 1:30PM TO 2:30PM \nDecember 10th – 2:00PM TO 3:00PM \nDecember 18th – 1:30PM TO 2:30PM \n  \nTo register\, call\, text or email Roshelle: \nroshelle.stooshnov@mcmancalgary.ca \n403-620-0510 \nPrograms are free. \n 
URL:https://mcmancalgary.ca/events/music-for-life-1-4-years-december-4th-10th-18th/2024-12-04/
LOCATION:New Okotoks Office\, 72 N Railway St\, Okotoks\, Alberta\, T1S 1J3\, Canada
CATEGORIES:Okotoks,Okotoks FRN Parent & Child (0-6)
END:VEVENT
BEGIN:VEVENT
DTSTART;TZID=America/Edmonton:20241204T100000
DTEND;TZID=America/Edmonton:20241204T110000
DTSTAMP:20260422T155249
CREATED:20241031T202506Z
LAST-MODIFIED:20241031T202506Z
UID:10000682-1733306400-1733310000@mcmancalgary.ca
SUMMARY:Music for Life - 0-12 months - December 4th\, 11th & 18th - 10:00AM to 11:00AM
DESCRIPTION:Come with your child to sing songs\, explore musical instruments for the first time in a fun and interactive way with peers of similar ages. \n  \nTo register\, please contact Roshelle at: \nroshelle.stooshnov@mcmancalgary.ca \n403-620-0510 \nPrograms are free.
URL:https://mcmancalgary.ca/events/music-for-life-0-12-months-december-4th-11th-18th-1000am-to-1100am/2024-12-04/
LOCATION:New Okotoks Office\, 72 N Railway St\, Okotoks\, Alberta\, T1S 1J3\, Canada
CATEGORIES:Okotoks,Okotoks FRN Parent & Child (0-6)
END:VEVENT
BEGIN:VEVENT
DTSTART;TZID=America/Edmonton:20241203T100000
DTEND;TZID=America/Edmonton:20241203T110000
DTSTAMP:20260422T155249
CREATED:20241105T211623Z
LAST-MODIFIED:20241105T211623Z
UID:10000691-1733220000-1733223600@mcmancalgary.ca
SUMMARY:Stay and Play - 0-5 years - December 3rd\, 9th & 17th
DESCRIPTION:Explore the Fun Forest with all its’ toys and make new friends for future play dates. We believe in building connection and belonging within our community\, so come be a part of the Fun Forest community. \n  \nDecember 3rd – 10:00AM to 11:00AM \nDecember 9th – 2:00PM to 3:00PM \nDecember 17th – 10:00AM to 11:00AM \n  \nTo register\, please contact Roshelle: \nRoshelle.Stooshnov@mcmancalgary.ca \n403-620-0510 \n 
URL:https://mcmancalgary.ca/events/stay-and-play-0-5-years-december-3rd-9th-17th/2024-12-03/
LOCATION:New Okotoks Office\, 72 N Railway St\, Okotoks\, Alberta\, T1S 1J3\, Canada
CATEGORIES:Okotoks,Okotoks FRN Parent & Child (0-6)
END:VEVENT
BEGIN:VEVENT
DTSTART;TZID=America/Edmonton:20241128T133000
DTEND;TZID=America/Edmonton:20241128T143000
DTSTAMP:20260422T155249
CREATED:20241015T175834Z
LAST-MODIFIED:20241015T175834Z
UID:10000681-1732800600-1732804200@mcmancalgary.ca
SUMMARY:Arts for Miles - 42-48 months - November 1st & 28th
DESCRIPTION:Parents\, babies and tots\, come join the FRN for the last week of the month for art week! Based on applying developmental milestones to guide interactive learning/play in an artistic manor. \n  \nNovember 1st – 10:00AM – 11:00AM \nNovember 28th – 1:30PM – 2:30PM \n  \nTo register\, contact Roshelle: \nRoshelle.Stooshnov@mcmancalgary.ca \n403-620-0510
URL:https://mcmancalgary.ca/events/arts-for-miles-42-48-months-november-1st-28th/2024-11-28/
LOCATION:New Okotoks Office\, 72 N Railway St\, Okotoks\, Alberta\, T1S 1J3\, Canada
CATEGORIES:Okotoks,Okotoks FRN Parent & Child (0-6)
END:VEVENT
BEGIN:VEVENT
DTSTART;TZID=America/Edmonton:20241128T100000
DTEND;TZID=America/Edmonton:20241128T110000
DTSTAMP:20260422T155249
CREATED:20241015T175609Z
LAST-MODIFIED:20241015T175609Z
UID:10000679-1732788000-1732791600@mcmancalgary.ca
SUMMARY:Arts for Miles - 33-42 months - November 28th - 10:00AM to 11:00AM
DESCRIPTION:Parents\, babies and tots\, come join the FRN for the last week of the month for art week! Based on applying developmental milestones to guide interactive learning/play in an artistic manor. \n  \nTo register\, contact Roshelle: \nRoshelle.Stooshnov@mcmancalgary.ca \n403-620-0510
URL:https://mcmancalgary.ca/events/arts-for-miles-33-42-months-november-28th-1000am-to-1100am/
LOCATION:New Okotoks Office\, 72 N Railway St\, Okotoks\, Alberta\, T1S 1J3\, Canada
CATEGORIES:Okotoks,Okotoks FRN Parent & Child (0-6)
END:VEVENT
BEGIN:VEVENT
DTSTART;TZID=America/Edmonton:20241127T133000
DTEND;TZID=America/Edmonton:20241127T143000
DTSTAMP:20260422T155249
CREATED:20241015T175500Z
LAST-MODIFIED:20241015T175500Z
UID:10000678-1732714200-1732717800@mcmancalgary.ca
SUMMARY:Arts for Miles - 22-33 months - November 27th - 1:30PM to 2:30PM
DESCRIPTION:Parents\, babies and tots\, come join the FRN for the last week of the month for art week! Based on applying developmental milestones to guide interactive learning/play in an artistic manor. \n  \nTo register\, contact Roshelle: \nRoshelle.Stooshnov@mcmancalgary.ca \n403-620-0510
URL:https://mcmancalgary.ca/events/arts-for-miles-22-33-months-november-27th-130pm-to-230pm/
LOCATION:New Okotoks Office\, 72 N Railway St\, Okotoks\, Alberta\, T1S 1J3\, Canada
CATEGORIES:Okotoks,Okotoks FRN Parent & Child (0-6)
END:VEVENT
BEGIN:VEVENT
DTSTART;TZID=America/Edmonton:20241127T100000
DTEND;TZID=America/Edmonton:20241127T110000
DTSTAMP:20260422T155249
CREATED:20241015T175304Z
LAST-MODIFIED:20241015T175304Z
UID:10000677-1732701600-1732705200@mcmancalgary.ca
SUMMARY:Arts for Miles - 12-22 months - November 27th - 10:00AM to 11:00AM
DESCRIPTION:Parents\, babies and tots\, come join the FRN for the last week of the month for art week! Based on applying developmental milestones to guide interactive learning/play in an artistic manor. \n  \nTo register\, contact Roshelle: \nRoshelle.Stooshnov@mcmancalgary.ca \n403-620-0510
URL:https://mcmancalgary.ca/events/arts-for-miles-12-22-months-november-27th-1000am-to-1100am/
LOCATION:New Okotoks Office\, 72 N Railway St\, Okotoks\, Alberta\, T1S 1J3\, Canada
CATEGORIES:Okotoks,Okotoks FRN Parent & Child (0-6)
END:VEVENT
BEGIN:VEVENT
DTSTART;TZID=America/Edmonton:20241126T093000
DTEND;TZID=America/Edmonton:20241126T103000
DTSTAMP:20260422T155249
CREATED:20241015T175143Z
LAST-MODIFIED:20241015T175143Z
UID:10000676-1732613400-1732617000@mcmancalgary.ca
SUMMARY:Arts for Miles - 6-12 months - November 26th - 9:30AM to 10:30AM
DESCRIPTION:Parents\, babies and tots\, come join the FRN for the last week of the month for art week! Based on applying developmental milestones to guide interactive learning/play in an artistic manor. \n  \nTo register\, contact Roshelle: \nRoshelle.Stooshnov@mcmancalgary.ca \n403-620-0510
URL:https://mcmancalgary.ca/events/arts-for-miles-6-12-months-november-26th-930am-to-1030am/
LOCATION:New Okotoks Office\, 72 N Railway St\, Okotoks\, Alberta\, T1S 1J3\, Canada
CATEGORIES:Okotoks,Okotoks FRN Parent & Child (0-6)
END:VEVENT
BEGIN:VEVENT
DTSTART;TZID=America/Edmonton:20241125T093000
DTEND;TZID=America/Edmonton:20241125T103000
DTSTAMP:20260422T155249
CREATED:20241015T174958Z
LAST-MODIFIED:20241015T174958Z
UID:10000675-1732527000-1732530600@mcmancalgary.ca
SUMMARY:Arts for Miles - 0-6 months - November 25th - 9:30AM to 10:30AM
DESCRIPTION:Parents\, babies and tots\, come join the FRN for the last week of the month for art week! Based on applying developmental milestones to guide interactive learning/play in an artistic manor. \n  \nTo register\, contact Roshelle: \nRoshelle.Stooshnov@mcmancalgary.ca \n403-620-0510
URL:https://mcmancalgary.ca/events/arts-for-miles-0-6-months-november-25th-930am-to-1030am/
LOCATION:New Okotoks Office\, 72 N Railway St\, Okotoks\, Alberta\, T1S 1J3\, Canada
CATEGORIES:Okotoks,Okotoks FRN Parent & Child (0-6)
END:VEVENT
BEGIN:VEVENT
DTSTART;TZID=America/Edmonton:20241121T100000
DTEND;TZID=America/Edmonton:20241121T110000
DTSTAMP:20260422T155249
CREATED:20241010T203802Z
LAST-MODIFIED:20241010T203802Z
UID:10000674-1732183200-1732186800@mcmancalgary.ca
SUMMARY:Kids Yoga - Ages 4 - 7 years - November 21st - 10:00AM to 11:00AM
DESCRIPTION:Come join us for Kids Yoga and parent self-care time. Kids will build foundational yoga skills through deep breathing and positive affirmations\, while parents participate in self-care in a separate room. \n  \nTo register\, call\, text or email Roshelle: \nroshelle.stooshnov@mcmancalgary.ca \n403-620-0510 \n  \nPrograms are free. \nSnacks are included.
URL:https://mcmancalgary.ca/events/kids-yoga-ages-4-7-years-november-21st-1000am-to-1100am/
LOCATION:New Okotoks Office\, 72 N Railway St\, Okotoks\, Alberta\, T1S 1J3\, Canada
CATEGORIES:Okotoks,Okotoks FRN Parent & Child (0-6)
END:VEVENT
BEGIN:VEVENT
DTSTART;TZID=America/Edmonton:20241120T130000
DTEND;TZID=America/Edmonton:20241120T140000
DTSTAMP:20260422T155249
CREATED:20241010T203345Z
LAST-MODIFIED:20241010T203345Z
UID:10000673-1732107600-1732111200@mcmancalgary.ca
SUMMARY:Music for Life - Ages 1-4 years - November 20th - 1:00PM to 2:00PM
DESCRIPTION:Come with your child to sing songs\, explore musical instruments for the first time in a fun and interactive way with peers of similar ages. \n  \nTo register\, call\, text or email Roshelle: \nroshelle.stooshnov@mcmancalgary.ca \n403-620-0510 \n  \nPrograms are free. \nSnacks are included.
URL:https://mcmancalgary.ca/events/music-for-life-ages-1-4-years-november-20th-100pm-to-200pm/
LOCATION:New Okotoks Office\, 72 N Railway St\, Okotoks\, Alberta\, T1S 1J3\, Canada
CATEGORIES:Okotoks,Okotoks FRN Parent & Child (0-6)
END:VEVENT
END:VCALENDAR