BEGIN:VCALENDAR
VERSION:2.0
PRODID:-//McMan Youth, Family and Community Services Association - ECPv6.15.20//NONSGML v1.0//EN
CALSCALE:GREGORIAN
METHOD:PUBLISH
X-ORIGINAL-URL:https://mcmancalgary.ca
X-WR-CALDESC:Events for McMan Youth, Family and Community Services Association
REFRESH-INTERVAL;VALUE=DURATION:PT1H
X-Robots-Tag:noindex
X-PUBLISHED-TTL:PT1H
BEGIN:VTIMEZONE
TZID:America/Edmonton
BEGIN:DAYLIGHT
TZOFFSETFROM:-0700
TZOFFSETTO:-0600
TZNAME:MDT
DTSTART:20230312T090000
END:DAYLIGHT
BEGIN:STANDARD
TZOFFSETFROM:-0600
TZOFFSETTO:-0700
TZNAME:MST
DTSTART:20231105T080000
END:STANDARD
BEGIN:DAYLIGHT
TZOFFSETFROM:-0700
TZOFFSETTO:-0600
TZNAME:MDT
DTSTART:20240310T090000
END:DAYLIGHT
BEGIN:STANDARD
TZOFFSETFROM:-0600
TZOFFSETTO:-0700
TZNAME:MST
DTSTART:20241103T080000
END:STANDARD
BEGIN:DAYLIGHT
TZOFFSETFROM:-0700
TZOFFSETTO:-0600
TZNAME:MDT
DTSTART:20250309T090000
END:DAYLIGHT
BEGIN:STANDARD
TZOFFSETFROM:-0600
TZOFFSETTO:-0700
TZNAME:MST
DTSTART:20251102T080000
END:STANDARD
END:VTIMEZONE
BEGIN:VEVENT
DTSTART;TZID=America/Edmonton:20240417T123000
DTEND;TZID=America/Edmonton:20240417T150000
DTSTAMP:20260423T073431
CREATED:20240404T192427Z
LAST-MODIFIED:20240404T192427Z
UID:10000452-1713357000-1713366000@mcmancalgary.ca
SUMMARY:P.I.C.K. Me Up - April 3rd\, 10th\, 17th\, 24th\, May 1st\, 8th\, 15th & 22nd
DESCRIPTION:P.I.C.K. Me Up is a self reflective journey into rediscovering yourself. You will learn practical techniques and tools to assist you in getting more of what you want\, handle stress and build foundations to lifelong relationships. Must attend all sessions. \nWednesdays April 3rd\, 10th\, 17th\, 24th\, May 1st\, 8th\, 15th & 22nd\, 12:30pm-3:00pm. \n 
URL:https://mcmancalgary.ca/events/p-i-c-k-me-up-april-3rd-10th-17th-24th-may-1st-8th-15th-22nd/2024-04-17/
LOCATION:New Okotoks Office\, 72 N Railway St\, Okotoks\, Alberta\, T1S 1J3\, Canada
CATEGORIES:Okotoks,Okotoks FRN Parent & Child (0-6)
END:VEVENT
BEGIN:VEVENT
DTSTART;TZID=America/Edmonton:20240410T123000
DTEND;TZID=America/Edmonton:20240410T150000
DTSTAMP:20260423T073431
CREATED:20240404T192427Z
LAST-MODIFIED:20240404T192427Z
UID:10000451-1712752200-1712761200@mcmancalgary.ca
SUMMARY:P.I.C.K. Me Up - April 3rd\, 10th\, 17th\, 24th\, May 1st\, 8th\, 15th & 22nd
DESCRIPTION:P.I.C.K. Me Up is a self reflective journey into rediscovering yourself. You will learn practical techniques and tools to assist you in getting more of what you want\, handle stress and build foundations to lifelong relationships. Must attend all sessions. \nWednesdays April 3rd\, 10th\, 17th\, 24th\, May 1st\, 8th\, 15th & 22nd\, 12:30pm-3:00pm. \n 
URL:https://mcmancalgary.ca/events/p-i-c-k-me-up-april-3rd-10th-17th-24th-may-1st-8th-15th-22nd/2024-04-10/
LOCATION:New Okotoks Office\, 72 N Railway St\, Okotoks\, Alberta\, T1S 1J3\, Canada
CATEGORIES:Okotoks,Okotoks FRN Parent & Child (0-6)
END:VEVENT
BEGIN:VEVENT
DTSTART;TZID=America/Edmonton:20240403T123000
DTEND;TZID=America/Edmonton:20240403T150000
DTSTAMP:20260423T073431
CREATED:20240404T192427Z
LAST-MODIFIED:20240404T192427Z
UID:10000450-1712147400-1712156400@mcmancalgary.ca
SUMMARY:P.I.C.K. Me Up - April 3rd\, 10th\, 17th\, 24th\, May 1st\, 8th\, 15th & 22nd
DESCRIPTION:P.I.C.K. Me Up is a self reflective journey into rediscovering yourself. You will learn practical techniques and tools to assist you in getting more of what you want\, handle stress and build foundations to lifelong relationships. Must attend all sessions. \nWednesdays April 3rd\, 10th\, 17th\, 24th\, May 1st\, 8th\, 15th & 22nd\, 12:30pm-3:00pm. \n 
URL:https://mcmancalgary.ca/events/p-i-c-k-me-up-april-3rd-10th-17th-24th-may-1st-8th-15th-22nd/2024-04-03/
LOCATION:New Okotoks Office\, 72 N Railway St\, Okotoks\, Alberta\, T1S 1J3\, Canada
CATEGORIES:Okotoks,Okotoks FRN Parent & Child (0-6)
END:VEVENT
BEGIN:VEVENT
DTSTART;TZID=America/Edmonton:20240224T100000
DTEND;TZID=America/Edmonton:20240224T120000
DTSTAMP:20260423T073431
CREATED:20240201T182837Z
LAST-MODIFIED:20240205T195607Z
UID:10000038-1708768800-1708776000@mcmancalgary.ca
SUMMARY:Artsie Smartsie (4.5-6 years) - February 24th
DESCRIPTION:Join us on the last Saturday of each month for an adventure in arts with your child (4.5 – 6 years old). Every child must be accompanied by a caring adult as we use and explore different art mediums and challenge creativity. \nSnacks and supplies are provided. \nArtsie Smartsie is offered on Saturday February 24th – 10:00 AM to 12:00 PM. \nIf you have questions about the Artsie Smartsie workshops\, please get in touch with Annika at annika.johansson@mcmancalgary.ca \nWe want you to be comfortable. Please bring socks\, slippers and/or indoor shoes.
URL:https://mcmancalgary.ca/events/art-june-915-114/
LOCATION:New Okotoks Office\, 72 N Railway St\, Okotoks\, Alberta\, T1S 1J3\, Canada
CATEGORIES:Okotoks FRN Parent & Child (0-6)
ORGANIZER;CN="McMan Okotoks":MAILTO:okotoksfrn@mcmancalgary.ca
END:VEVENT
BEGIN:VEVENT
DTSTART;TZID=America/Edmonton:20240127T100000
DTEND;TZID=America/Edmonton:20240127T120000
DTSTAMP:20260423T073431
CREATED:20240110T185115Z
LAST-MODIFIED:20240205T195139Z
UID:10000037-1706349600-1706356800@mcmancalgary.ca
SUMMARY:Artsie Smartsie (4.5-6 years) - January 27th
DESCRIPTION:Join us on the last Saturday of each month for an adventure in arts with your child (4.5 – 6 years old). Every child must be accompanied by a caring adult as we use and explore different art mediums and challenge creativity. \nSnacks and supplies are provided. \nArtsie Smartsie is offered on Saturday January 27 – 10:00 AM to 12:00 PM. \nIf you have questions about the Artsie Smartsie workshops\, please get in touch with Annika at annika.johansson@mcmancalgary.ca \nWe want you to be comfortable. Please bring socks\, slippers and/or indoor shoes.
URL:https://mcmancalgary.ca/events/art-june-915/
LOCATION:New Okotoks Office\, 72 N Railway St\, Okotoks\, Alberta\, T1S 1J3\, Canada
CATEGORIES:Okotoks FRN Parent & Child (0-6)
ORGANIZER;CN="McMan Okotoks":MAILTO:okotoksfrn@mcmancalgary.ca
END:VEVENT
BEGIN:VEVENT
DTSTART;TZID=America/Edmonton:20240126T100000
DTEND;TZID=America/Edmonton:20240126T110000
DTSTAMP:20260423T073431
CREATED:20240109T212022Z
LAST-MODIFIED:20240205T203050Z
UID:10000048-1706263200-1706266800@mcmancalgary.ca
SUMMARY:Free For All Fridays - Fridays 10am - 11am
DESCRIPTION:Drop in for our FREE playgroup with your children up to four years old. Snacks and beverages will be provided.  Friday mornings from 10 to 11:00 am.  \nIf you have questions about Free For All Fridays\, please get in touch with annika.johansson@mcmancalgary.ca \n72 North Railway St. Okotoks
URL:https://mcmancalgary.ca/events/cos-spring-658-448/2024-01-26/
LOCATION:Okotoks Office\, 22 Crystal Ridge Drive\, Okotoks\, Alberta\, T1S 2C3\, Canada
CATEGORIES:Okotoks FRN Parent & Child (0-6)
ORGANIZER;CN="McMan Okotoks":MAILTO:okotoksfrn@mcmancalgary.ca
GEO:50.72885;-113.98281
X-APPLE-STRUCTURED-LOCATION;VALUE=URI;X-ADDRESS=Okotoks Office 22 Crystal Ridge Drive Okotoks Alberta T1S 2C3 Canada;X-APPLE-RADIUS=500;X-TITLE=22 Crystal Ridge Drive:geo:-113.98281,50.72885
END:VEVENT
BEGIN:VEVENT
DTSTART;TZID=America/Edmonton:20240119T100000
DTEND;TZID=America/Edmonton:20240119T110000
DTSTAMP:20260423T073431
CREATED:20240109T212022Z
LAST-MODIFIED:20240205T203050Z
UID:10000032-1705658400-1705662000@mcmancalgary.ca
SUMMARY:Free For All Fridays - Fridays 10am - 11am
DESCRIPTION:Drop in for our FREE playgroup with your children up to four years old. Snacks and beverages will be provided.  Friday mornings from 10 to 11:00 am.  \nIf you have questions about Free For All Fridays\, please get in touch with annika.johansson@mcmancalgary.ca \n72 North Railway St. Okotoks
URL:https://mcmancalgary.ca/events/cos-spring-658-448/2024-01-19/
LOCATION:Okotoks Office\, 22 Crystal Ridge Drive\, Okotoks\, Alberta\, T1S 2C3\, Canada
CATEGORIES:Okotoks FRN Parent & Child (0-6)
ORGANIZER;CN="McMan Okotoks":MAILTO:okotoksfrn@mcmancalgary.ca
GEO:50.72885;-113.98281
X-APPLE-STRUCTURED-LOCATION;VALUE=URI;X-ADDRESS=Okotoks Office 22 Crystal Ridge Drive Okotoks Alberta T1S 2C3 Canada;X-APPLE-RADIUS=500;X-TITLE=22 Crystal Ridge Drive:geo:-113.98281,50.72885
END:VEVENT
END:VCALENDAR