BEGIN:VCALENDAR
VERSION:2.0
PRODID:-//McMan Youth, Family and Community Services Association - ECPv6.15.20//NONSGML v1.0//EN
CALSCALE:GREGORIAN
METHOD:PUBLISH
X-WR-CALNAME:McMan Youth, Family and Community Services Association
X-ORIGINAL-URL:https://mcmancalgary.ca
X-WR-CALDESC:Events for McMan Youth, Family and Community Services Association
REFRESH-INTERVAL;VALUE=DURATION:PT1H
X-Robots-Tag:noindex
X-PUBLISHED-TTL:PT1H
BEGIN:VTIMEZONE
TZID:America/Edmonton
BEGIN:DAYLIGHT
TZOFFSETFROM:-0700
TZOFFSETTO:-0600
TZNAME:MDT
DTSTART:20240310T090000
END:DAYLIGHT
BEGIN:STANDARD
TZOFFSETFROM:-0600
TZOFFSETTO:-0700
TZNAME:MST
DTSTART:20241103T080000
END:STANDARD
BEGIN:DAYLIGHT
TZOFFSETFROM:-0700
TZOFFSETTO:-0600
TZNAME:MDT
DTSTART:20250309T090000
END:DAYLIGHT
BEGIN:STANDARD
TZOFFSETFROM:-0600
TZOFFSETTO:-0700
TZNAME:MST
DTSTART:20251102T080000
END:STANDARD
BEGIN:DAYLIGHT
TZOFFSETFROM:-0700
TZOFFSETTO:-0600
TZNAME:MDT
DTSTART:20260308T090000
END:DAYLIGHT
BEGIN:STANDARD
TZOFFSETFROM:-0600
TZOFFSETTO:-0700
TZNAME:MST
DTSTART:20261101T080000
END:STANDARD
END:VTIMEZONE
BEGIN:VEVENT
DTSTART;TZID=America/Edmonton:20250303T133000
DTEND;TZID=America/Edmonton:20250303T143000
DTSTAMP:20260419T221038
CREATED:20250123T210746Z
LAST-MODIFIED:20250204T213640Z
UID:10000829-1741008600-1741012200@mcmancalgary.ca
SUMMARY:Music for Life - 1 to 4 years
DESCRIPTION:Come with your child to sing songs\, explore musical instruments for the first time in a fun and interactive way with peers of similar ages. \n  \nMarch 3rd – 1:30PM to 2:30PM \nMarch 10th – 1:30Pm to 2:30PM \nMarch 17th – 10:30AM to 11:30AM \n  \nTo register\, call\, email or text Roshelle: \nroshelle.stooshnov@mcmancalgary.ca \n403-620-0510 \n  \nPrograms are free. \n 
URL:https://mcmancalgary.ca/events/music-for-life-1-to-4-years-2/2025-03-03/
LOCATION:New Okotoks Office\, 72 N Railway St\, Okotoks\, Alberta\, T1S 1J3\, Canada
CATEGORIES:Okotoks,Okotoks FRN Parent & Child (0-6)
END:VEVENT
BEGIN:VEVENT
DTSTART;TZID=America/Edmonton:20250305T103000
DTEND;TZID=America/Edmonton:20250305T113000
DTSTAMP:20260419T221038
CREATED:20250123T205724Z
LAST-MODIFIED:20250204T213530Z
UID:10000826-1741170600-1741174200@mcmancalgary.ca
SUMMARY:Music for Life - 0-12 months
DESCRIPTION:Come with your child to sing songs\, explore musical instruments for the first time in a fun and interactive way with peers of similar ages. \n  \nMarch 5th  -10:30AM to 11:30AM \nMarch 12th – 10:30AM to 11:30AM \nMarch 19th – 10:30AM to 11:30AM \n  \nTo register\, email\, call or text Roshelle: \nroshelle.stooshnov@mcmancalgary.ca \n403-620-0510 \n  \nPrograms are free.
URL:https://mcmancalgary.ca/events/music-for-life-0-12-months-2/2025-03-05/
LOCATION:New Okotoks Office\, 72 N Railway St\, Okotoks\, Alberta\, T1S 1J3\, Canada
CATEGORIES:Okotoks,Okotoks FRN Parent & Child (0-6)
ORGANIZER;CN="McMan Okotoks":MAILTO:okotoksfrn@mcmancalgary.ca
END:VEVENT
BEGIN:VEVENT
DTSTART;TZID=America/Edmonton:20250307T100000
DTEND;TZID=America/Edmonton:20250307T110000
DTSTAMP:20260419T221038
CREATED:20250123T211750Z
LAST-MODIFIED:20250204T214415Z
UID:10000835-1741341600-1741345200@mcmancalgary.ca
SUMMARY:Stay and Play - Ages 0-5 years
DESCRIPTION:Explore the Fun Forest with all it’s toys and make new friends for future play dates. We believe in building connection and belonging within our community\, so come be a part of the Fun Forest community. \n  \nMarch 7th – 10:0AM to 11:00AM \nMarch 14th – 1:30PM to 2:30PM \nMarch 20th – 10:00AM to 11:00AM \n  \nTo register\, call\, email or text Roshelle: \nroshelle.stooshnov@mcmancalgary.ca \n403-620-0510 \n  \nAll programs are free.
URL:https://mcmancalgary.ca/events/stay-and-play-ages-0-5-years/2025-03-07/
LOCATION:New Okotoks Office\, 72 N Railway St\, Okotoks\, Alberta\, T1S 1J3\, Canada
CATEGORIES:Okotoks,Okotoks FRN Parent & Child (0-6)
END:VEVENT
BEGIN:VEVENT
DTSTART;TZID=America/Edmonton:20250307T133000
DTEND;TZID=America/Edmonton:20250307T143000
DTSTAMP:20260419T221038
CREATED:20250123T211244Z
LAST-MODIFIED:20250204T214248Z
UID:10000832-1741354200-1741357800@mcmancalgary.ca
SUMMARY:Kids Yoga - 4 to 7 years
DESCRIPTION:Come join us for Kids Yoga and parent self-care time. Kids will build foundational yoga skills through deep breathing and positive affirmations\, while parents participate in self-care in a separate room. \n  \nMarch 7th – 1:30PM to 2:30PM \nMarch 14th – 10:00AM to 11:00AM \nMarch 20th – 1:30PM to 2:30PM \n  \nTo register\, call\, email or text Roshelle: \nroshelle.stooshnov@mcmancalgary.ca \n403-620-0510 \n  \nAll programs are free.
URL:https://mcmancalgary.ca/events/kids-yoga-4-to-7-years/2025-03-07/
LOCATION:New Okotoks Office\, 72 N Railway St\, Okotoks\, Alberta\, T1S 1J3\, Canada
CATEGORIES:Okotoks,Okotoks FRN Parent & Child (0-6)
END:VEVENT
END:VCALENDAR