BEGIN:VCALENDAR
VERSION:2.0
PRODID:-//McMan Youth, Family and Community Services Association - ECPv6.15.20//NONSGML v1.0//EN
CALSCALE:GREGORIAN
METHOD:PUBLISH
X-ORIGINAL-URL:https://mcmancalgary.ca
X-WR-CALDESC:Events for McMan Youth, Family and Community Services Association
REFRESH-INTERVAL;VALUE=DURATION:PT1H
X-Robots-Tag:noindex
X-PUBLISHED-TTL:PT1H
BEGIN:VTIMEZONE
TZID:America/Edmonton
BEGIN:DAYLIGHT
TZOFFSETFROM:-0700
TZOFFSETTO:-0600
TZNAME:MDT
DTSTART:20230312T090000
END:DAYLIGHT
BEGIN:STANDARD
TZOFFSETFROM:-0600
TZOFFSETTO:-0700
TZNAME:MST
DTSTART:20231105T080000
END:STANDARD
BEGIN:DAYLIGHT
TZOFFSETFROM:-0700
TZOFFSETTO:-0600
TZNAME:MDT
DTSTART:20240310T090000
END:DAYLIGHT
BEGIN:STANDARD
TZOFFSETFROM:-0600
TZOFFSETTO:-0700
TZNAME:MST
DTSTART:20241103T080000
END:STANDARD
BEGIN:DAYLIGHT
TZOFFSETFROM:-0700
TZOFFSETTO:-0600
TZNAME:MDT
DTSTART:20250309T090000
END:DAYLIGHT
BEGIN:STANDARD
TZOFFSETFROM:-0600
TZOFFSETTO:-0700
TZNAME:MST
DTSTART:20251102T080000
END:STANDARD
END:VTIMEZONE
BEGIN:VEVENT
DTSTART;TZID=America/Edmonton:20240527T163000
DTEND;TZID=America/Edmonton:20240527T180000
DTSTAMP:20260422T171334
CREATED:20240402T170916Z
LAST-MODIFIED:20240402T170916Z
UID:10000406-1716827400-1716832800@mcmancalgary.ca
SUMMARY:Life Skills - May 1st\, 6th\, 8th\, 13th\, 15th\, 22nd\, 27th & 29th - Ages 12-18
DESCRIPTION:A lesson series for youth 12-18 years old that focuses on social and emotional skills while using effective communication and self management skills. Youth have an opportunity to strengthen their skills in the following areas: giving and receiving feedback\, listening behaviours\, questions concepts and emotions. \nMay 1st\, 6th\, 8th\, 13th\, 15th\, 22nd\, 27th & 29th from 4:30 PM to 6:00 PM \n  \nFor more information about this group\, please contact Marnie: \nmarnie.johnston@mcmancalgary.ca \n403-508-0436
URL:https://mcmancalgary.ca/events/life-skills-may-1st-6th-8th-13th-15th-22nd-27th-29th-ages-12-18/2024-05-27/
LOCATION:New Okotoks Office\, 72 N Railway St\, Okotoks\, Alberta\, T1S 1J3\, Canada
CATEGORIES:Okotoks,Okotoks FRN Youth (12-18)
ORGANIZER;CN="Marnie Johnston":MAILTO:marnie.johnston@mcmancalgary.ca
END:VEVENT
END:VCALENDAR