BEGIN:VCALENDAR
VERSION:2.0
PRODID:-//McMan Youth, Family and Community Services Association - ECPv6.15.20//NONSGML v1.0//EN
CALSCALE:GREGORIAN
METHOD:PUBLISH
X-WR-CALNAME:McMan Youth, Family and Community Services Association
X-ORIGINAL-URL:https://mcmancalgary.ca
X-WR-CALDESC:Events for McMan Youth, Family and Community Services Association
REFRESH-INTERVAL;VALUE=DURATION:PT1H
X-Robots-Tag:noindex
X-PUBLISHED-TTL:PT1H
BEGIN:VTIMEZONE
TZID:America/Edmonton
BEGIN:DAYLIGHT
TZOFFSETFROM:-0700
TZOFFSETTO:-0600
TZNAME:MDT
DTSTART:20230312T090000
END:DAYLIGHT
BEGIN:STANDARD
TZOFFSETFROM:-0600
TZOFFSETTO:-0700
TZNAME:MST
DTSTART:20231105T080000
END:STANDARD
BEGIN:DAYLIGHT
TZOFFSETFROM:-0700
TZOFFSETTO:-0600
TZNAME:MDT
DTSTART:20240310T090000
END:DAYLIGHT
BEGIN:STANDARD
TZOFFSETFROM:-0600
TZOFFSETTO:-0700
TZNAME:MST
DTSTART:20241103T080000
END:STANDARD
BEGIN:DAYLIGHT
TZOFFSETFROM:-0700
TZOFFSETTO:-0600
TZNAME:MDT
DTSTART:20250309T090000
END:DAYLIGHT
BEGIN:STANDARD
TZOFFSETFROM:-0600
TZOFFSETTO:-0700
TZNAME:MST
DTSTART:20251102T080000
END:STANDARD
END:VTIMEZONE
BEGIN:VEVENT
DTSTART;TZID=America/Edmonton:20241028T163000
DTEND;TZID=America/Edmonton:20241028T183000
DTSTAMP:20260422T020905
CREATED:20240815T181839Z
LAST-MODIFIED:20240820T195823Z
UID:10000598-1730133000-1730140200@mcmancalgary.ca
SUMMARY:Fearless Females! Be the Queen of Your Confidence - Mondays\, September 23rd\, 30th\, October 7th\, 14th\, 21st and 28th - Ages 12-18
DESCRIPTION:In this 6 part workshop participants will have the opportunity to; \n-Increase their ability to communicate. \n-Strengthen their ability to express their needs. \n-Set appropriate boundaries. \n-Explore their own self talk that is helpful and/or harmful. \n-Create an understanding of their emotions. \n-Explore ones own individual style\, clothing\, hair and makeup. \n-Create their personal vision board. \n  \nTo register call\, text or email Marnie: \nmarnie.johnston@mcmancalgary.ca \n403-508-0436
URL:https://mcmancalgary.ca/events/fearless-females-be-the-queen-of-your-confidence-mondays-september-23rd-30th-october-7th-14th-21st-and-28th-ages-12-18/2024-10-28/
LOCATION:New Okotoks Office\, 72 N Railway St\, Okotoks\, Alberta\, T1S 1J3\, Canada
CATEGORIES:Okotoks,Okotoks FRN Youth (12-18)
ORGANIZER;CN="Marnie Johnston":MAILTO:marnie.johnston@mcmancalgary.ca
END:VEVENT
BEGIN:VEVENT
DTSTART;TZID=America/Edmonton:20241029T163000
DTEND;TZID=America/Edmonton:20241029T180000
DTSTAMP:20260422T020905
CREATED:20241002T170852Z
LAST-MODIFIED:20241010T171926Z
UID:10000652-1730219400-1730224800@mcmancalgary.ca
SUMMARY:Let's Get Cookin'! - Ages 12-18 - October 22nd & 29th (Zoom)
DESCRIPTION:Let’s Get Cookin’! is a two part workshop for youth that want to learn how to cook. \nPart 1: Basic nutrition\, kitchen safety tips and prepare to cook. \nPart 2: Cook a meal. Caregivers must be present in the home. Groceries will be provided. \n  \nPlease contact Marnie Johnston to register: \nMarnie.Johnston@mcmancalgary.ca \n403-508-0436
URL:https://mcmancalgary.ca/events/lets-get-cookin-ages-12-18-october-22nd-29th-zoom/2024-10-29/
LOCATION:New Okotoks Office\, 72 N Railway St\, Okotoks\, Alberta\, T1S 1J3\, Canada
CATEGORIES:Okotoks,Okotoks FRN Youth (12-18)
ORGANIZER;CN="Marnie Johnston":MAILTO:marnie.johnston@mcmancalgary.ca
END:VEVENT
BEGIN:VEVENT
DTSTART;TZID=America/Edmonton:20241030T163000
DTEND;TZID=America/Edmonton:20241030T180000
DTSTAMP:20260422T020905
CREATED:20241002T171145Z
LAST-MODIFIED:20241010T172134Z
UID:10000656-1730305800-1730311200@mcmancalgary.ca
SUMMARY:Skills for Anger - Ages 12-18 - October 2nd\, 9th\, 16th\, 23rd & 30th - 4:30PM - 6:00PM
DESCRIPTION:This workshop teaches you how to build skills on managing anger while learning about the different types of anger styles and what may trigger it. \n  \nPlease contact Marnie Johnston to register: \nMarnie.Johnston@mcmancalgary.ca \n403-508-0436
URL:https://mcmancalgary.ca/events/skills-for-anger-ages-12-18-october-2nd-9th-16th-23rd-30th-430pm-600pm/2024-10-30/
LOCATION:New Okotoks Office\, 72 N Railway St\, Okotoks\, Alberta\, T1S 1J3\, Canada
CATEGORIES:Okotoks,Okotoks FRN Youth (12-18)
ORGANIZER;CN="Marnie Johnston":MAILTO:marnie.johnston@mcmancalgary.ca
END:VEVENT
END:VCALENDAR