BEGIN:VCALENDAR
VERSION:2.0
PRODID:-//McMan Youth, Family and Community Services Association - ECPv6.15.20//NONSGML v1.0//EN
CALSCALE:GREGORIAN
METHOD:PUBLISH
X-WR-CALNAME:McMan Youth, Family and Community Services Association
X-ORIGINAL-URL:https://mcmancalgary.ca
X-WR-CALDESC:Events for McMan Youth, Family and Community Services Association
REFRESH-INTERVAL;VALUE=DURATION:PT1H
X-Robots-Tag:noindex
X-PUBLISHED-TTL:PT1H
BEGIN:VTIMEZONE
TZID:America/Edmonton
BEGIN:DAYLIGHT
TZOFFSETFROM:-0700
TZOFFSETTO:-0600
TZNAME:MDT
DTSTART:20240310T090000
END:DAYLIGHT
BEGIN:STANDARD
TZOFFSETFROM:-0600
TZOFFSETTO:-0700
TZNAME:MST
DTSTART:20241103T080000
END:STANDARD
BEGIN:DAYLIGHT
TZOFFSETFROM:-0700
TZOFFSETTO:-0600
TZNAME:MDT
DTSTART:20250309T090000
END:DAYLIGHT
BEGIN:STANDARD
TZOFFSETFROM:-0600
TZOFFSETTO:-0700
TZNAME:MST
DTSTART:20251102T080000
END:STANDARD
BEGIN:DAYLIGHT
TZOFFSETFROM:-0700
TZOFFSETTO:-0600
TZNAME:MDT
DTSTART:20260308T090000
END:DAYLIGHT
BEGIN:STANDARD
TZOFFSETFROM:-0600
TZOFFSETTO:-0700
TZNAME:MST
DTSTART:20261101T080000
END:STANDARD
END:VTIMEZONE
BEGIN:VEVENT
DTSTART;TZID=America/Edmonton:20250127T103000
DTEND;TZID=America/Edmonton:20250127T113000
DTSTAMP:20260425T190653
CREATED:20241205T215444Z
LAST-MODIFIED:20241205T220000Z
UID:10000720-1737973800-1737977400@mcmancalgary.ca
SUMMARY:Arts For Miles - 0 to 6 months - January 27th
DESCRIPTION:Parents\, babies and tots\, come join the FRN for the last week of the month for art week! Based on applying developmental milestones to guide interactive learning/play in an artistic manor. 0-6months. \nAll programs are free. Snacks are included. \nJanuary 27th 10:30AM to 11:30AM \nTo register\, call\, text or email Roshelle: \nRoshelle.stooshnov@mcmancalgary.ca \n403-620-0510
URL:https://mcmancalgary.ca/events/arts-for-miles-0-to-6-months-january-27th/
LOCATION:New Okotoks Office\, 72 N Railway St\, Okotoks\, Alberta\, T1S 1J3\, Canada
CATEGORIES:Okotoks,Okotoks FRN Parent & Child (0-6)
END:VEVENT
BEGIN:VEVENT
DTSTART;TZID=America/Edmonton:20250127T103000
DTEND;TZID=America/Edmonton:20250127T113000
DTSTAMP:20260425T190653
CREATED:20241211T204717Z
LAST-MODIFIED:20241211T204717Z
UID:10000728-1737973800-1737977400@mcmancalgary.ca
SUMMARY:Arts For Miles - 0-6 months - January 27th
DESCRIPTION:Parents\, babies and tots\, come join the FRN for the last week of the month for art week! Based on applying developmental milestones to guide interactive learning/play in an artistic manor. \n  \nJanuary 27th – 10:30AM to 11:30AM \n  \nAll programs are free and snacks are included. \n  \nTo register\, call\, text or email Roshelle: \nroshelle.stooshnov@mcmancalgary.ca \n403-620-0510
URL:https://mcmancalgary.ca/events/arts-for-miles-0-6-months-january-27th/
LOCATION:New Okotoks Office\, 72 N Railway St\, Okotoks\, Alberta\, T1S 1J3\, Canada
CATEGORIES:Okotoks,Okotoks FRN Parent & Child (0-6)
END:VEVENT
BEGIN:VEVENT
DTSTART;TZID=America/Edmonton:20250127T163000
DTEND;TZID=America/Edmonton:20250127T173000
DTSTAMP:20260425T190653
CREATED:20241211T213815Z
LAST-MODIFIED:20241211T213815Z
UID:10000736-1737995400-1737999000@mcmancalgary.ca
SUMMARY:Zones Of Regulation - January 13th\, 20th & 27th
DESCRIPTION:This parent course is designed to support their children in integrating strategies learned in the Child Life Skills Zones of Regulation course. Must attend all 3 sessions. \n  \nJanuary 13th\, 20th & 27th – 4:30PM to 5:30PM \n  \nAll programs are free and snacks are included. \n  \nTo register\, call\, text or email Roshelle: \nroshelle.stooshnov@mcmancalgary.ca \n403-620-0510 \n  \n  \n 
URL:https://mcmancalgary.ca/events/zones-of-regulation-january-13th-20th-27th/2025-01-27/
LOCATION:New Okotoks Office\, 72 N Railway St\, Okotoks\, Alberta\, T1S 1J3\, Canada
CATEGORIES:Okotoks,Okotoks FRN Parent / Caregiver
END:VEVENT
BEGIN:VEVENT
DTSTART;TZID=America/Edmonton:20250127T163000
DTEND;TZID=America/Edmonton:20250127T180000
DTSTAMP:20260425T190653
CREATED:20241217T214014Z
LAST-MODIFIED:20241217T214014Z
UID:10000748-1737995400-1738000800@mcmancalgary.ca
SUMMARY:Zones of Regulation - Ages 7-13
DESCRIPTION:6 sessions total. Come join us to explore strategies to support emotional regulation and learn more about healthy ways to express our feelings. \n(Please note\, it is recommended that for any participant in the Zones of Regulation program\, one of their parents/guardians attends the Zones of Regulation parent education program. This program is run by our Early Childhood Educator\, Roshelle. roshelle.stooshnov@mcmancalgary.ca) \n  \nMondays and Wednesdays \nJanuary 13th\, 15th\, 20th\, 22nd\, 27th & 29th \n4:30PM – 6:00PM \n  \nTo register\, call\, text or email Lacey: \nlacey.gustavsen@mcmancalgary.ca \n403-801-6903
URL:https://mcmancalgary.ca/events/zones-of-regulation-ages-7-13/2025-01-27/
LOCATION:New Okotoks Office\, 72 N Railway St\, Okotoks\, Alberta\, T1S 1J3\, Canada
CATEGORIES:Okotoks,Okotoks FRN Child (7-13)
END:VEVENT
BEGIN:VEVENT
DTSTART;TZID=America/Edmonton:20250127T163000
DTEND;TZID=America/Edmonton:20250127T180000
DTSTAMP:20260425T190653
CREATED:20241217T220114Z
LAST-MODIFIED:20241217T220114Z
UID:10000755-1737995400-1738000800@mcmancalgary.ca
SUMMARY:Skills For Anger - Ages 12-18
DESCRIPTION:Learn how to understand triggers and anger styles while focusing on feelings and connection to anger. Build skills to setting boundaries and learning tools to mange any anger. \n  \nMondays and Wednesdays \nJanuary 13th\, 15th\, 20th\, 22nd\, 27th and 29th \n4:30PM – 6:00PM \n  \nTo register\, call\, text or email Marnie: \n403-508-0436 \nmarnie.johnston@mcmancalgary.ca
URL:https://mcmancalgary.ca/events/skills-for-anger-ages-12-18/2025-01-27/
LOCATION:New Okotoks Office\, 72 N Railway St\, Okotoks\, Alberta\, T1S 1J3\, Canada
CATEGORIES:Okotoks,Okotoks FRN Youth (12-18)
ORGANIZER;CN="Marnie Johnston":MAILTO:marnie.johnston@mcmancalgary.ca
END:VEVENT
BEGIN:VEVENT
DTSTART;TZID=America/Edmonton:20250128T113000
DTEND;TZID=America/Edmonton:20250128T123000
DTSTAMP:20260425T190653
CREATED:20241211T204924Z
LAST-MODIFIED:20241211T204924Z
UID:10000729-1738063800-1738067400@mcmancalgary.ca
SUMMARY:Arts For Miles - 6-12 months - January 28th
DESCRIPTION:Parents\, babies and tots\, come join the FRN for the last week of the month for art week! Based on applying developmental milestones to guide interactive learning/play in an artistic manor. \n  \nJanuary 28th – 11:30AM to 12:30PM \n  \nAll programs are free and snacks are included. \n  \nTo register\, call\, text or email Roshelle: \nroshelle.stooshnov@mcmancalgary.ca \n403-620-0510
URL:https://mcmancalgary.ca/events/arts-for-miles-6-12-months-january-28th/
LOCATION:New Okotoks Office\, 72 N Railway St\, Okotoks\, Alberta\, T1S 1J3\, Canada
CATEGORIES:Okotoks,Okotoks FRN Parent & Child (0-6)
END:VEVENT
BEGIN:VEVENT
DTSTART;TZID=America/Edmonton:20250129T140000
DTEND;TZID=America/Edmonton:20250129T150000
DTSTAMP:20260425T190653
CREATED:20241211T205352Z
LAST-MODIFIED:20241211T205352Z
UID:10000730-1738159200-1738162800@mcmancalgary.ca
SUMMARY:Arts For Miles - 12-22 months - January 29th
DESCRIPTION:Parents\, babies and tots\, come join the FRN for the last week of the month for art week! Based on applying developmental milestones to guide interactive learning/play in an artistic manor. \n  \nJanuary 29th – 11:30AM to 12:30PM \n  \nAll programs are free and snacks are included. \n  \nTo register\, call\, text or email Roshelle: \nroshelle.stooshnov@mcmancalgary.ca \n403-620-0510
URL:https://mcmancalgary.ca/events/arts-for-miles-12-22-months-january-29th/
LOCATION:New Okotoks Office\, 72 N Railway St\, Okotoks\, Alberta\, T1S 1J3\, Canada
CATEGORIES:Okotoks,Okotoks FRN Parent & Child (0-6)
END:VEVENT
BEGIN:VEVENT
DTSTART;TZID=America/Edmonton:20250129T140000
DTEND;TZID=America/Edmonton:20250129T150000
DTSTAMP:20260425T190653
CREATED:20241211T210517Z
LAST-MODIFIED:20241211T210517Z
UID:10000731-1738159200-1738162800@mcmancalgary.ca
SUMMARY:Arts For Miles - 22-33 months - January 29th
DESCRIPTION:Parents\, babies and tots\, come join the FRN for the last week of the month for art week! Based on applying developmental milestones to guide interactive learning/play in an artistic manor. \n  \nJanuary 29th – 2:00PM to 3:00PM \n  \nAll programs are free and snacks are included. \n  \nTo register\, call\, text or email Roshelle: \nroshelle.stooshnov@mcmancalgary.ca \n403-620-0510
URL:https://mcmancalgary.ca/events/arts-for-miles-22-33-months-january-29th/
LOCATION:New Okotoks Office\, 72 N Railway St\, Okotoks\, Alberta\, T1S 1J3\, Canada
CATEGORIES:Okotoks,Okotoks FRN Parent & Child (0-6)
END:VEVENT
BEGIN:VEVENT
DTSTART;TZID=America/Edmonton:20250129T163000
DTEND;TZID=America/Edmonton:20250129T180000
DTSTAMP:20260425T190653
CREATED:20241217T214014Z
LAST-MODIFIED:20241217T214014Z
UID:10000749-1738168200-1738173600@mcmancalgary.ca
SUMMARY:Zones of Regulation - Ages 7-13
DESCRIPTION:6 sessions total. Come join us to explore strategies to support emotional regulation and learn more about healthy ways to express our feelings. \n(Please note\, it is recommended that for any participant in the Zones of Regulation program\, one of their parents/guardians attends the Zones of Regulation parent education program. This program is run by our Early Childhood Educator\, Roshelle. roshelle.stooshnov@mcmancalgary.ca) \n  \nMondays and Wednesdays \nJanuary 13th\, 15th\, 20th\, 22nd\, 27th & 29th \n4:30PM – 6:00PM \n  \nTo register\, call\, text or email Lacey: \nlacey.gustavsen@mcmancalgary.ca \n403-801-6903
URL:https://mcmancalgary.ca/events/zones-of-regulation-ages-7-13/2025-01-29/
LOCATION:New Okotoks Office\, 72 N Railway St\, Okotoks\, Alberta\, T1S 1J3\, Canada
CATEGORIES:Okotoks,Okotoks FRN Child (7-13)
END:VEVENT
BEGIN:VEVENT
DTSTART;TZID=America/Edmonton:20250129T163000
DTEND;TZID=America/Edmonton:20250129T180000
DTSTAMP:20260425T190653
CREATED:20241217T220114Z
LAST-MODIFIED:20241217T220114Z
UID:10000756-1738168200-1738173600@mcmancalgary.ca
SUMMARY:Skills For Anger - Ages 12-18
DESCRIPTION:Learn how to understand triggers and anger styles while focusing on feelings and connection to anger. Build skills to setting boundaries and learning tools to mange any anger. \n  \nMondays and Wednesdays \nJanuary 13th\, 15th\, 20th\, 22nd\, 27th and 29th \n4:30PM – 6:00PM \n  \nTo register\, call\, text or email Marnie: \n403-508-0436 \nmarnie.johnston@mcmancalgary.ca
URL:https://mcmancalgary.ca/events/skills-for-anger-ages-12-18/2025-01-29/
LOCATION:New Okotoks Office\, 72 N Railway St\, Okotoks\, Alberta\, T1S 1J3\, Canada
CATEGORIES:Okotoks,Okotoks FRN Youth (12-18)
ORGANIZER;CN="Marnie Johnston":MAILTO:marnie.johnston@mcmancalgary.ca
END:VEVENT
BEGIN:VEVENT
DTSTART;TZID=America/Edmonton:20250130T100000
DTEND;TZID=America/Edmonton:20250130T110000
DTSTAMP:20260425T190653
CREATED:20241211T213123Z
LAST-MODIFIED:20241211T213123Z
UID:10000732-1738231200-1738234800@mcmancalgary.ca
SUMMARY:Arts For Miles - 33-42 months - January 30th
DESCRIPTION:Parents\, babies and tots\, come join the FRN for the last week of the month for art week! Based on applying developmental milestones to guide interactive learning/play in an artistic manor. \n  \nJanuary 30th – 10:00AM to 11:00AM \n  \nAll programs are free and snacks are included. \n  \nTo register\, call\, text or email Roshelle: \nroshelle.stooshnov@mcmancalgary.ca \n403-620-0510
URL:https://mcmancalgary.ca/events/arts-for-miles-33-42-months-january-30th/
LOCATION:New Okotoks Office\, 72 N Railway St\, Okotoks\, Alberta\, T1S 1J3\, Canada
CATEGORIES:Okotoks,Okotoks FRN Parent & Child (0-6)
END:VEVENT
BEGIN:VEVENT
DTSTART;TZID=America/Edmonton:20250130T133000
DTEND;TZID=America/Edmonton:20250130T143000
DTSTAMP:20260425T190653
CREATED:20241211T213304Z
LAST-MODIFIED:20241211T213304Z
UID:10000733-1738243800-1738247400@mcmancalgary.ca
SUMMARY:Arts For Miles - 42-48 months - January 30th
DESCRIPTION:Parents\, babies and tots\, come join the FRN for the last week of the month for art week! Based on applying developmental milestones to guide interactive learning/play in an artistic manor. \n  \nJanuary 30th – 1:30PM to 2:30PM \n  \nAll programs are free and snacks are included. \n  \nTo register\, call\, text or email Roshelle: \nroshelle.stooshnov@mcmancalgary.ca \n403-620-0510
URL:https://mcmancalgary.ca/events/arts-for-miles-42-48-months-january-30th/
LOCATION:New Okotoks Office\, 72 N Railway St\, Okotoks\, Alberta\, T1S 1J3\, Canada
CATEGORIES:Okotoks,Okotoks FRN Parent & Child (0-6)
END:VEVENT
END:VCALENDAR