BEGIN:VCALENDAR
VERSION:2.0
PRODID:-//McMan Youth, Family and Community Services Association - ECPv6.15.20//NONSGML v1.0//EN
CALSCALE:GREGORIAN
METHOD:PUBLISH
X-WR-CALNAME:McMan Youth, Family and Community Services Association
X-ORIGINAL-URL:https://mcmancalgary.ca
X-WR-CALDESC:Events for McMan Youth, Family and Community Services Association
REFRESH-INTERVAL;VALUE=DURATION:PT1H
X-Robots-Tag:noindex
X-PUBLISHED-TTL:PT1H
BEGIN:VTIMEZONE
TZID:America/Edmonton
BEGIN:DAYLIGHT
TZOFFSETFROM:-0700
TZOFFSETTO:-0600
TZNAME:MDT
DTSTART:20240310T090000
END:DAYLIGHT
BEGIN:STANDARD
TZOFFSETFROM:-0600
TZOFFSETTO:-0700
TZNAME:MST
DTSTART:20241103T080000
END:STANDARD
BEGIN:DAYLIGHT
TZOFFSETFROM:-0700
TZOFFSETTO:-0600
TZNAME:MDT
DTSTART:20250309T090000
END:DAYLIGHT
BEGIN:STANDARD
TZOFFSETFROM:-0600
TZOFFSETTO:-0700
TZNAME:MST
DTSTART:20251102T080000
END:STANDARD
BEGIN:DAYLIGHT
TZOFFSETFROM:-0700
TZOFFSETTO:-0600
TZNAME:MDT
DTSTART:20260308T090000
END:DAYLIGHT
BEGIN:STANDARD
TZOFFSETFROM:-0600
TZOFFSETTO:-0700
TZNAME:MST
DTSTART:20261101T080000
END:STANDARD
END:VTIMEZONE
BEGIN:VEVENT
DTSTART;TZID=America/Edmonton:20250224T103000
DTEND;TZID=America/Edmonton:20250224T113000
DTSTAMP:20260423T132807
CREATED:20250108T200749Z
LAST-MODIFIED:20250204T214503Z
UID:10000769-1740393000-1740396600@mcmancalgary.ca
SUMMARY:Arts for Miles
DESCRIPTION:Parents\, babies and tots\, come join the FRN for the last week of the month for art week! Based on applying developmental milestones to guide interactive learning/play in an artistic manor. \n  \n0-6 months – February 24th – 10:30AM to 11:30AM \n6-12 months – February 25th – 11:30AM to 12:30PM \n12-22 months – February 25th – 2:00PM to 3:00PM \n22-33 months – February 26th – 2:00PM to 3:00PM \n33-42 months – February 27th – 10:30AM to 11:30AM \n42-48 months – February 27th – 1:30PM to 2:30PM \n  \nTo register\, please contact Roshelle: \nroshelle.stooshov@mcmancalgary.ca \n403-620-0510 \n  \nAll programs are free.
URL:https://mcmancalgary.ca/events/arts-for-miles/2025-02-24/
LOCATION:New Okotoks Office\, 72 N Railway St\, Okotoks\, Alberta\, T1S 1J3\, Canada
CATEGORIES:Okotoks,Okotoks FRN Parent & Child (0-6)
END:VEVENT
BEGIN:VEVENT
DTSTART;TZID=America/Edmonton:20250224T163000
DTEND;TZID=America/Edmonton:20250224T180000
DTSTAMP:20260423T132807
CREATED:20250108T214521Z
LAST-MODIFIED:20250108T214521Z
UID:10000792-1740414600-1740420000@mcmancalgary.ca
SUMMARY:Career Track - Ages 14-18
DESCRIPTION:Career track teaches you how to write a resume and cover letter\, while building your interview skills. Learn where to find a job and how to apply! \n  \nFebruary 10th\, 2th\, 17th\, 19th\, 24th and 26th – 4:30PM to 6:00PM \n  \nTo register\, please call\, text or email Marnie: \nmarnie.johnston@mcmancalgary.ca \n403-508-0436 \n  \n 
URL:https://mcmancalgary.ca/events/career-track-ages-14-18/2025-02-24/
LOCATION:New Okotoks Office\, 72 N Railway St\, Okotoks\, Alberta\, T1S 1J3\, Canada
CATEGORIES:Okotoks,Okotoks FRN Youth (12-18)
END:VEVENT
BEGIN:VEVENT
DTSTART;TZID=America/Edmonton:20250225T113000
DTEND;TZID=America/Edmonton:20250225T123000
DTSTAMP:20260423T132807
CREATED:20250108T200749Z
LAST-MODIFIED:20250204T214503Z
UID:10000770-1740483000-1740486600@mcmancalgary.ca
SUMMARY:Arts for Miles
DESCRIPTION:Parents\, babies and tots\, come join the FRN for the last week of the month for art week! Based on applying developmental milestones to guide interactive learning/play in an artistic manor. \n  \n0-6 months – February 24th – 10:30AM to 11:30AM \n6-12 months – February 25th – 11:30AM to 12:30PM \n12-22 months – February 25th – 2:00PM to 3:00PM \n22-33 months – February 26th – 2:00PM to 3:00PM \n33-42 months – February 27th – 10:30AM to 11:30AM \n42-48 months – February 27th – 1:30PM to 2:30PM \n  \nTo register\, please contact Roshelle: \nroshelle.stooshov@mcmancalgary.ca \n403-620-0510 \n  \nAll programs are free.
URL:https://mcmancalgary.ca/events/arts-for-miles/2025-02-25/1/
LOCATION:New Okotoks Office\, 72 N Railway St\, Okotoks\, Alberta\, T1S 1J3\, Canada
CATEGORIES:Okotoks,Okotoks FRN Parent & Child (0-6)
END:VEVENT
BEGIN:VEVENT
DTSTART;TZID=America/Edmonton:20250225T140000
DTEND;TZID=America/Edmonton:20250225T150000
DTSTAMP:20260423T132807
CREATED:20250108T200749Z
LAST-MODIFIED:20250204T214503Z
UID:10000771-1740492000-1740495600@mcmancalgary.ca
SUMMARY:Arts for Miles
DESCRIPTION:Parents\, babies and tots\, come join the FRN for the last week of the month for art week! Based on applying developmental milestones to guide interactive learning/play in an artistic manor. \n  \n0-6 months – February 24th – 10:30AM to 11:30AM \n6-12 months – February 25th – 11:30AM to 12:30PM \n12-22 months – February 25th – 2:00PM to 3:00PM \n22-33 months – February 26th – 2:00PM to 3:00PM \n33-42 months – February 27th – 10:30AM to 11:30AM \n42-48 months – February 27th – 1:30PM to 2:30PM \n  \nTo register\, please contact Roshelle: \nroshelle.stooshov@mcmancalgary.ca \n403-620-0510 \n  \nAll programs are free.
URL:https://mcmancalgary.ca/events/arts-for-miles/2025-02-25/2/
LOCATION:New Okotoks Office\, 72 N Railway St\, Okotoks\, Alberta\, T1S 1J3\, Canada
CATEGORIES:Okotoks,Okotoks FRN Parent & Child (0-6)
END:VEVENT
BEGIN:VEVENT
DTSTART;TZID=America/Edmonton:20250225T163000
DTEND;TZID=America/Edmonton:20250225T180000
DTSTAMP:20260423T132807
CREATED:20250108T205956Z
LAST-MODIFIED:20250108T210057Z
UID:10000784-1740501000-1740506400@mcmancalgary.ca
SUMMARY:Let's Get Cookin' - Ages 12-18 - Zoom
DESCRIPTION:Part 1 –  February 18th – 4:30PM to 6:00PM – Learn basic nutrition\, kitchen safety tips and prepare to cook. \nPart 2 – February 25th – 4:30PM to 6:00PM – Cook a meal. Caregiver must be present in the home. \nGroceries will be provided. \nAll programs are free. \n  \nTo register\, please call\, text or email Marnie: \nmarnie.johnston@mcmancalgary.ca \n403-508-0436 \n  \n 
URL:https://mcmancalgary.ca/events/lets-get-cookin-ages-12-18-zoom-2/2025-02-25/
LOCATION:New Okotoks Office\, 72 N Railway St\, Okotoks\, Alberta\, T1S 1J3\, Canada
CATEGORIES:Okotoks,Okotoks FRN Youth (12-18)
END:VEVENT
BEGIN:VEVENT
DTSTART;TZID=America/Edmonton:20250226T120000
DTEND;TZID=America/Edmonton:20250226T140000
DTSTAMP:20260423T132807
CREATED:20250108T205439Z
LAST-MODIFIED:20250204T214620Z
UID:10000778-1740571200-1740578400@mcmancalgary.ca
SUMMARY:Circle of Security (COS)
DESCRIPTION:Learn how to understand your child’s emotional world by learning to read emotional needs.\nLearn how to support your child’s ability to successfully manage emotions.\nEnhance the development of your child’ self esteem\, while honouring the wisdom and desire for their child to be secure.\n\n  \nProgram is held on Wednesdays: February 5th\, 12th\, 19th and 26th\, March 5th\, 12th\, 19th and 26th \n12:00PM – 2:00PM \nChildcare can be provided. \nAll programs are free.
URL:https://mcmancalgary.ca/events/circle-of-security-cos/2025-02-26/
LOCATION:New Okotoks Office\, 72 N Railway St\, Okotoks\, Alberta\, T1S 1J3\, Canada
CATEGORIES:Okotoks,Okotoks FRN Parent / Caregiver
END:VEVENT
BEGIN:VEVENT
DTSTART;TZID=America/Edmonton:20250226T140000
DTEND;TZID=America/Edmonton:20250226T150000
DTSTAMP:20260423T132807
CREATED:20250108T200749Z
LAST-MODIFIED:20250204T214503Z
UID:10000772-1740578400-1740582000@mcmancalgary.ca
SUMMARY:Arts for Miles
DESCRIPTION:Parents\, babies and tots\, come join the FRN for the last week of the month for art week! Based on applying developmental milestones to guide interactive learning/play in an artistic manor. \n  \n0-6 months – February 24th – 10:30AM to 11:30AM \n6-12 months – February 25th – 11:30AM to 12:30PM \n12-22 months – February 25th – 2:00PM to 3:00PM \n22-33 months – February 26th – 2:00PM to 3:00PM \n33-42 months – February 27th – 10:30AM to 11:30AM \n42-48 months – February 27th – 1:30PM to 2:30PM \n  \nTo register\, please contact Roshelle: \nroshelle.stooshov@mcmancalgary.ca \n403-620-0510 \n  \nAll programs are free.
URL:https://mcmancalgary.ca/events/arts-for-miles/2025-02-26/
LOCATION:New Okotoks Office\, 72 N Railway St\, Okotoks\, Alberta\, T1S 1J3\, Canada
CATEGORIES:Okotoks,Okotoks FRN Parent & Child (0-6)
END:VEVENT
BEGIN:VEVENT
DTSTART;TZID=America/Edmonton:20250226T163000
DTEND;TZID=America/Edmonton:20250226T180000
DTSTAMP:20260423T132807
CREATED:20250108T214521Z
LAST-MODIFIED:20250108T214521Z
UID:10000793-1740587400-1740592800@mcmancalgary.ca
SUMMARY:Career Track - Ages 14-18
DESCRIPTION:Career track teaches you how to write a resume and cover letter\, while building your interview skills. Learn where to find a job and how to apply! \n  \nFebruary 10th\, 2th\, 17th\, 19th\, 24th and 26th – 4:30PM to 6:00PM \n  \nTo register\, please call\, text or email Marnie: \nmarnie.johnston@mcmancalgary.ca \n403-508-0436 \n  \n 
URL:https://mcmancalgary.ca/events/career-track-ages-14-18/2025-02-26/
LOCATION:New Okotoks Office\, 72 N Railway St\, Okotoks\, Alberta\, T1S 1J3\, Canada
CATEGORIES:Okotoks,Okotoks FRN Youth (12-18)
END:VEVENT
BEGIN:VEVENT
DTSTART;TZID=America/Edmonton:20250227T103000
DTEND;TZID=America/Edmonton:20250227T113000
DTSTAMP:20260423T132807
CREATED:20250108T200749Z
LAST-MODIFIED:20250204T214503Z
UID:10000773-1740652200-1740655800@mcmancalgary.ca
SUMMARY:Arts for Miles
DESCRIPTION:Parents\, babies and tots\, come join the FRN for the last week of the month for art week! Based on applying developmental milestones to guide interactive learning/play in an artistic manor. \n  \n0-6 months – February 24th – 10:30AM to 11:30AM \n6-12 months – February 25th – 11:30AM to 12:30PM \n12-22 months – February 25th – 2:00PM to 3:00PM \n22-33 months – February 26th – 2:00PM to 3:00PM \n33-42 months – February 27th – 10:30AM to 11:30AM \n42-48 months – February 27th – 1:30PM to 2:30PM \n  \nTo register\, please contact Roshelle: \nroshelle.stooshov@mcmancalgary.ca \n403-620-0510 \n  \nAll programs are free.
URL:https://mcmancalgary.ca/events/arts-for-miles/2025-02-27/1/
LOCATION:New Okotoks Office\, 72 N Railway St\, Okotoks\, Alberta\, T1S 1J3\, Canada
CATEGORIES:Okotoks,Okotoks FRN Parent & Child (0-6)
END:VEVENT
BEGIN:VEVENT
DTSTART;TZID=America/Edmonton:20250227T133000
DTEND;TZID=America/Edmonton:20250227T143000
DTSTAMP:20260423T132807
CREATED:20250108T200749Z
LAST-MODIFIED:20250204T214503Z
UID:10000774-1740663000-1740666600@mcmancalgary.ca
SUMMARY:Arts for Miles
DESCRIPTION:Parents\, babies and tots\, come join the FRN for the last week of the month for art week! Based on applying developmental milestones to guide interactive learning/play in an artistic manor. \n  \n0-6 months – February 24th – 10:30AM to 11:30AM \n6-12 months – February 25th – 11:30AM to 12:30PM \n12-22 months – February 25th – 2:00PM to 3:00PM \n22-33 months – February 26th – 2:00PM to 3:00PM \n33-42 months – February 27th – 10:30AM to 11:30AM \n42-48 months – February 27th – 1:30PM to 2:30PM \n  \nTo register\, please contact Roshelle: \nroshelle.stooshov@mcmancalgary.ca \n403-620-0510 \n  \nAll programs are free.
URL:https://mcmancalgary.ca/events/arts-for-miles/2025-02-27/2/
LOCATION:New Okotoks Office\, 72 N Railway St\, Okotoks\, Alberta\, T1S 1J3\, Canada
CATEGORIES:Okotoks,Okotoks FRN Parent & Child (0-6)
END:VEVENT
END:VCALENDAR