BEGIN:VCALENDAR
VERSION:2.0
PRODID:-//McMan Youth, Family and Community Services Association - ECPv6.15.20//NONSGML v1.0//EN
CALSCALE:GREGORIAN
METHOD:PUBLISH
X-ORIGINAL-URL:https://mcmancalgary.ca
X-WR-CALDESC:Events for McMan Youth, Family and Community Services Association
REFRESH-INTERVAL;VALUE=DURATION:PT1H
X-Robots-Tag:noindex
X-PUBLISHED-TTL:PT1H
BEGIN:VTIMEZONE
TZID:America/Edmonton
BEGIN:DAYLIGHT
TZOFFSETFROM:-0700
TZOFFSETTO:-0600
TZNAME:MDT
DTSTART:20240310T090000
END:DAYLIGHT
BEGIN:STANDARD
TZOFFSETFROM:-0600
TZOFFSETTO:-0700
TZNAME:MST
DTSTART:20241103T080000
END:STANDARD
BEGIN:DAYLIGHT
TZOFFSETFROM:-0700
TZOFFSETTO:-0600
TZNAME:MDT
DTSTART:20250309T090000
END:DAYLIGHT
BEGIN:STANDARD
TZOFFSETFROM:-0600
TZOFFSETTO:-0700
TZNAME:MST
DTSTART:20251102T080000
END:STANDARD
BEGIN:DAYLIGHT
TZOFFSETFROM:-0700
TZOFFSETTO:-0600
TZNAME:MDT
DTSTART:20260308T090000
END:DAYLIGHT
BEGIN:STANDARD
TZOFFSETFROM:-0600
TZOFFSETTO:-0700
TZNAME:MST
DTSTART:20261101T080000
END:STANDARD
END:VTIMEZONE
BEGIN:VEVENT
DTSTART;TZID=America/Edmonton:20250428T103000
DTEND;TZID=America/Edmonton:20250428T113000
DTSTAMP:20260423T104539
CREATED:20250219T200533Z
LAST-MODIFIED:20250219T200533Z
UID:10000865-1745836200-1745839800@mcmancalgary.ca
SUMMARY:Arts For Miles - 0-6 months
DESCRIPTION:Parents\, babies and tots\, come join the FRN for the last week of the month for art week! Based on applying developmental milestones to guide interactive learning/play in an artistic manor. \n  \nApril 28th – 10:30AM to 11:30AM \n  \nTo register\, call\, text or email Roshelle: \nroshelle.stooshnov@mcmancalgary.ca \n403-620-0510
URL:https://mcmancalgary.ca/events/arts-for-miles-0-6-months/
LOCATION:Alberta
CATEGORIES:Okotoks,Okotoks FRN Parent & Child (0-6)
END:VEVENT
BEGIN:VEVENT
DTSTART;TZID=America/Edmonton:20250429T113000
DTEND;TZID=America/Edmonton:20250429T123000
DTSTAMP:20260423T104540
CREATED:20250219T200955Z
LAST-MODIFIED:20250219T200955Z
UID:10000866-1745926200-1745929800@mcmancalgary.ca
SUMMARY:Arts For Miles - 6 to 12 months
DESCRIPTION:Parents\, babies and tots\, come join the FRN for the last week of the month for art week! Based on applying developmental milestones to guide interactive learning/play in an artistic manor. \n  \nApril 29th – 11:30AM to 12:30PM \n  \nTo register\, call\, text or email Roshelle; \nroshelle.stooshnov@mcmancalgary.ca \n403-620-0510
URL:https://mcmancalgary.ca/events/arts-for-miles-6-to-12-months/
LOCATION:New Okotoks Office\, 72 N Railway St\, Okotoks\, Alberta\, T1S 1J3\, Canada
CATEGORIES:Okotoks,Okotoks FRN Parent & Child (0-6)
END:VEVENT
BEGIN:VEVENT
DTSTART;TZID=America/Edmonton:20250429T140000
DTEND;TZID=America/Edmonton:20250429T150000
DTSTAMP:20260423T104540
CREATED:20250219T201227Z
LAST-MODIFIED:20250219T201227Z
UID:10000867-1745935200-1745938800@mcmancalgary.ca
SUMMARY:Arts For Miles - 12-22 months old
DESCRIPTION:Parents\, babies and tots\, come join the FRN for the last week of the month for art week! Based on applying developmental milestones to guide interactive learning/play in an artistic manor. \n  \nApril 29th – 11:30AM to 12:30PM \n  \nTo register\, call\, text or email Roshelle; \nroshelle.stooshnov@mcmancalgary.ca \n403-620-0510
URL:https://mcmancalgary.ca/events/arts-for-miles-12-22-months-old/
LOCATION:New Okotoks Office\, 72 N Railway St\, Okotoks\, Alberta\, T1S 1J3\, Canada
CATEGORIES:Okotoks,Okotoks FRN Parent & Child (0-6)
END:VEVENT
BEGIN:VEVENT
DTSTART;TZID=America/Edmonton:20250429T163000
DTEND;TZID=America/Edmonton:20250429T180000
DTSTAMP:20260423T104540
CREATED:20250219T212343Z
LAST-MODIFIED:20250219T212343Z
UID:10000895-1745944200-1745949600@mcmancalgary.ca
SUMMARY:Let's Get Cookin'! - Ages 12-18 (Zoom)
DESCRIPTION:Part 1 – Basic nutrition\, kitchen safety tips and prepare to cook. \nPart 2 – Cook a meal – parent must be present in the home for part 2 of the cooking group. Groceries will be provided. \n  \nApril 22nd & 29th \n4:30PM to 6:00PM \n  \nTo register\, call\, text or email Marnie; \nmarnie.johnston@mcmancalgary.ca \n403-508-0436
URL:https://mcmancalgary.ca/events/lets-get-cookin-ages-12-18-zoom-3/2025-04-29/
LOCATION:New Okotoks Office\, 72 N Railway St\, Okotoks\, Alberta\, T1S 1J3\, Canada
CATEGORIES:Okotoks,Okotoks FRN Youth (12-18)
END:VEVENT
BEGIN:VEVENT
DTSTART;TZID=America/Edmonton:20250430T103000
DTEND;TZID=America/Edmonton:20250430T113000
DTSTAMP:20260423T104540
CREATED:20250219T201732Z
LAST-MODIFIED:20250219T201732Z
UID:10000868-1746009000-1746012600@mcmancalgary.ca
SUMMARY:Arts For Miles - 22-33 months old
DESCRIPTION:Parents\, babies and tots\, come join the FRN for the last week of the month for art week! Based on applying developmental milestones to guide interactive learning/play in an artistic manor. \n  \nApril 30th – 10:30AM to 11:30AM \n  \nTo register\, call\, text or email Roshelle; \nroshelle.stooshnov@mcmancalgary.ca \n403-620-0510
URL:https://mcmancalgary.ca/events/arts-for-miles-22-33-months-old/
LOCATION:New Okotoks Office\, 72 N Railway St\, Okotoks\, Alberta\, T1S 1J3\, Canada
CATEGORIES:Okotoks,Okotoks FRN Parent & Child (0-6)
END:VEVENT
BEGIN:VEVENT
DTSTART;TZID=America/Edmonton:20250430T130000
DTEND;TZID=America/Edmonton:20250430T150000
DTSTAMP:20260423T104540
CREATED:20250219T203228Z
LAST-MODIFIED:20250219T203228Z
UID:10000875-1746018000-1746025200@mcmancalgary.ca
SUMMARY:Circle of Security
DESCRIPTION:Learn how to understand your child’s emotional world by learning to read emotional needs.\nLearn how to support your child’s ability to successfully manage emotions.\nEnhance the development of your child’s self esteem\, while honouring the wisdom and desire for their child to be secure.\n\n  \nWednesdays April 2nd\, 9th\, 16th\, 23rd & 30th – 1:00PM to 3:00PM \nChildcare can be provided. \n  \nTo register\, call\, text or email Roshelle; \nroshelle.stooshnov@mcmancalgary.ca \n403-620-0510
URL:https://mcmancalgary.ca/events/circle-of-security/2025-04-30/
LOCATION:New Okotoks Office\, 72 N Railway St\, Okotoks\, Alberta\, T1S 1J3\, Canada
CATEGORIES:Okotoks,Okotoks FRN Parent / Caregiver
END:VEVENT
BEGIN:VEVENT
DTSTART;TZID=America/Edmonton:20250501T103000
DTEND;TZID=America/Edmonton:20250501T113000
DTSTAMP:20260423T104540
CREATED:20250219T202213Z
LAST-MODIFIED:20250219T202213Z
UID:10000869-1746095400-1746099000@mcmancalgary.ca
SUMMARY:Arts For Miles - 33-42 months old
DESCRIPTION:Parents\, babies and tots\, come join the FRN for the last week of the month for art week! Based on applying developmental milestones to guide interactive learning/play in an artistic manor. \n  \nMay 1st – 10:30AM to 11:30AM \n  \nTo register\, call\, text or email Roshelle: \nroshelle.stooshnov@mcmancalgary.ca \n403-620-0510
URL:https://mcmancalgary.ca/events/arts-for-miles-33-42-months-old/
LOCATION:New Okotoks Office\, 72 N Railway St\, Okotoks\, Alberta\, T1S 1J3\, Canada
CATEGORIES:Okotoks,Okotoks FRN Parent & Child (0-6)
END:VEVENT
BEGIN:VEVENT
DTSTART;TZID=America/Edmonton:20250501T133000
DTEND;TZID=America/Edmonton:20250501T143000
DTSTAMP:20260423T104540
CREATED:20250219T202618Z
LAST-MODIFIED:20250219T202618Z
UID:10000870-1746106200-1746109800@mcmancalgary.ca
SUMMARY:Arts For Miles - 42-48 months old
DESCRIPTION:Parents\, babies and tots\, come join the FRN for the last week of the month for art week! Based on applying developmental milestones to guide interactive learning/play in an artistic manor. \n  \nMay 1st – 1:30PM to 2:30PM \n  \nTo register\, call\, text or email Roshelle; \nroshelle.stooshnov@mcmancalgary.ca \n403-620-0510
URL:https://mcmancalgary.ca/events/arts-for-miles-42-48-months-old/
LOCATION:New Okotoks Office\, 72 N Railway St\, Okotoks\, Alberta\, T1S 1J3\, Canada
CATEGORIES:Okotoks,Okotoks FRN Parent & Child (0-6)
END:VEVENT
END:VCALENDAR