BEGIN:VCALENDAR
VERSION:2.0
PRODID:-//McMan Youth, Family and Community Services Association - ECPv6.15.20//NONSGML v1.0//EN
CALSCALE:GREGORIAN
METHOD:PUBLISH
X-WR-CALNAME:McMan Youth, Family and Community Services Association
X-ORIGINAL-URL:https://mcmancalgary.ca
X-WR-CALDESC:Events for McMan Youth, Family and Community Services Association
REFRESH-INTERVAL;VALUE=DURATION:PT1H
X-Robots-Tag:noindex
X-PUBLISHED-TTL:PT1H
BEGIN:VTIMEZONE
TZID:America/Edmonton
BEGIN:DAYLIGHT
TZOFFSETFROM:-0700
TZOFFSETTO:-0600
TZNAME:MDT
DTSTART:20230312T090000
END:DAYLIGHT
BEGIN:STANDARD
TZOFFSETFROM:-0600
TZOFFSETTO:-0700
TZNAME:MST
DTSTART:20231105T080000
END:STANDARD
BEGIN:DAYLIGHT
TZOFFSETFROM:-0700
TZOFFSETTO:-0600
TZNAME:MDT
DTSTART:20240310T090000
END:DAYLIGHT
BEGIN:STANDARD
TZOFFSETFROM:-0600
TZOFFSETTO:-0700
TZNAME:MST
DTSTART:20241103T080000
END:STANDARD
BEGIN:DAYLIGHT
TZOFFSETFROM:-0700
TZOFFSETTO:-0600
TZNAME:MDT
DTSTART:20250309T090000
END:DAYLIGHT
BEGIN:STANDARD
TZOFFSETFROM:-0600
TZOFFSETTO:-0700
TZNAME:MST
DTSTART:20251102T080000
END:STANDARD
END:VTIMEZONE
BEGIN:VEVENT
DTSTART;TZID=America/Edmonton:20240408T163000
DTEND;TZID=America/Edmonton:20240408T180000
DTSTAMP:20260422T165043
CREATED:20240326T195117Z
LAST-MODIFIED:20240326T200438Z
UID:10000376-1712593800-1712599200@mcmancalgary.ca
SUMMARY:ZONES of REGULATION (Ages 10-13) - April 8th\, 10th\, 15th\, 17th\, 22nd & 24th 2024
DESCRIPTION:Zones of Regulation is a 6-session program. Come join us to learn how to manage emotions and build skills to express feelings in a healthy way! \n\nApril 8th\, 10th\, 15th\, 17th\, 18th\, 22nd & 24th 2024 4:30-6:00PM\n\nSnacks are provided for each group. \nContact Lacey Gustavsen at lacey.gustavsen@mcmancalgary.ca or (403)801-6903 to register.
URL:https://mcmancalgary.ca/events/zones-of-regulation-ages-10-13-april-8th-10th-15th-17th-22nd-24th-2024/2024-04-08/
LOCATION:New Okotoks Office\, 72 N Railway St\, Okotoks\, Alberta\, T1S 1J3\, Canada
CATEGORIES:Okotoks,Okotoks FRN Child (7-13)
ORGANIZER;CN="Lacey Gustavsen":MAILTO:lacey.gustavsen@mcmancalgary.ca
END:VEVENT
BEGIN:VEVENT
DTSTART;TZID=America/Edmonton:20240409T180000
DTEND;TZID=America/Edmonton:20240409T193000
DTSTAMP:20260422T165043
CREATED:20240404T164714Z
LAST-MODIFIED:20240404T164714Z
UID:10000435-1712685600-1712691000@mcmancalgary.ca
SUMMARY:Triple P Parenting - April 2nd\, 9th\, 16th\, 23rd\, 30th\, May 7th\, 14th & 21st
DESCRIPTION:Triple P Parenting is an 8 week workshop is an opportunity to join other parents to develop simple and practical strategies you can adapt to suit your family’s values\, beliefs and needs. Must attend all sessions. \nTuesdays April 2nd\, 9th\, 16th\, 23rd\, 30th\, May 7th\, 14th and 21st\, 6:00PM – 7:30PM \n 
URL:https://mcmancalgary.ca/events/triple-p-parenting-april-2nd-9th-16th-23rd-30th-may-7th-14th-21st/2024-04-09/
LOCATION:New Okotoks Office\, 72 N Railway St\, Okotoks\, Alberta\, T1S 1J3\, Canada
CATEGORIES:Okotoks,Okotoks FRN Parent / Caregiver
END:VEVENT
BEGIN:VEVENT
DTSTART;TZID=America/Edmonton:20240410T123000
DTEND;TZID=America/Edmonton:20240410T150000
DTSTAMP:20260422T165043
CREATED:20240404T192427Z
LAST-MODIFIED:20240404T192427Z
UID:10000451-1712752200-1712761200@mcmancalgary.ca
SUMMARY:P.I.C.K. Me Up - April 3rd\, 10th\, 17th\, 24th\, May 1st\, 8th\, 15th & 22nd
DESCRIPTION:P.I.C.K. Me Up is a self reflective journey into rediscovering yourself. You will learn practical techniques and tools to assist you in getting more of what you want\, handle stress and build foundations to lifelong relationships. Must attend all sessions. \nWednesdays April 3rd\, 10th\, 17th\, 24th\, May 1st\, 8th\, 15th & 22nd\, 12:30pm-3:00pm. \n 
URL:https://mcmancalgary.ca/events/p-i-c-k-me-up-april-3rd-10th-17th-24th-may-1st-8th-15th-22nd/2024-04-10/
LOCATION:New Okotoks Office\, 72 N Railway St\, Okotoks\, Alberta\, T1S 1J3\, Canada
CATEGORIES:Okotoks,Okotoks FRN Parent & Child (0-6)
END:VEVENT
BEGIN:VEVENT
DTSTART;TZID=America/Edmonton:20240410T163000
DTEND;TZID=America/Edmonton:20240410T180000
DTSTAMP:20260422T165043
CREATED:20240326T195117Z
LAST-MODIFIED:20240326T200438Z
UID:10000377-1712766600-1712772000@mcmancalgary.ca
SUMMARY:ZONES of REGULATION (Ages 10-13) - April 8th\, 10th\, 15th\, 17th\, 22nd & 24th 2024
DESCRIPTION:Zones of Regulation is a 6-session program. Come join us to learn how to manage emotions and build skills to express feelings in a healthy way! \n\nApril 8th\, 10th\, 15th\, 17th\, 18th\, 22nd & 24th 2024 4:30-6:00PM\n\nSnacks are provided for each group. \nContact Lacey Gustavsen at lacey.gustavsen@mcmancalgary.ca or (403)801-6903 to register.
URL:https://mcmancalgary.ca/events/zones-of-regulation-ages-10-13-april-8th-10th-15th-17th-22nd-24th-2024/2024-04-10/
LOCATION:New Okotoks Office\, 72 N Railway St\, Okotoks\, Alberta\, T1S 1J3\, Canada
CATEGORIES:Okotoks,Okotoks FRN Child (7-13)
ORGANIZER;CN="Lacey Gustavsen":MAILTO:lacey.gustavsen@mcmancalgary.ca
END:VEVENT
BEGIN:VEVENT
DTSTART;TZID=America/Edmonton:20240412T093000
DTEND;TZID=America/Edmonton:20240412T110000
DTSTAMP:20260422T165043
CREATED:20240404T193156Z
LAST-MODIFIED:20240404T193156Z
UID:10000460-1712914200-1712919600@mcmancalgary.ca
SUMMARY:Circle of Security - April 5th\, 12th\, 19th\, 26th\, May 3rd\, 10th\, 17th & 24th
DESCRIPTION:Join other parents for this 8 week workshop and learn to enhance your relationships by recognizing your child’s nedds and mae sense of their behaviours. Must attend all sessions. \nFridays April 5th\, 12th\, 19th\, 26th\, May 3rd\, 10th\, 17th & 24th\, 9:30am – 11am. \n 
URL:https://mcmancalgary.ca/events/circle-of-security-april-5th-12th-19th-26th-may-3rd-10th-17th-24th/2024-04-12/
LOCATION:New Okotoks Office\, 72 N Railway St\, Okotoks\, Alberta\, T1S 1J3\, Canada
CATEGORIES:Okotoks,Okotoks FRN Parent / Caregiver
END:VEVENT
END:VCALENDAR